Workbook

Sheet شركات الصرافة
A1: اسم الشركة | B1: اسم الشركة بالانكليزي | C1: عدد الفروع | D1: الفئة | E1: الهاتف | F1: البريد الالكتروني | G1: مفتاح_مطابقة | H1: عرض تفاصيل الفروع
A2: الفنجان للصرافة | B2: Al Finjan | C2: =COUNTIF('فروع وعناوين الشركات'!$G$2:$G$1113,G2) -> 26 | D2: A | E2: 07809000072 / 07809000076 / 07722201777 | F2: info@alfenjan-ex.com.iq | G2: =TRIM(SUBSTITUTE(SUBSTITUTE(SUBSTITUTE(SUBSTITUTE(SUBSTITUTE(A2,"أ","ا"),"إ","ا"),"آ","ا"),"ة","ه"),"ى","ي")) -> الفنجان للصرافه | H2: =HYPERLINK("#'تفاصيل الشركات'!A1","عرض التفاصيل ←") -> عرض التفاصيل ←
A3: الطيف للصرافة | B3: Al Tayf | C3: =COUNTIF('فروع وعناوين الشركات'!$G$2:$G$1113,G3) -> 14 | D3: A | E3: 07729169635 / 07840500110 / 07840500115 | F3: taifexchange@taifex.iq | G3: =TRIM(SUBSTITUTE(SUBSTITUTE(SUBSTITUTE(SUBSTITUTE(SUBSTITUTE(A3,"أ","ا"),"إ","ا"),"آ","ا"),"ة","ه"),"ى","ي")) -> الطيف للصرافه | H3: =HYPERLINK("#'تفاصيل الشركات'!A32","عرض التفاصيل ←") -> عرض التفاصيل ←
A4: الريان للصرافة | B4: Al Rayyan | C4: =COUNTIF('فروع وعناوين الشركات'!$G$2:$G$1113,G4) -> 21 | D4: A | E4: 07817615293 / 07819454142 / 07716184768 | F4: alreyyanexchange@yahoo.com | G4: =TRIM(SUBSTITUTE(SUBSTITUTE(SUBSTITUTE(SUBSTITUTE(SUBSTITUTE(A4,"أ","ا"),"إ","ا"),"آ","ا"),"ة","ه"),"ى","ي")) -> الريان للصرافه | H4: =HYPERLINK("#'تفاصيل الشركات'!A51","عرض التفاصيل ←") -> عرض التفاصيل ←
A5: سما بغداد للصرافة | B5: Sama Baghdad | C5: =COUNTIF('فروع وعناوين الشركات'!$G$2:$G$1113,G5) -> 19 | D5: A | E5: 07730503046 / 07801888300 | F5: info@samabaghdad-ex.iq | G5: =TRIM(SUBSTITUTE(SUBSTITUTE(SUBSTITUTE(SUBSTITUTE(SUBSTITUTE(A5,"أ","ا"),"إ","ا"),"آ","ا"),"ة","ه"),"ى","ي")) -> سما بغداد للصرافه | H5: =HYPERLINK("#'تفاصيل الشركات'!A77","عرض التفاصيل ←") -> عرض التفاصيل ←
A6: الميار للصرافة | B6: Al Mayar | C6: =COUNTIF('فروع وعناوين الشركات'!$G$2:$G$1113,G6) -> 14 | D6: A | E6: 7722442222 | F6: info@almayarex.iq | G6: =TRIM(SUBSTITUTE(SUBSTITUTE(SUBSTITUTE(SUBSTITUTE(SUBSTITUTE(A6,"أ","ا"),"إ","ا"),"آ","ا"),"ة","ه"),"ى","ي")) -> الميار للصرافه | H6: =HYPERLINK("#'تفاصيل الشركات'!A101","عرض التفاصيل ←") -> عرض التفاصيل ←
A7: السدير للصرافة | B7: Al Sudayr | C7: =COUNTIF('فروع وعناوين الشركات'!$G$2:$G$1113,G7) -> 12 | D7: A | E7: 7740051672 | F7: alsadeer.co.exchange2020@gmail.com | G7: =TRIM(SUBSTITUTE(SUBSTITUTE(SUBSTITUTE(SUBSTITUTE(SUBSTITUTE(A7,"أ","ا"),"إ","ا"),"آ","ا"),"ة","ه"),"ى","ي")) -> السدير للصرافه | H7: =HYPERLINK("#'تفاصيل الشركات'!A120","عرض التفاصيل ←") -> عرض التفاصيل ←
A8: الضامن للصرافة | B8: Al Damin | C8: =COUNTIF('فروع وعناوين الشركات'!$G$2:$G$1113,G8) -> 11 | D8: A | E8: 07710548359 / 07734343039 / 07881141479 / 07734343038 / 07881141478 | F8: companyaldamen@gmail.com | G8: =TRIM(SUBSTITUTE(SUBSTITUTE(SUBSTITUTE(SUBSTITUTE(SUBSTITUTE(A8,"أ","ا"),"إ","ا"),"آ","ا"),"ة","ه"),"ى","ي")) -> الضامن للصرافه | H8: =HYPERLINK("#'تفاصيل الشركات'!A137","عرض التفاصيل ←") -> عرض التفاصيل ←
A9: الشرع للصرافة | B9: Al Shara | C9: =COUNTIF('فروع وعناوين الشركات'!$G$2:$G$1113,G9) -> 11 | D9: A | E9: 07732544531 / 07712320320 | F9: alsharacompny94@gmail.com | G9: =TRIM(SUBSTITUTE(SUBSTITUTE(SUBSTITUTE(SUBSTITUTE(SUBSTITUTE(A9,"أ","ا"),"إ","ا"),"آ","ا"),"ة","ه"),"ى","ي")) -> الشرع للصرافه | H9: =HYPERLINK("#'تفاصيل الشركات'!A153","عرض التفاصيل ←") -> عرض التفاصيل ←
A10: الهلمان للصرافة | B10: Al Hilman | C10: =COUNTIF('فروع وعناوين الشركات'!$G$2:$G$1113,G10) -> 10 | D10: A | E10: 07725487320 / 07811111812 / 07711111812 | F10: alhilman71@gmail.com | G10: =TRIM(SUBSTITUTE(SUBSTITUTE(SUBSTITUTE(SUBSTITUTE(SUBSTITUTE(A10,"أ","ا"),"إ","ا"),"آ","ا"),"ة","ه"),"ى","ي")) -> الهلمان للصرافه | H10: =HYPERLINK("#'تفاصيل الشركات'!A169","عرض التفاصيل ←") -> عرض التفاصيل ←
A11: المنافذ للصرافة | B11: Al Manafith | C11: =COUNTIF('فروع وعناوين الشركات'!$G$2:$G$1113,G11) -> 10 | D11: A | E11: 07803197604 / 07901907496 / 07807421047 | F11: info@almanafithco.iq | G11: =TRIM(SUBSTITUTE(SUBSTITUTE(SUBSTITUTE(SUBSTITUTE(SUBSTITUTE(A11,"أ","ا"),"إ","ا"),"آ","ا"),"ة","ه"),"ى","ي")) -> المنافذ للصرافه | H11: =HYPERLINK("#'تفاصيل الشركات'!A184","عرض التفاصيل ←") -> عرض التفاصيل ←
A12: القند للصرافة | B12: Al Qand | C12: =COUNTIF('فروع وعناوين الشركات'!$G$2:$G$1113,G12) -> 10 | D12: A | E12: 07735557704 / 07814500700 / 07714500700 | F12: info@alqand.iq | G12: =TRIM(SUBSTITUTE(SUBSTITUTE(SUBSTITUTE(SUBSTITUTE(SUBSTITUTE(A12,"أ","ا"),"إ","ا"),"آ","ا"),"ة","ه"),"ى","ي")) -> القند للصرافه | H12: =HYPERLINK("#'تفاصيل الشركات'!A199","عرض التفاصيل ←") -> عرض التفاصيل ←
A13: الرياض للصرافة | B13: Al Riyadh | C13: =COUNTIF('فروع وعناوين الشركات'!$G$2:$G$1113,G13) -> 6 | D13: A | E13: 7834519994 | F13: alryads546@gmail.com | G13: =TRIM(SUBSTITUTE(SUBSTITUTE(SUBSTITUTE(SUBSTITUTE(SUBSTITUTE(A13,"أ","ا"),"إ","ا"),"آ","ا"),"ة","ه"),"ى","ي")) -> الرياض للصرافه | H13: =HYPERLINK("#'تفاصيل الشركات'!A214","عرض التفاصيل ←") -> عرض التفاصيل ←
A14: نسيم كربلاء للصرافة | B14: Naseem Karbala | C14: =COUNTIF('فروع وعناوين الشركات'!$G$2:$G$1113,G14) -> 10 | D14: A | E14: 7733007330 / 7725633988 | F14: naseemkarbala8@gmail.com | G14: =TRIM(SUBSTITUTE(SUBSTITUTE(SUBSTITUTE(SUBSTITUTE(SUBSTITUTE(A14,"أ","ا"),"إ","ا"),"آ","ا"),"ة","ه"),"ى","ي")) -> نسيم كربلاء للصرافه | H14: =HYPERLINK("#'تفاصيل الشركات'!A225","عرض التفاصيل ←") -> عرض التفاصيل ←
A15: الطف للصرافة | B15: Al Taff | C15: =COUNTIF('فروع وعناوين الشركات'!$G$2:$G$1113,G15) -> 7 | D15: A | E15: 07711242499 / 07837007076 / 07766660911 | F15: info@al-tafexch.com.iq | G15: =TRIM(SUBSTITUTE(SUBSTITUTE(SUBSTITUTE(SUBSTITUTE(SUBSTITUTE(A15,"أ","ا"),"إ","ا"),"آ","ا"),"ة","ه"),"ى","ي")) -> الطف للصرافه | H15: =HYPERLINK("#'تفاصيل الشركات'!A240","عرض التفاصيل ←") -> عرض التفاصيل ←
A16: الجمل للصرافة | B16: Al Jamal | C16: =COUNTIF('فروع وعناوين الشركات'!$G$2:$G$1113,G16) -> 10 | D16: A | E16: 7700727770 | F16: aljamal.co156@gmail.com | G16: =TRIM(SUBSTITUTE(SUBSTITUTE(SUBSTITUTE(SUBSTITUTE(SUBSTITUTE(A16,"أ","ا"),"إ","ا"),"آ","ا"),"ة","ه"),"ى","ي")) -> الجمل للصرافه | H16: =HYPERLINK("#'تفاصيل الشركات'!A252","عرض التفاصيل ←") -> عرض التفاصيل ←
A17: الرضاء للصرافة | B17: Al Ridaa | C17: =COUNTIF('فروع وعناوين الشركات'!$G$2:$G$1113,G17) -> 8 | D17: A | E17: 07807630330 / 07707146501 | F17: Info@ridaa.com.iq | G17: =TRIM(SUBSTITUTE(SUBSTITUTE(SUBSTITUTE(SUBSTITUTE(SUBSTITUTE(A17,"أ","ا"),"إ","ا"),"آ","ا"),"ة","ه"),"ى","ي")) -> الرضاء للصرافه | H17: =HYPERLINK("#'تفاصيل الشركات'!A267","عرض التفاصيل ←") -> عرض التفاصيل ←
A18: الاحرار العربية للصرافة | B18: Al Ahrar Al Arabiya | C18: =COUNTIF('فروع وعناوين الشركات'!$G$2:$G$1113,G18) -> 10 | D18: A | E18: 07806466860 / 07730233330 | F18: co.alahrarex@gmail.com | G18: =TRIM(SUBSTITUTE(SUBSTITUTE(SUBSTITUTE(SUBSTITUTE(SUBSTITUTE(A18,"أ","ا"),"إ","ا"),"آ","ا"),"ة","ه"),"ى","ي")) -> الاحرار العربيه للصرافه | H18: =HYPERLINK("#'تفاصيل الشركات'!A280","عرض التفاصيل ←") -> عرض التفاصيل ←
A19: النجوم للصرافة | B19: Al Nujoom | C19: =COUNTIF('فروع وعناوين الشركات'!$G$2:$G$1113,G19) -> 10 | D19: A | E19: 07730080058 / 07712338133 | F19: info@alnjoom.com.iq | G19: =TRIM(SUBSTITUTE(SUBSTITUTE(SUBSTITUTE(SUBSTITUTE(SUBSTITUTE(A19,"أ","ا"),"إ","ا"),"آ","ا"),"ة","ه"),"ى","ي")) -> النجوم للصرافه | H19: =HYPERLINK("#'تفاصيل الشركات'!A295","عرض التفاصيل ←") -> عرض التفاصيل ←
A20: المرج للصرافة | B20: Al Maraj | C20: =COUNTIF('فروع وعناوين الشركات'!$G$2:$G$1113,G20) -> 11 | D20: A | E20: 07700509113 / 07722663339 | F20: info@almaraj.iq | G20: =TRIM(SUBSTITUTE(SUBSTITUTE(SUBSTITUTE(SUBSTITUTE(SUBSTITUTE(A20,"أ","ا"),"إ","ا"),"آ","ا"),"ة","ه"),"ى","ي")) -> المرج للصرافه | H20: =HYPERLINK("#'تفاصيل الشركات'!A310","عرض التفاصيل ←") -> عرض التفاصيل ←
A21: الصوى للصرافة | B21: Al Suwa | C21: =COUNTIF('فروع وعناوين الشركات'!$G$2:$G$1113,G21) -> 12 | D21: A | E21: 07811857358 / 07822202823 / 07824264551 | F21: alswacompany22@gmail.com | G21: =TRIM(SUBSTITUTE(SUBSTITUTE(SUBSTITUTE(SUBSTITUTE(SUBSTITUTE(A21,"أ","ا"),"إ","ا"),"آ","ا"),"ة","ه"),"ى","ي")) -> الصوي للصرافه | H21: =HYPERLINK("#'تفاصيل الشركات'!A326","عرض التفاصيل ←") -> عرض التفاصيل ←
A22: العقد للصرافة | B22: Al Aqd | C22: =COUNTIF('فروع وعناوين الشركات'!$G$2:$G$1113,G22) -> 10 | D22: A | E22: 07833000351 / 07733000351 | F22: alaqed.ex@gmail.com | G22: =TRIM(SUBSTITUTE(SUBSTITUTE(SUBSTITUTE(SUBSTITUTE(SUBSTITUTE(A22,"أ","ا"),"إ","ا"),"آ","ا"),"ة","ه"),"ى","ي")) -> العقد للصرافه | H22: =HYPERLINK("#'تفاصيل الشركات'!A343","عرض التفاصيل ←") -> عرض التفاصيل ←
A23: الاهوار للصرافة | B23: Al Ahwar | C23: =COUNTIF('فروع وعناوين الشركات'!$G$2:$G$1113,G23) -> 9 | D23: A | E23: 07718673429 / 07801017565 / 07705587772 | F23: info@alahwar.iq | G23: =TRIM(SUBSTITUTE(SUBSTITUTE(SUBSTITUTE(SUBSTITUTE(SUBSTITUTE(A23,"أ","ا"),"إ","ا"),"آ","ا"),"ة","ه"),"ى","ي")) -> الاهوار للصرافه | H23: =HYPERLINK("#'تفاصيل الشركات'!A358","عرض التفاصيل ←") -> عرض التفاصيل ←
A24: الحطاب للصرافة | B24: Al Hattab | C24: =COUNTIF('فروع وعناوين الشركات'!$G$2:$G$1113,G24) -> 9 | D24: A | E24: 07744733328 / 07844733328 | F24: alhattab.ex@gmail.com | G24: =TRIM(SUBSTITUTE(SUBSTITUTE(SUBSTITUTE(SUBSTITUTE(SUBSTITUTE(A24,"أ","ا"),"إ","ا"),"آ","ا"),"ة","ه"),"ى","ي")) -> الحطاب للصرافه | H24: =HYPERLINK("#'تفاصيل الشركات'!A372","عرض التفاصيل ←") -> عرض التفاصيل ←
A25: الحسام للصرافة | B25: Al Husam | C25: =COUNTIF('فروع وعناوين الشركات'!$G$2:$G$1113,G25) -> 9 | D25: A | E25: 07733337056/07802090020/07833337056 | F25: alhusam_exc.com.iq | G25: =TRIM(SUBSTITUTE(SUBSTITUTE(SUBSTITUTE(SUBSTITUTE(SUBSTITUTE(A25,"أ","ا"),"إ","ا"),"آ","ا"),"ة","ه"),"ى","ي")) -> الحسام للصرافه | H25: =HYPERLINK("#'تفاصيل الشركات'!A386","عرض التفاصيل ←") -> عرض التفاصيل ←
A26: البتار للصرافة | B26: Al Battar | C26: =COUNTIF('فروع وعناوين الشركات'!$G$2:$G$1113,G26) -> 9 | D26: A | E26: 07713138056 / 07733368526 / | F26: info@al-batarco.iq | G26: =TRIM(SUBSTITUTE(SUBSTITUTE(SUBSTITUTE(SUBSTITUTE(SUBSTITUTE(A26,"أ","ا"),"إ","ا"),"آ","ا"),"ة","ه"),"ى","ي")) -> البتار للصرافه | H26: =HYPERLINK("#'تفاصيل الشركات'!A400","عرض التفاصيل ←") -> عرض التفاصيل ←
A27: بغداد للصرافة | B27: Baghdad | C27: =COUNTIF('فروع وعناوين الشركات'!$G$2:$G$1113,G27) -> 9 | D27: A | E27: 7901483784 | F27: info@baghdadexchange.iq | G27: =TRIM(SUBSTITUTE(SUBSTITUTE(SUBSTITUTE(SUBSTITUTE(SUBSTITUTE(A27,"أ","ا"),"إ","ا"),"آ","ا"),"ة","ه"),"ى","ي")) -> بغداد للصرافه | H27: =HYPERLINK("#'تفاصيل الشركات'!A414","عرض التفاصيل ←") -> عرض التفاصيل ←
A28: الأمين للصرافة | B28: Al Amin | C28: =COUNTIF('فروع وعناوين الشركات'!$G$2:$G$1113,G28) -> 6 | D28: A | E28: 07802012442 / 07808060011 / 07708060011 | F28: info@alameenex.iq | G28: =TRIM(SUBSTITUTE(SUBSTITUTE(SUBSTITUTE(SUBSTITUTE(SUBSTITUTE(A28,"أ","ا"),"إ","ا"),"آ","ا"),"ة","ه"),"ى","ي")) -> الامين للصرافه | H28: =HYPERLINK("#'تفاصيل الشركات'!A428","عرض التفاصيل ←") -> عرض التفاصيل ←
A29: ساوة للصرافة | B29: Sawa | C29: =COUNTIF('فروع وعناوين الشركات'!$G$2:$G$1113,G29) -> 3 | D29: A | E29: 7700608540 | F29: sawa.comp.ltd@gmail.com | G29: =TRIM(SUBSTITUTE(SUBSTITUTE(SUBSTITUTE(SUBSTITUTE(SUBSTITUTE(A29,"أ","ا"),"إ","ا"),"آ","ا"),"ة","ه"),"ى","ي")) -> ساوه للصرافه | H29: =HYPERLINK("#'تفاصيل الشركات'!A439","عرض التفاصيل ←") -> عرض التفاصيل ←
A30: المنامة للصرافة | B30: Al Manama | C30: =COUNTIF('فروع وعناوين الشركات'!$G$2:$G$1113,G30) -> 8 | D30: A | E30: 7702706050 | F30: info@manex.com.iq | G30: =TRIM(SUBSTITUTE(SUBSTITUTE(SUBSTITUTE(SUBSTITUTE(SUBSTITUTE(A30,"أ","ا"),"إ","ا"),"آ","ا"),"ة","ه"),"ى","ي")) -> المنامه للصرافه | H30: =HYPERLINK("#'تفاصيل الشركات'!A447","عرض التفاصيل ←") -> عرض التفاصيل ←
A31: النخيل للصرافة | B31: Al Nakheel | C31: =COUNTIF('فروع وعناوين الشركات'!$G$2:$G$1113,G31) -> 8 | D31: A | E31: 07843600071 / 07727932200 | F31: info@alnakeel.com.iq | G31: =TRIM(SUBSTITUTE(SUBSTITUTE(SUBSTITUTE(SUBSTITUTE(SUBSTITUTE(A31,"أ","ا"),"إ","ا"),"آ","ا"),"ة","ه"),"ى","ي")) -> النخيل للصرافه | H31: =HYPERLINK("#'تفاصيل الشركات'!A460","عرض التفاصيل ←") -> عرض التفاصيل ←
A32: المعن للصرافة | B32: Al Man | C32: =COUNTIF('فروع وعناوين الشركات'!$G$2:$G$1113,G32) -> 7 | D32: A | E32: 7844200150 | F32: almuradcompany2020@gmail.com | G32: =TRIM(SUBSTITUTE(SUBSTITUTE(SUBSTITUTE(SUBSTITUTE(SUBSTITUTE(A32,"أ","ا"),"إ","ا"),"آ","ا"),"ة","ه"),"ى","ي")) -> المعن للصرافه | H32: =HYPERLINK("#'تفاصيل الشركات'!A473","عرض التفاصيل ←") -> عرض التفاصيل ←
A33: الناصر للصرافة | B33: Al Nasir | C33: =COUNTIF('فروع وعناوين الشركات'!$G$2:$G$1113,G33) -> 7 | D33: A | E33: 07737165428 / 07709873324 / 07710593032 / 07722291664 | F33: exgangenasser@gmail.com | G33: =TRIM(SUBSTITUTE(SUBSTITUTE(SUBSTITUTE(SUBSTITUTE(SUBSTITUTE(A33,"أ","ا"),"إ","ا"),"آ","ا"),"ة","ه"),"ى","ي")) -> الناصر للصرافه | H33: =HYPERLINK("#'تفاصيل الشركات'!A485","عرض التفاصيل ←") -> عرض التفاصيل ←
A34: القطاف للصرافة | B34: Al Qitaf | C34: =COUNTIF('فروع وعناوين الشركات'!$G$2:$G$1113,G34) -> 7 | D34: A | E34: 7718186060 | F34: alquttafcompany@gmail.com | G34: =TRIM(SUBSTITUTE(SUBSTITUTE(SUBSTITUTE(SUBSTITUTE(SUBSTITUTE(A34,"أ","ا"),"إ","ا"),"آ","ا"),"ة","ه"),"ى","ي")) -> القطاف للصرافه | H34: =HYPERLINK("#'تفاصيل الشركات'!A497","عرض التفاصيل ←") -> عرض التفاصيل ←
A35: الانامل للصرافة | B35: Al Anamil | C35: =COUNTIF('فروع وعناوين الشركات'!$G$2:$G$1113,G35) -> 7 | D35: A | E35: 7701045332 | F35: alananamlvip@gmail.com | G35: =TRIM(SUBSTITUTE(SUBSTITUTE(SUBSTITUTE(SUBSTITUTE(SUBSTITUTE(A35,"أ","ا"),"إ","ا"),"آ","ا"),"ة","ه"),"ى","ي")) -> الانامل للصرافه | H35: =HYPERLINK("#'تفاصيل الشركات'!A509","عرض التفاصيل ←") -> عرض التفاصيل ←
A36: العابد للصرافة | B36: Al Abed | C36: =COUNTIF('فروع وعناوين الشركات'!$G$2:$G$1113,G36) -> 6 | D36: A | E36: 07700680038 / 07711111618 | F36: hussain@alabedexchange.iq | G36: =TRIM(SUBSTITUTE(SUBSTITUTE(SUBSTITUTE(SUBSTITUTE(SUBSTITUTE(A36,"أ","ا"),"إ","ا"),"آ","ا"),"ة","ه"),"ى","ي")) -> العابد للصرافه | H36: =HYPERLINK("#'تفاصيل الشركات'!A521","عرض التفاصيل ←") -> عرض التفاصيل ←
A37: الحرير للصرافة | B37: Al Harir | C37: =COUNTIF('فروع وعناوين الشركات'!$G$2:$G$1113,G37) -> 6 | D37: A | E37: 07810844341 / 07703948280 / 07709900835 | F37: alharir.exchange.co@gmail.com | G37: =TRIM(SUBSTITUTE(SUBSTITUTE(SUBSTITUTE(SUBSTITUTE(SUBSTITUTE(A37,"أ","ا"),"إ","ا"),"آ","ا"),"ة","ه"),"ى","ي")) -> الحرير للصرافه | H37: =HYPERLINK("#'تفاصيل الشركات'!A532","عرض التفاصيل ←") -> عرض التفاصيل ←
A38: الدلة الدولية للصرافة | B38: Al Dalla Al Dawliya | C38: =COUNTIF('فروع وعناوين الشركات'!$G$2:$G$1113,G38) -> 5 | D38: A | E38: 7739600081 | F38: info@aldaallah-intexch.com | G38: =TRIM(SUBSTITUTE(SUBSTITUTE(SUBSTITUTE(SUBSTITUTE(SUBSTITUTE(A38,"أ","ا"),"إ","ا"),"آ","ا"),"ة","ه"),"ى","ي")) -> الدله الدوليه للصرافه | H38: =HYPERLINK("#'تفاصيل الشركات'!A543","عرض التفاصيل ←") -> عرض التفاصيل ←
A39: العالم للصرافة | B39: Al Aalam | C39: =COUNTIF('فروع وعناوين الشركات'!$G$2:$G$1113,G39) -> 5 | D39: A | E39: 07838880184 / 07837709031 / 07704447255 | F39: info@alaalam.iq | G39: =TRIM(SUBSTITUTE(SUBSTITUTE(SUBSTITUTE(SUBSTITUTE(SUBSTITUTE(A39,"أ","ا"),"إ","ا"),"آ","ا"),"ة","ه"),"ى","ي")) -> العالم للصرافه | H39: =HYPERLINK("#'تفاصيل الشركات'!A553","عرض التفاصيل ←") -> عرض التفاصيل ←
A40: الحدود للصرافة | B40: Al Hudood | C40: =COUNTIF('فروع وعناوين الشركات'!$G$2:$G$1113,G40) -> 4 | D40: A | E40: 7725254180 | F40: mslmaljasm006@gmail.com | G40: =TRIM(SUBSTITUTE(SUBSTITUTE(SUBSTITUTE(SUBSTITUTE(SUBSTITUTE(A40,"أ","ا"),"إ","ا"),"آ","ا"),"ة","ه"),"ى","ي")) -> الحدود للصرافه | H40: =HYPERLINK("#'تفاصيل الشركات'!A563","عرض التفاصيل ←") -> عرض التفاصيل ←
A41: دبي العالمية للصرافة | B41: Dubai Al Alamiya | C41: =COUNTIF('فروع وعناوين الشركات'!$G$2:$G$1113,G41) -> 7 | D41: A | E41: 07710055588 / 07760848796 | F41: info@dubaiglobal-ce.iq | G41: =TRIM(SUBSTITUTE(SUBSTITUTE(SUBSTITUTE(SUBSTITUTE(SUBSTITUTE(A41,"أ","ا"),"إ","ا"),"آ","ا"),"ة","ه"),"ى","ي")) -> دبي العالميه للصرافه | H41: =HYPERLINK("#'تفاصيل الشركات'!A572","عرض التفاصيل ←") -> عرض التفاصيل ←
A42: الرفاف للصرافة | B42: Al Rafaf | C42: =COUNTIF('فروع وعناوين الشركات'!$G$2:$G$1113,G42) -> 6 | D42: A | E42: 7712320320 | F42: alrafafcompany@gmail.com | G42: =TRIM(SUBSTITUTE(SUBSTITUTE(SUBSTITUTE(SUBSTITUTE(SUBSTITUTE(A42,"أ","ا"),"إ","ا"),"آ","ا"),"ة","ه"),"ى","ي")) -> الرفاف للصرافه | H42: =HYPERLINK("#'تفاصيل الشركات'!A584","عرض التفاصيل ←") -> عرض التفاصيل ←
A43: السنايا للصرافة | B43: Al Sanaya | C43: =COUNTIF('فروع وعناوين الشركات'!$G$2:$G$1113,G43) -> 6 | D43: B | E43: 07818188118 / 07740000665 / 07840000665 / 07832219991 | F43: alsanayac@gmail.com | G43: =TRIM(SUBSTITUTE(SUBSTITUTE(SUBSTITUTE(SUBSTITUTE(SUBSTITUTE(A43,"أ","ا"),"إ","ا"),"آ","ا"),"ة","ه"),"ى","ي")) -> السنايا للصرافه | H43: =HYPERLINK("#'تفاصيل الشركات'!A595","عرض التفاصيل ←") -> عرض التفاصيل ←
A44: اهل الخير للصرافة | B44: Ahl Al Khair | C44: =COUNTIF('فروع وعناوين الشركات'!$G$2:$G$1113,G44) -> 7 | D44: A | E44: 07714264713 / 07901106070 / 07901363132 | F44: ahlalkher1976@yahoo.com | G44: =TRIM(SUBSTITUTE(SUBSTITUTE(SUBSTITUTE(SUBSTITUTE(SUBSTITUTE(A44,"أ","ا"),"إ","ا"),"آ","ا"),"ة","ه"),"ى","ي")) -> اهل الخير للصرافه | H44: =HYPERLINK("#'تفاصيل الشركات'!A606","عرض التفاصيل ←") -> عرض التفاصيل ←
A45: الاثير للصرافة | B45: Al Atheer | C45: =COUNTIF('فروع وعناوين الشركات'!$G$2:$G$1113,G45) -> 5 | D45: A | E45: 07823340003 / 07716200006 / 07816200006 | F45: info@alatheer.com | G45: =TRIM(SUBSTITUTE(SUBSTITUTE(SUBSTITUTE(SUBSTITUTE(SUBSTITUTE(A45,"أ","ا"),"إ","ا"),"آ","ا"),"ة","ه"),"ى","ي")) -> الاثير للصرافه | H45: =HYPERLINK("#'تفاصيل الشركات'!A618","عرض التفاصيل ←") -> عرض التفاصيل ←
A46: المكارم للصرافة | B46: Al Makarem | C46: =COUNTIF('فروع وعناوين الشركات'!$G$2:$G$1113,G46) -> 5 | D46: A | E46: 07727495867 / 07807001100 / 07707001100 | F46: ceo@almkarm.com | G46: =TRIM(SUBSTITUTE(SUBSTITUTE(SUBSTITUTE(SUBSTITUTE(SUBSTITUTE(A46,"أ","ا"),"إ","ا"),"آ","ا"),"ة","ه"),"ى","ي")) -> المكارم للصرافه | H46: =HYPERLINK("#'تفاصيل الشركات'!A628","عرض التفاصيل ←") -> عرض التفاصيل ←
A47: القاهرة للصرافة | B47: Al Qahira | C47: =COUNTIF('فروع وعناوين الشركات'!$G$2:$G$1113,G47) -> 4 | D47: A | E47: 7802245924 | F47: company_cairo@yahoo.com | G47: =TRIM(SUBSTITUTE(SUBSTITUTE(SUBSTITUTE(SUBSTITUTE(SUBSTITUTE(A47,"أ","ا"),"إ","ا"),"آ","ا"),"ة","ه"),"ى","ي")) -> القاهره للصرافه | H47: =HYPERLINK("#'تفاصيل الشركات'!A638","عرض التفاصيل ←") -> عرض التفاصيل ←
A48: باب الحضارة للصرافة | B48: Bab Al Hadara | C48: =COUNTIF('فروع وعناوين الشركات'!$G$2:$G$1113,G48) -> 5 | D48: A | E48: 07721111586 / 07705717060 / 07706297126 | F48: info@babalhadara.iq | G48: =TRIM(SUBSTITUTE(SUBSTITUTE(SUBSTITUTE(SUBSTITUTE(SUBSTITUTE(A48,"أ","ا"),"إ","ا"),"آ","ا"),"ة","ه"),"ى","ي")) -> باب الحضاره للصرافه | H48: =HYPERLINK("#'تفاصيل الشركات'!A647","عرض التفاصيل ←") -> عرض التفاصيل ←
A49: الوئام للصرافة | B49: Al Wiam | C49: =COUNTIF('فروع وعناوين الشركات'!$G$2:$G$1113,G49) -> 5 | D49: B | E49: 7704903377 | F49: alweam1999@yahoo.com | G49: =TRIM(SUBSTITUTE(SUBSTITUTE(SUBSTITUTE(SUBSTITUTE(SUBSTITUTE(A49,"أ","ا"),"إ","ا"),"آ","ا"),"ة","ه"),"ى","ي")) -> الوئام للصرافه | H49: =HYPERLINK("#'تفاصيل الشركات'!A657","عرض التفاصيل ←") -> عرض التفاصيل ←
A50: الوقار للصرافة | B50: Al Waqar | C50: =COUNTIF('فروع وعناوين الشركات'!$G$2:$G$1113,G50) -> 1 | D50: A | E50: 07704559289 / 07805137045 | F50: al.ridaa55@yahoo.com | G50: =TRIM(SUBSTITUTE(SUBSTITUTE(SUBSTITUTE(SUBSTITUTE(SUBSTITUTE(A50,"أ","ا"),"إ","ا"),"آ","ا"),"ة","ه"),"ى","ي")) -> الوقار للصرافه | H50: =HYPERLINK("#'تفاصيل الشركات'!A667","عرض التفاصيل ←") -> عرض التفاصيل ←
A51: اطلس العالمية للصرافة | B51: Atlas Al Alamiya | C51: =COUNTIF('فروع وعناوين الشركات'!$G$2:$G$1113,G51) -> 6 | D51: A | E51: 7850444044 | F51: info@atlas-ex.com.com | G51: =TRIM(SUBSTITUTE(SUBSTITUTE(SUBSTITUTE(SUBSTITUTE(SUBSTITUTE(A51,"أ","ا"),"إ","ا"),"آ","ا"),"ة","ه"),"ى","ي")) -> اطلس العالميه للصرافه | H51: =HYPERLINK("#'تفاصيل الشركات'!A673","عرض التفاصيل ←") -> عرض التفاصيل ←
A52: الرؤيا للصرافة | B52: Al Ruya | C52: =COUNTIF('فروع وعناوين الشركات'!$G$2:$G$1113,G52) -> 5 | D52: B | E52: 077152222279 | F52: alrouaxch@yahoo.com | G52: =TRIM(SUBSTITUTE(SUBSTITUTE(SUBSTITUTE(SUBSTITUTE(SUBSTITUTE(A52,"أ","ا"),"إ","ا"),"آ","ا"),"ة","ه"),"ى","ي")) -> الرؤيا للصرافه | H52: =HYPERLINK("#'تفاصيل الشركات'!A684","عرض التفاصيل ←") -> عرض التفاصيل ←
A53: الدثور للصرافة | B53: Al Duthur | C53: =COUNTIF('فروع وعناوين الشركات'!$G$2:$G$1113,G53) -> 5 | D53: A | E53: 07730601313/07733601313/07833601313 | F53: info@aldthor.com.iq | G53: =TRIM(SUBSTITUTE(SUBSTITUTE(SUBSTITUTE(SUBSTITUTE(SUBSTITUTE(A53,"أ","ا"),"إ","ا"),"آ","ا"),"ة","ه"),"ى","ي")) -> الدثور للصرافه | H53: =HYPERLINK("#'تفاصيل الشركات'!A694","عرض التفاصيل ←") -> عرض التفاصيل ←
A54: المساواة للصرافة | B54: Al Musawat | C54: =COUNTIF('فروع وعناوين الشركات'!$G$2:$G$1113,G54) -> 1 | D54: A | E54: 07704503333 07901837695 | F54: info@al-musawat.com.iq | G54: =TRIM(SUBSTITUTE(SUBSTITUTE(SUBSTITUTE(SUBSTITUTE(SUBSTITUTE(A54,"أ","ا"),"إ","ا"),"آ","ا"),"ة","ه"),"ى","ي")) -> المساواه للصرافه | H54: =HYPERLINK("#'تفاصيل الشركات'!A704","عرض التفاصيل ←") -> عرض التفاصيل ←
A55: البيارق للصرافة | B55: Al Bayariq | C55: =COUNTIF('فروع وعناوين الشركات'!$G$2:$G$1113,G55) -> 5 | D55: B | E55: 07901935526 | F55: albayariq.exchange@gmail.com | G55: =TRIM(SUBSTITUTE(SUBSTITUTE(SUBSTITUTE(SUBSTITUTE(SUBSTITUTE(A55,"أ","ا"),"إ","ا"),"آ","ا"),"ة","ه"),"ى","ي")) -> البيارق للصرافه | H55: =HYPERLINK("#'تفاصيل الشركات'!A710","عرض التفاصيل ←") -> عرض التفاصيل ←
A56: الرفيف للصرافة | B56: Al Rafeef | C56: =COUNTIF('فروع وعناوين الشركات'!$G$2:$G$1113,G56) -> 5 | D56: B | E56: 07855999603 / 07801919772 / 07901287308 | F56: alrafeefco@gmail.com | G56: =TRIM(SUBSTITUTE(SUBSTITUTE(SUBSTITUTE(SUBSTITUTE(SUBSTITUTE(A56,"أ","ا"),"إ","ا"),"آ","ا"),"ة","ه"),"ى","ي")) -> الرفيف للصرافه | H56: =HYPERLINK("#'تفاصيل الشركات'!A720","عرض التفاصيل ←") -> عرض التفاصيل ←
A57: الثاقب للصرافة | B57: Al Thaqib | C57: =COUNTIF('فروع وعناوين الشركات'!$G$2:$G$1113,G57) -> 3 | D57: B | E57: 7811827021 | F57: althaqibex@yahoo.com | G57: =TRIM(SUBSTITUTE(SUBSTITUTE(SUBSTITUTE(SUBSTITUTE(SUBSTITUTE(A57,"أ","ا"),"إ","ا"),"آ","ا"),"ة","ه"),"ى","ي")) -> الثاقب للصرافه | H57: =HYPERLINK("#'تفاصيل الشركات'!A730","عرض التفاصيل ←") -> عرض التفاصيل ←
A58: الخواطر للصرافة | B58: Al Khawatir | C58: =COUNTIF('فروع وعناوين الشركات'!$G$2:$G$1113,G58) -> 5 | D58: B | E58: 7711111945 | F58: alkhwaater.co@gmail.com | G58: =TRIM(SUBSTITUTE(SUBSTITUTE(SUBSTITUTE(SUBSTITUTE(SUBSTITUTE(A58,"أ","ا"),"إ","ا"),"آ","ا"),"ة","ه"),"ى","ي")) -> الخواطر للصرافه | H58: =HYPERLINK("#'تفاصيل الشركات'!A738","عرض التفاصيل ←") -> عرض التفاصيل ←
A59: زيونة للصرافة | B59: Zayouna | C59: =COUNTIF('فروع وعناوين الشركات'!$G$2:$G$1113,G59) -> 4 | D59: A | E59: 57706478331 07719100066 | F59: alnatka0@yahoo.com | G59: =TRIM(SUBSTITUTE(SUBSTITUTE(SUBSTITUTE(SUBSTITUTE(SUBSTITUTE(A59,"أ","ا"),"إ","ا"),"آ","ا"),"ة","ه"),"ى","ي")) -> زيونه للصرافه | H59: =HYPERLINK("#'تفاصيل الشركات'!A748","عرض التفاصيل ←") -> عرض التفاصيل ←
A60: السلة للصرافة | B60: Al Sala | C60: =COUNTIF('فروع وعناوين الشركات'!$G$2:$G$1113,G60) -> 5 | D60: A | E60: 07762367294 / 07709334881 / 07801141342 | F60: alsala79@yahoo.com | G60: =TRIM(SUBSTITUTE(SUBSTITUTE(SUBSTITUTE(SUBSTITUTE(SUBSTITUTE(A60,"أ","ا"),"إ","ا"),"آ","ا"),"ة","ه"),"ى","ي")) -> السله للصرافه | H60: =HYPERLINK("#'تفاصيل الشركات'!A757","عرض التفاصيل ←") -> عرض التفاصيل ←
A61: بغداد العربية للصرافة | B61: Baghdad Al Arabiya | C61: =COUNTIF('فروع وعناوين الشركات'!$G$2:$G$1113,G61) -> 5 | D61: B | E61: 07803617774 07707171814 | F61: euro-com@yahoo.com | G61: =TRIM(SUBSTITUTE(SUBSTITUTE(SUBSTITUTE(SUBSTITUTE(SUBSTITUTE(A61,"أ","ا"),"إ","ا"),"آ","ا"),"ة","ه"),"ى","ي")) -> بغداد العربيه للصرافه | H61: =HYPERLINK("#'تفاصيل الشركات'!A767","عرض التفاصيل ←") -> عرض التفاصيل ←
A62: وادي الرافدين للصرافة | B62: Wadi Al Rafidain | C62: =COUNTIF('فروع وعناوين الشركات'!$G$2:$G$1113,G62) -> 1 | D62: B | E62: 7822722722 | F62: wadyrafdin@yahoo.com | G62: =TRIM(SUBSTITUTE(SUBSTITUTE(SUBSTITUTE(SUBSTITUTE(SUBSTITUTE(A62,"أ","ا"),"إ","ا"),"آ","ا"),"ة","ه"),"ى","ي")) -> وادي الرافدين للصرافه | H62: =HYPERLINK("#'تفاصيل الشركات'!A777","عرض التفاصيل ←") -> عرض التفاصيل ←
A63: الانتظار للصرافة | B63: Al Intizar | C63: =COUNTIF('فروع وعناوين الشركات'!$G$2:$G$1113,G63) -> 6 | D63: B | E63: 0770583551 / 07901870597 | F63: alaentedhar@gmail.com | G63: =TRIM(SUBSTITUTE(SUBSTITUTE(SUBSTITUTE(SUBSTITUTE(SUBSTITUTE(A63,"أ","ا"),"إ","ا"),"آ","ا"),"ة","ه"),"ى","ي")) -> الانتظار للصرافه | H63: =HYPERLINK("#'تفاصيل الشركات'!A783","عرض التفاصيل ←") -> عرض التفاصيل ←
A64: الخافق للصرافة | B64: Al Khafiq | C64: =COUNTIF('فروع وعناوين الشركات'!$G$2:$G$1113,G64) -> 5 | D64: B | E64: 07848684455 07756426050 | F64: aa.zahaby@yahoo.com | G64: =TRIM(SUBSTITUTE(SUBSTITUTE(SUBSTITUTE(SUBSTITUTE(SUBSTITUTE(A64,"أ","ا"),"إ","ا"),"آ","ا"),"ة","ه"),"ى","ي")) -> الخافق للصرافه | H64: =HYPERLINK("#'تفاصيل الشركات'!A794","عرض التفاصيل ←") -> عرض التفاصيل ←
A65: الصقيل للصرافة | B65: Al Saqeel | C65: =COUNTIF('فروع وعناوين الشركات'!$G$2:$G$1113,G65) -> 5 | D65: B | E65: 7811177543 | F65: alsaqelexchange@gmail.com | G65: =TRIM(SUBSTITUTE(SUBSTITUTE(SUBSTITUTE(SUBSTITUTE(SUBSTITUTE(A65,"أ","ا"),"إ","ا"),"آ","ا"),"ة","ه"),"ى","ي")) -> الصقيل للصرافه | H65: =HYPERLINK("#'تفاصيل الشركات'!A804","عرض التفاصيل ←") -> عرض التفاصيل ←
A66: الطود للصرافة | B66: Al Tawd | C66: =COUNTIF('فروع وعناوين الشركات'!$G$2:$G$1113,G66) -> 1 | D66: B | E66: 7901726081 | F66: altawdexchange@yahoo.com | G66: =TRIM(SUBSTITUTE(SUBSTITUTE(SUBSTITUTE(SUBSTITUTE(SUBSTITUTE(A66,"أ","ا"),"إ","ا"),"آ","ا"),"ة","ه"),"ى","ي")) -> الطود للصرافه | H66: =HYPERLINK("#'تفاصيل الشركات'!A814","عرض التفاصيل ←") -> عرض التفاصيل ←
A67: المهمة للصرافة | B67: Al Muhima | C67: =COUNTIF('فروع وعناوين الشركات'!$G$2:$G$1113,G67) -> 8 | D67: A | E67: 07718542952 / 07901307982 / 07813757474 / 07719855669 | F67: almuhima@gmail.com | G67: =TRIM(SUBSTITUTE(SUBSTITUTE(SUBSTITUTE(SUBSTITUTE(SUBSTITUTE(A67,"أ","ا"),"إ","ا"),"آ","ا"),"ة","ه"),"ى","ي")) -> المهمه للصرافه | H67: =HYPERLINK("#'تفاصيل الشركات'!A820","عرض التفاصيل ←") -> عرض التفاصيل ←
A68: الطائف للصرافة | B68: Al Taif | C68: =COUNTIF('فروع وعناوين الشركات'!$G$2:$G$1113,G68) -> 5 | D68: B | E68: 07803569779 / 07710816666 / 07810816666 | F68: altaif.exchange@yahoo.com | G68: =TRIM(SUBSTITUTE(SUBSTITUTE(SUBSTITUTE(SUBSTITUTE(SUBSTITUTE(A68,"أ","ا"),"إ","ا"),"آ","ا"),"ة","ه"),"ى","ي")) -> الطائف للصرافه | H68: =HYPERLINK("#'تفاصيل الشركات'!A833","عرض التفاصيل ←") -> عرض التفاصيل ←
A69: الايلاف للصرافة | B69: Al Eelaf | C69: =COUNTIF('فروع وعناوين الشركات'!$G$2:$G$1113,G69) -> 4 | D69: A | E69: 07825559937 / 07739797545 | F69: alelaf2020@gmail.com | G69: =TRIM(SUBSTITUTE(SUBSTITUTE(SUBSTITUTE(SUBSTITUTE(SUBSTITUTE(A69,"أ","ا"),"إ","ا"),"آ","ا"),"ة","ه"),"ى","ي")) -> الايلاف للصرافه | H69: =HYPERLINK("#'تفاصيل الشركات'!A843","عرض التفاصيل ←") -> عرض التفاصيل ←
A70: الصيد للصرافة | B70: Al Sayd | C70: =COUNTIF('فروع وعناوين الشركات'!$G$2:$G$1113,G70) -> 4 | D70: A | E70: 07722293083 / 07822255904 / 07722255904 | F70: alsaid4ex@gmail.com | G70: =TRIM(SUBSTITUTE(SUBSTITUTE(SUBSTITUTE(SUBSTITUTE(SUBSTITUTE(A70,"أ","ا"),"إ","ا"),"آ","ا"),"ة","ه"),"ى","ي")) -> الصيد للصرافه | H70: =HYPERLINK("#'تفاصيل الشركات'!A852","عرض التفاصيل ←") -> عرض التفاصيل ←
A71: الصراف للصرافة | B71: Al Sarraf | C71: =COUNTIF('فروع وعناوين الشركات'!$G$2:$G$1113,G71) -> 4 | D71: A | E71: 07764195966 / 07759377887 | F71: info@alsarafexchangeco.iq | G71: =TRIM(SUBSTITUTE(SUBSTITUTE(SUBSTITUTE(SUBSTITUTE(SUBSTITUTE(A71,"أ","ا"),"إ","ا"),"آ","ا"),"ة","ه"),"ى","ي")) -> الصراف للصرافه | H71: =HYPERLINK("#'تفاصيل الشركات'!A861","عرض التفاصيل ←") -> عرض التفاصيل ←
A72: الأرفة للصرافة | B72: Al Arfaa | C72: =COUNTIF('فروع وعناوين الشركات'!$G$2:$G$1113,G72) -> 3 | D72: A | E72: 07860828285 / 07860828284 | F72: admin@alarfaaexchange.iq | G72: =TRIM(SUBSTITUTE(SUBSTITUTE(SUBSTITUTE(SUBSTITUTE(SUBSTITUTE(A72,"أ","ا"),"إ","ا"),"آ","ا"),"ة","ه"),"ى","ي")) -> الارفه للصرافه | H72: =HYPERLINK("#'تفاصيل الشركات'!A870","عرض التفاصيل ←") -> عرض التفاصيل ←
A73: الحوض للصرافة | B73: Al Hawd | C73: =COUNTIF('فروع وعناوين الشركات'!$G$2:$G$1113,G73) -> 5 | D73: A | E73: 07737535313 / 07715096400 / 07702882538 / 07737584911 | F73: alhawdeexchange@gmail.com | G73: =TRIM(SUBSTITUTE(SUBSTITUTE(SUBSTITUTE(SUBSTITUTE(SUBSTITUTE(A73,"أ","ا"),"إ","ا"),"آ","ا"),"ة","ه"),"ى","ي")) -> الحوض للصرافه | H73: =HYPERLINK("#'تفاصيل الشركات'!A878","عرض التفاصيل ←") -> عرض التفاصيل ←
A74: صحارى الدولية للصرافة | B74: Sahara Al Dawliya | C74: =COUNTIF('فروع وعناوين الشركات'!$G$2:$G$1113,G74) -> 6 | D74: A | E74: 7711131141 | F74: info@sahara-int.com | G74: =TRIM(SUBSTITUTE(SUBSTITUTE(SUBSTITUTE(SUBSTITUTE(SUBSTITUTE(A74,"أ","ا"),"إ","ا"),"آ","ا"),"ة","ه"),"ى","ي")) -> صحاري الدوليه للصرافه | H74: =HYPERLINK("#'تفاصيل الشركات'!A888","عرض التفاصيل ←") -> عرض التفاصيل ←
A75: جبل علي للصرافة | B75: Jebel Ali | C75: =COUNTIF('فروع وعناوين الشركات'!$G$2:$G$1113,G75) -> 4 | D75: B | E75: 07722299089 / 07705851555 / 07703647206 | F75: jabalali250@gmail.com | G75: =TRIM(SUBSTITUTE(SUBSTITUTE(SUBSTITUTE(SUBSTITUTE(SUBSTITUTE(A75,"أ","ا"),"إ","ا"),"آ","ا"),"ة","ه"),"ى","ي")) -> جبل علي للصرافه | H75: =HYPERLINK("#'تفاصيل الشركات'!A899","عرض التفاصيل ←") -> عرض التفاصيل ←
A76: الوصيف للصرافة | B76: Al Waseef | C76: =COUNTIF('فروع وعناوين الشركات'!$G$2:$G$1113,G76) -> 4 | D76: B | E76: 07756613457 / 07704544663 | F76: exchangecompanyalwaseef@gmail.com | G76: =TRIM(SUBSTITUTE(SUBSTITUTE(SUBSTITUTE(SUBSTITUTE(SUBSTITUTE(A76,"أ","ا"),"إ","ا"),"آ","ا"),"ة","ه"),"ى","ي")) -> الوصيف للصرافه | H76: =HYPERLINK("#'تفاصيل الشركات'!A908","عرض التفاصيل ←") -> عرض التفاصيل ←
A77: البطحاء للصرافة | B77: Al Bathaa | C77: =COUNTIF('فروع وعناوين الشركات'!$G$2:$G$1113,G77) -> 3 | D77: B | E77: 7813526615 | F77: shrkbdbbhall@gmail.com | G77: =TRIM(SUBSTITUTE(SUBSTITUTE(SUBSTITUTE(SUBSTITUTE(SUBSTITUTE(A77,"أ","ا"),"إ","ا"),"آ","ا"),"ة","ه"),"ى","ي")) -> البطحاء للصرافه | H77: =HYPERLINK("#'تفاصيل الشركات'!A917","عرض التفاصيل ←") -> عرض التفاصيل ←
A78: عطاء الخير للصرافة | B78: Ataa Al Khair | C78: =COUNTIF('فروع وعناوين الشركات'!$G$2:$G$1113,G78) -> 3 | D78: B | E78: 77480330161 / 07748033160 | F78: INFO@ATAA-ALKHAIR.IQ | G78: =TRIM(SUBSTITUTE(SUBSTITUTE(SUBSTITUTE(SUBSTITUTE(SUBSTITUTE(A78,"أ","ا"),"إ","ا"),"آ","ا"),"ة","ه"),"ى","ي")) -> عطاء الخير للصرافه | H78: =HYPERLINK("#'تفاصيل الشركات'!A925","عرض التفاصيل ←") -> عرض التفاصيل ←
A79: الاقمار للصرافة | B79: Al Aqmar | C79: =COUNTIF('فروع وعناوين الشركات'!$G$2:$G$1113,G79) -> 4 | D79: B | E79: 07711703608 / 07701755005 | F79: alakmar.company1999@gmail.com | G79: =TRIM(SUBSTITUTE(SUBSTITUTE(SUBSTITUTE(SUBSTITUTE(SUBSTITUTE(A79,"أ","ا"),"إ","ا"),"آ","ا"),"ة","ه"),"ى","ي")) -> الاقمار للصرافه | H79: =HYPERLINK("#'تفاصيل الشركات'!A933","عرض التفاصيل ←") -> عرض التفاصيل ←
A80: امنية المستقبل للصيرفة | B80: Umniyat Al Mustaqbal | C80: =COUNTIF('فروع وعناوين الشركات'!$G$2:$G$1113,G80) -> 3 | D80: A | E80: 07702992084 / 07725415888 | F80: info@omniat-almostagbal.com | G80: =TRIM(SUBSTITUTE(SUBSTITUTE(SUBSTITUTE(SUBSTITUTE(SUBSTITUTE(A80,"أ","ا"),"إ","ا"),"آ","ا"),"ة","ه"),"ى","ي")) -> امنيه المستقبل للصيرفه | H80: =HYPERLINK("#'تفاصيل الشركات'!A942","عرض التفاصيل ←") -> عرض التفاصيل ←
A81: البلاد للصرافة | B81: Al Bilad | C81: =COUNTIF('فروع وعناوين الشركات'!$G$2:$G$1113,G81) -> 4 | D81: B | E81: 07733790949 | F81: albeladexchange@gmail.com | G81: =TRIM(SUBSTITUTE(SUBSTITUTE(SUBSTITUTE(SUBSTITUTE(SUBSTITUTE(A81,"أ","ا"),"إ","ا"),"آ","ا"),"ة","ه"),"ى","ي")) -> البلاد للصرافه | H81: =HYPERLINK("#'تفاصيل الشركات'!A950","عرض التفاصيل ←") -> عرض التفاصيل ←
A82: ابابيل للصرافة | B82: Ababil | C82: =COUNTIF('فروع وعناوين الشركات'!$G$2:$G$1113,G82) -> 3 | D82: B | E82: 07805808085 / 07901695915 / 07901793901 | F82: ios.ababil@gmail.com | G82: =TRIM(SUBSTITUTE(SUBSTITUTE(SUBSTITUTE(SUBSTITUTE(SUBSTITUTE(A82,"أ","ا"),"إ","ا"),"آ","ا"),"ة","ه"),"ى","ي")) -> ابابيل للصرافه | H82: =HYPERLINK("#'تفاصيل الشركات'!A959","عرض التفاصيل ←") -> عرض التفاصيل ←
A83: الخليج العالمية للصرافة | B83: Al Khaleej Al Alamiya | C83: =COUNTIF('فروع وعناوين الشركات'!$G$2:$G$1113,G83) -> 4 | D83: A | E83: 07714933399 / 07865877077 | F83: info@alkhallejalmia.iq | G83: =TRIM(SUBSTITUTE(SUBSTITUTE(SUBSTITUTE(SUBSTITUTE(SUBSTITUTE(A83,"أ","ا"),"إ","ا"),"آ","ا"),"ة","ه"),"ى","ي")) -> الخليج العالميه للصرافه | H83: =HYPERLINK("#'تفاصيل الشركات'!A967","عرض التفاصيل ←") -> عرض التفاصيل ←
A84: الاسوار للصرافة | B84: Al Aswar | C84: =COUNTIF('فروع وعناوين الشركات'!$G$2:$G$1113,G84) -> 3 | D84: A | E84: 07700732371 / 07827851649 | F84: alasswarmt.mt@cbiraq.info | G84: =TRIM(SUBSTITUTE(SUBSTITUTE(SUBSTITUTE(SUBSTITUTE(SUBSTITUTE(A84,"أ","ا"),"إ","ا"),"آ","ا"),"ة","ه"),"ى","ي")) -> الاسوار للصرافه | H84: =HYPERLINK("#'تفاصيل الشركات'!A976","عرض التفاصيل ←") -> عرض التفاصيل ←
A85: النبلاء العالمية للصرافة | B85: Al Nubalaa Al Alamiya | C85: =COUNTIF('فروع وعناوين الشركات'!$G$2:$G$1113,G85) -> 3 | D85: A | E85: 7819215527 | F85: noblesinternational6@gmail.com | G85: =TRIM(SUBSTITUTE(SUBSTITUTE(SUBSTITUTE(SUBSTITUTE(SUBSTITUTE(A85,"أ","ا"),"إ","ا"),"آ","ا"),"ة","ه"),"ى","ي")) -> النبلاء العالميه للصرافه | H85: =HYPERLINK("#'تفاصيل الشركات'!A984","عرض التفاصيل ←") -> عرض التفاصيل ←
A86: الولاية للصرافة | B86: Al Wilaya | C86: =COUNTIF('فروع وعناوين الشركات'!$G$2:$G$1113,G86) -> 3 | D86: A | E86: 07722563772 / 07761643002 / 07717681857 | F86: alwelaya.exchange@yahoo.com | G86: =TRIM(SUBSTITUTE(SUBSTITUTE(SUBSTITUTE(SUBSTITUTE(SUBSTITUTE(A86,"أ","ا"),"إ","ا"),"آ","ا"),"ة","ه"),"ى","ي")) -> الولايه للصرافه | H86: =HYPERLINK("#'تفاصيل الشركات'!A992","عرض التفاصيل ←") -> عرض التفاصيل ←
A87: راغبة خاتون للصرافة | B87: Raghiba Khatoon | C87: =COUNTIF('فروع وعناوين الشركات'!$G$2:$G$1113,G87) -> 5 | D87: A | E87: 07718579965 / 07902969254 | F87: info@raghebakhaton.com.iq | G87: =TRIM(SUBSTITUTE(SUBSTITUTE(SUBSTITUTE(SUBSTITUTE(SUBSTITUTE(A87,"أ","ا"),"إ","ا"),"آ","ا"),"ة","ه"),"ى","ي")) -> راغبه خاتون للصرافه | H87: =HYPERLINK("#'تفاصيل الشركات'!A1000","عرض التفاصيل ←") -> عرض التفاصيل ←
A88: الادخار للصرافة | B88: Al Iddikhar | C88: =COUNTIF('فروع وعناوين الشركات'!$G$2:$G$1113,G88) -> 3 | D88: A | E88: 07708459964 / 07849149804 | F88: Aladghar.co@yahoo.com | G88: =TRIM(SUBSTITUTE(SUBSTITUTE(SUBSTITUTE(SUBSTITUTE(SUBSTITUTE(A88,"أ","ا"),"إ","ا"),"آ","ا"),"ة","ه"),"ى","ي")) -> الادخار للصرافه | H88: =HYPERLINK("#'تفاصيل الشركات'!A1010","عرض التفاصيل ←") -> عرض التفاصيل ←
A89: القارب للصرافة | B89: Al Qarib | C89: =COUNTIF('فروع وعناوين الشركات'!$G$2:$G$1113,G89) -> 3 | D89: A | E89: 7702630063 | F89: alqareb.excang@yahoo.com | G89: =TRIM(SUBSTITUTE(SUBSTITUTE(SUBSTITUTE(SUBSTITUTE(SUBSTITUTE(A89,"أ","ا"),"إ","ا"),"آ","ا"),"ة","ه"),"ى","ي")) -> القارب للصرافه | H89: =HYPERLINK("#'تفاصيل الشركات'!A1018","عرض التفاصيل ←") -> عرض التفاصيل ←
A90: هجرس الكميت للصرافة | B90: Hijras Al Kumayt | C90: =COUNTIF('فروع وعناوين الشركات'!$G$2:$G$1113,G90) -> 3 | D90: B | E90: 07733971797 / 07716833447 / 07700114466 | F90: kumayt@yahoo.com | G90: =TRIM(SUBSTITUTE(SUBSTITUTE(SUBSTITUTE(SUBSTITUTE(SUBSTITUTE(A90,"أ","ا"),"إ","ا"),"آ","ا"),"ة","ه"),"ى","ي")) -> هجرس الكميت للصرافه | H90: =HYPERLINK("#'تفاصيل الشركات'!A1026","عرض التفاصيل ←") -> عرض التفاصيل ←
A91: المناخ للصرافة | B91: Al Manakh | C91: =COUNTIF('فروع وعناوين الشركات'!$G$2:$G$1113,G91) -> 3 | D91: A | E91: 07803099849 / 07801314270 / 07832808030 | F91: info@almanakhex.iq | G91: =TRIM(SUBSTITUTE(SUBSTITUTE(SUBSTITUTE(SUBSTITUTE(SUBSTITUTE(A91,"أ","ا"),"إ","ا"),"آ","ا"),"ة","ه"),"ى","ي")) -> المناخ للصرافه | H91: =HYPERLINK("#'تفاصيل الشركات'!A1034","عرض التفاصيل ←") -> عرض التفاصيل ←
A92: الوهج للصرافة | B92: Al Wahaj | C92: =COUNTIF('فروع وعناوين الشركات'!$G$2:$G$1113,G92) -> 3 | D92: B | E92: 07833200003 / 07700056500 | F92: info@al-wahaj.com.iq | G92: =TRIM(SUBSTITUTE(SUBSTITUTE(SUBSTITUTE(SUBSTITUTE(SUBSTITUTE(A92,"أ","ا"),"إ","ا"),"آ","ا"),"ة","ه"),"ى","ي")) -> الوهج للصرافه | H92: =HYPERLINK("#'تفاصيل الشركات'!A1042","عرض التفاصيل ←") -> عرض التفاصيل ←
A93: الوطن للصرافة | B93: Al Watan | C93: =COUNTIF('فروع وعناوين الشركات'!$G$2:$G$1113,G93) -> 3 | D93: B | E93: 07711210768/ 07901686318 | F93: alwatan.exchange@gmail.com | G93: =TRIM(SUBSTITUTE(SUBSTITUTE(SUBSTITUTE(SUBSTITUTE(SUBSTITUTE(A93,"أ","ا"),"إ","ا"),"آ","ا"),"ة","ه"),"ى","ي")) -> الوطن للصرافه | H93: =HYPERLINK("#'تفاصيل الشركات'!A1050","عرض التفاصيل ←") -> عرض التفاصيل ←
A94: البراق للصرافة | B94: Al Buraq | C94: =COUNTIF('فروع وعناوين الشركات'!$G$2:$G$1113,G94) -> 3 | D94: B | E94: 7700228095 | F94: cftoffice@buraqexch.com.iq | G94: =TRIM(SUBSTITUTE(SUBSTITUTE(SUBSTITUTE(SUBSTITUTE(SUBSTITUTE(A94,"أ","ا"),"إ","ا"),"آ","ا"),"ة","ه"),"ى","ي")) -> البراق للصرافه | H94: =HYPERLINK("#'تفاصيل الشركات'!A1058","عرض التفاصيل ←") -> عرض التفاصيل ←
A95: اللبوة للصرافة | B95: Al Labwa | C95: =COUNTIF('فروع وعناوين الشركات'!$G$2:$G$1113,G95) -> 4 | D95: B | E95: 07706200506 / 07744989716 / 07822099364 / 07722993878 | F95: info@labowa.com.iq | G95: =TRIM(SUBSTITUTE(SUBSTITUTE(SUBSTITUTE(SUBSTITUTE(SUBSTITUTE(A95,"أ","ا"),"إ","ا"),"آ","ا"),"ة","ه"),"ى","ي")) -> اللبوه للصرافه | H95: =HYPERLINK("#'تفاصيل الشركات'!A1066","عرض التفاصيل ←") -> عرض التفاصيل ←
A96: الجادرية للصرافة | B96: Al Jadriya | C96: =COUNTIF('فروع وعناوين الشركات'!$G$2:$G$1113,G96) -> 2 | D96: B | E96: 07800000043 / 07823125700 | F96: aljadryaeaxghang@yahoo.com | G96: =TRIM(SUBSTITUTE(SUBSTITUTE(SUBSTITUTE(SUBSTITUTE(SUBSTITUTE(A96,"أ","ا"),"إ","ا"),"آ","ا"),"ة","ه"),"ى","ي")) -> الجادريه للصرافه | H96: =HYPERLINK("#'تفاصيل الشركات'!A1075","عرض التفاصيل ←") -> عرض التفاصيل ←
A97: الرزيم للصرافة | B97: Al Razeem | C97: =COUNTIF('فروع وعناوين الشركات'!$G$2:$G$1113,G97) -> 6 | D97: B | E97: 7733574416 | F97: ALRAZEEMCOEXCHANGE@GMAIL.COM | G97: =TRIM(SUBSTITUTE(SUBSTITUTE(SUBSTITUTE(SUBSTITUTE(SUBSTITUTE(A97,"أ","ا"),"إ","ا"),"آ","ا"),"ة","ه"),"ى","ي")) -> الرزيم للصرافه | H97: =HYPERLINK("#'تفاصيل الشركات'!A1082","عرض التفاصيل ←") -> عرض التفاصيل ←
A98: الجرف للصرافة | B98: Al Jurf | C98: =COUNTIF('فروع وعناوين الشركات'!$G$2:$G$1113,G98) -> 3 | D98: B | E98: 7700706370 | F98: al-jrof@yahoo.com | G98: =TRIM(SUBSTITUTE(SUBSTITUTE(SUBSTITUTE(SUBSTITUTE(SUBSTITUTE(A98,"أ","ا"),"إ","ا"),"آ","ا"),"ة","ه"),"ى","ي")) -> الجرف للصرافه | H98: =HYPERLINK("#'تفاصيل الشركات'!A1093","عرض التفاصيل ←") -> عرض التفاصيل ←
A99: الاحمد منغر للصرافة | B99: Al Ahmad Manghar | C99: =COUNTIF('فروع وعناوين الشركات'!$G$2:$G$1113,G99) -> 3 | D99: A | E99: 07727843567 / 07822422222 / 07722422222 | F99: alahmadmanger2021@gmail.com | G99: =TRIM(SUBSTITUTE(SUBSTITUTE(SUBSTITUTE(SUBSTITUTE(SUBSTITUTE(A99,"أ","ا"),"إ","ا"),"آ","ا"),"ة","ه"),"ى","ي")) -> الاحمد منغر للصرافه | H99: =HYPERLINK("#'تفاصيل الشركات'!A1101","عرض التفاصيل ←") -> عرض التفاصيل ←
A100: البنان للصرافة | B100: Al Banan | C100: =COUNTIF('فروع وعناوين الشركات'!$G$2:$G$1113,G100) -> 3 | D100: A | E100: 07714189690 / 07833000352 / 07733000352 | F100: info@albenan-ex.iq | G100: =TRIM(SUBSTITUTE(SUBSTITUTE(SUBSTITUTE(SUBSTITUTE(SUBSTITUTE(A100,"أ","ا"),"إ","ا"),"آ","ا"),"ة","ه"),"ى","ي")) -> البنان للصرافه | H100: =HYPERLINK("#'تفاصيل الشركات'!A1109","عرض التفاصيل ←") -> عرض التفاصيل ←
...

Sheet فروع وعناوين الشركات
A1: اسم الشركة | B1: الفئة | C1: حالة الفرع | D1: اسم الفرع | E1: المحافظة | F1: عنوان الفرع | G1: مفتاح_مطابقة
A2: الامارات للصرافة | B2: A | C2: مفتوح | D2: ابو غريب | E2: بغداد | F2: بغداد - ابو غريب - الشارع العام - مجاور جامع الرحمن | G2: =TRIM(SUBSTITUTE(SUBSTITUTE(SUBSTITUTE(SUBSTITUTE(SUBSTITUTE(A2,"أ","ا"),"إ","ا"),"آ","ا"),"ة","ه"),"ى","ي")) -> الامارات للصرافه
A3: الامارات للصرافة | B3: A | C3: مفتوح | D3: النجف | E3: النجف | F3: النجف الاشرف - شارع غدير الفرات - مجاور شركة نبراس | G3: =TRIM(SUBSTITUTE(SUBSTITUTE(SUBSTITUTE(SUBSTITUTE(SUBSTITUTE(A3,"أ","ا"),"إ","ا"),"آ","ا"),"ة","ه"),"ى","ي")) -> الامارات للصرافه
A4: الامارات للصرافة | B4: A | C4: مفتوح | D4: فرع الكرادة | E4: بغداد | F4: بغداد - الكرادة - الزوية - محلة 911 - شارع 24 - مبنى 28 - قرب نفق الجسر المعلق | G4: =TRIM(SUBSTITUTE(SUBSTITUTE(SUBSTITUTE(SUBSTITUTE(SUBSTITUTE(A4,"أ","ا"),"إ","ا"),"آ","ا"),"ة","ه"),"ى","ي")) -> الامارات للصرافه
A5: الامارات للصرافة | B5: A | C5: مفتوح | D5: المقر الرئيسي | E5: بغداد | F5: بغداد - كمب سارة - معسكر الرشيد - مجمع السامرائي | G5: =TRIM(SUBSTITUTE(SUBSTITUTE(SUBSTITUTE(SUBSTITUTE(SUBSTITUTE(A5,"أ","ا"),"إ","ا"),"آ","ا"),"ة","ه"),"ى","ي")) -> الامارات للصرافه
A6: ابابيل للصرافة | B6: B | C6: مفتوح | E6: بغداد | F6: بغداد - الرصافة - كرادة داخل/ محلة - البو جمعة-5/199 - رقم الابواب 48أ5 /6/5 (شارع الاورزدي القديم - قرب مدرسة الكميت) | G6: =TRIM(SUBSTITUTE(SUBSTITUTE(SUBSTITUTE(SUBSTITUTE(SUBSTITUTE(A6,"أ","ا"),"إ","ا"),"آ","ا"),"ة","ه"),"ى","ي")) -> ابابيل للصرافه
A7: ابابيل للصرافة | B7: B | C7: مفتوح | E7: بغداد | F7: بغداد - الرصافة - تسلسل عقار 1/5/9/46 المحلة/901 - شارع /12 - رقم الابواب 7/2 - مقاطعة البتاوين /مقابل ساحة كهرمانة - مجاور شركة شوفرليت | G7: =TRIM(SUBSTITUTE(SUBSTITUTE(SUBSTITUTE(SUBSTITUTE(SUBSTITUTE(A7,"أ","ا"),"إ","ا"),"آ","ا"),"ة","ه"),"ى","ي")) -> ابابيل للصرافه
A8: ابابيل للصرافة | B8: B | C8: مفتوح | E8: بغداد | F8: بغداد - السنك - شارع الجمهورية - رقم القطعة235 - محلة 104 - شارع رقم 1 - عمارة 1 | G8: =TRIM(SUBSTITUTE(SUBSTITUTE(SUBSTITUTE(SUBSTITUTE(SUBSTITUTE(A8,"أ","ا"),"إ","ا"),"آ","ا"),"ة","ه"),"ى","ي")) -> ابابيل للصرافه
A9: ابن الفرات | B9: C | C9: مفتوح | D9: المقر الرئيسي | E9: نينوى | F9: نينوى / الموصل / حي الجزائر / مقابل قريش للحوم / رقم القطعة 16/86 / اسم المحلة نينوى الشمالية | G9: =TRIM(SUBSTITUTE(SUBSTITUTE(SUBSTITUTE(SUBSTITUTE(SUBSTITUTE(A9,"أ","ا"),"إ","ا"),"آ","ا"),"ة","ه"),"ى","ي")) -> ابن الفرات
A10: اثمار الجنة للصرافة | B10: A | C10: مفتوح | D10: المقر الرئيسي | E10: بغداد | F10: بغداد الرصافة / تسلسل العقار ورقم القطعة / 372/ اسم المحلة او المقاطعة/ م3 وزيرية /رقم المحل أ- أ2-أ3-ب2/ شارع فلسطين/ ساحة بيروت | G10: =TRIM(SUBSTITUTE(SUBSTITUTE(SUBSTITUTE(SUBSTITUTE(SUBSTITUTE(A10,"أ","ا"),"إ","ا"),"آ","ا"),"ة","ه"),"ى","ي")) -> اثمار الجنه للصرافه
A11: اثمار الجنة للصرافة | B11: A | C11: مفتوح | D11: بغداد / المنصور | E11: بغداد | F11: بغداد / المنصور / شارع 14رمضان رقم القطعة 3/964 مقاطعة 20 داوي | G11: =TRIM(SUBSTITUTE(SUBSTITUTE(SUBSTITUTE(SUBSTITUTE(SUBSTITUTE(A11,"أ","ا"),"إ","ا"),"آ","ا"),"ة","ه"),"ى","ي")) -> اثمار الجنه للصرافه
A12: ارزو | B12: C | C12: مفتوح | D12: المقر الرئيسي | E12: بغداد | F12: بغداد - شارع النضال - قرب مستشفى ابن رشد - م/103 - مبنى 41 - رقم الابواب ح/13 | G12: =TRIM(SUBSTITUTE(SUBSTITUTE(SUBSTITUTE(SUBSTITUTE(SUBSTITUTE(A12,"أ","ا"),"إ","ا"),"آ","ا"),"ة","ه"),"ى","ي")) -> ارزو
A13: ارض السامر | B13: C | C13: مفتوح | D13: المقر الرئيسي | E13: نينوى | F13: الموصل المجموعة الثقافية /مقابل محطة تعبئة الثقافة | G13: =TRIM(SUBSTITUTE(SUBSTITUTE(SUBSTITUTE(SUBSTITUTE(SUBSTITUTE(A13,"أ","ا"),"إ","ا"),"آ","ا"),"ة","ه"),"ى","ي")) -> ارض السامر
A14: ارض السنان | B14: C | C14: مفتوح | D14: المقر الرئيسي | E14: بغداد | F14: بغداد / المنصور / شارع 14رمضان / تسلسل العقار / رقم القطعة 8/2930/ 20 داودي / رقم المحلة 601 / زقاق26 / عمارة الفهد / رقم المحل 3/ مجاور سيد الحليب . | G14: =TRIM(SUBSTITUTE(SUBSTITUTE(SUBSTITUTE(SUBSTITUTE(SUBSTITUTE(A14,"أ","ا"),"إ","ا"),"آ","ا"),"ة","ه"),"ى","ي")) -> ارض السنان
A15: ارض الفرات للصرافة | B15: A | C15: مفتوح | D15: المقر الرئيسي | E15: بغداد | F15: بغداد الكفاح مجاور سوق البورصة | G15: =TRIM(SUBSTITUTE(SUBSTITUTE(SUBSTITUTE(SUBSTITUTE(SUBSTITUTE(A15,"أ","ا"),"إ","ا"),"آ","ا"),"ة","ه"),"ى","ي")) -> ارض الفرات للصرافه
A16: اريحا للصرافة | B16: A | C16: مفتوح | E16: بغداد | F16: بغداد/الرصافة/شارع السعدون/م102/شارع 9/تسلسل العقار/رقم القطعة 1/230 اسم المحلة او مقاطعة بتاوين-مجاور شركة البوابة الوطنية | G16: =TRIM(SUBSTITUTE(SUBSTITUTE(SUBSTITUTE(SUBSTITUTE(SUBSTITUTE(A16,"أ","ا"),"إ","ا"),"آ","ا"),"ة","ه"),"ى","ي")) -> اريحا للصرافه
A17: اطلس العالمية للصرافة | B17: A | C17: مفتوح | D17: المقر الرئيسي | E17: بغداد | F17: محافظة بغداد/ الرصافة/ العرصات/ حي بابل/ م929/ ز7 / رقم البناية 21/ شارع 30 / تسلسل العقار 44/377 بتاوين / شارع العرصات | G17: =TRIM(SUBSTITUTE(SUBSTITUTE(SUBSTITUTE(SUBSTITUTE(SUBSTITUTE(A17,"أ","ا"),"إ","ا"),"آ","ا"),"ة","ه"),"ى","ي")) -> اطلس العالميه للصرافه
A18: اطلس العالمية للصرافة | B18: A | C18: مفتوح | D18: فرع الدورة | E18: بغداد | F18: بغداد/ الدورة/ شارع ابو طيارة/ قرب مدرسة بلادي | G18: =TRIM(SUBSTITUTE(SUBSTITUTE(SUBSTITUTE(SUBSTITUTE(SUBSTITUTE(A18,"أ","ا"),"إ","ا"),"آ","ا"),"ة","ه"),"ى","ي")) -> اطلس العالميه للصرافه
A19: اطلس العالمية للصرافة | B19: A | C19: مفتوح | D19: فرع صليخ | E19: بغداد | F19: بغداد / الرصافة/ الصليخ/ تقاطع صليخ/ مقابل العيادة الشعبية | G19: =TRIM(SUBSTITUTE(SUBSTITUTE(SUBSTITUTE(SUBSTITUTE(SUBSTITUTE(A19,"أ","ا"),"إ","ا"),"آ","ا"),"ة","ه"),"ى","ي")) -> اطلس العالميه للصرافه
A20: اطلس العالمية للصرافة | B20: A | C20: مفتوح | D20: فرع القادسية | E20: بغداد | F20: بغداد/ الكرخ/ القادسية/ قرب ساحة قحطان | G20: =TRIM(SUBSTITUTE(SUBSTITUTE(SUBSTITUTE(SUBSTITUTE(SUBSTITUTE(A20,"أ","ا"),"إ","ا"),"آ","ا"),"ة","ه"),"ى","ي")) -> اطلس العالميه للصرافه
A21: اطلس العالمية للصرافة | B21: A | C21: مفتوح | D21: فرع الجادرية | E21: بغداد | F21: بغداد/ الجادرية/ ساحة الحرية/ قرب محطة وقود الحرية/ مجاور مطعم الجندول | G21: =TRIM(SUBSTITUTE(SUBSTITUTE(SUBSTITUTE(SUBSTITUTE(SUBSTITUTE(A21,"أ","ا"),"إ","ا"),"آ","ا"),"ة","ه"),"ى","ي")) -> اطلس العالميه للصرافه
A22: اطلس العالمية للصرافة | B22: A | C22: مفتوح | D22: فرع كركوك | E22: كركوك | F22: كركوك / شارع الشورجة/ قرب مرطبات الريان | G22: =TRIM(SUBSTITUTE(SUBSTITUTE(SUBSTITUTE(SUBSTITUTE(SUBSTITUTE(A22,"أ","ا"),"إ","ا"),"آ","ا"),"ة","ه"),"ى","ي")) -> اطلس العالميه للصرافه
A23: افاق الفارس | B23: C | C23: مفتوح | D23: المقر الرئيسي | E23: البصرة | F23: البصرة /شارع الجزائر/حي الفرنسي/محلة308/زقاق 5/ رقم العقار 146/34 قرب مصرف الخليج التجاري مقابل مطعم جيكور | G23: =TRIM(SUBSTITUTE(SUBSTITUTE(SUBSTITUTE(SUBSTITUTE(SUBSTITUTE(A23,"أ","ا"),"إ","ا"),"آ","ا"),"ة","ه"),"ى","ي")) -> افاق الفارس
A24: افاق المستقبل | B24: C | C24: مفتوح | D24: المقر الرئيسي | E24: نينوى | F24: نينوى / الموصل / جامعة الموصل / قرب جامع احمد اسماعيل | G24: =TRIM(SUBSTITUTE(SUBSTITUTE(SUBSTITUTE(SUBSTITUTE(SUBSTITUTE(A24,"أ","ا"),"إ","ا"),"آ","ا"),"ة","ه"),"ى","ي")) -> افاق المستقبل
A25: افاق المعلم | B25: C | C25: مفتوح | D25: المقر الرئيسي | E25: الانبار | F25: الانبار / القائم / قرب جامع القائم الكبير- الشارع العام -العقار 1987 | G25: =TRIM(SUBSTITUTE(SUBSTITUTE(SUBSTITUTE(SUBSTITUTE(SUBSTITUTE(A25,"أ","ا"),"إ","ا"),"آ","ا"),"ة","ه"),"ى","ي")) -> افاق المعلم
A26: الابداع | B26: C | C26: مفتوح | D26: المقر الرئيسي | E26: البصرة | F26: محافظة البصرة /الزبير/ شارع ربيعة مجمع ماشاءالله التجاري | G26: =TRIM(SUBSTITUTE(SUBSTITUTE(SUBSTITUTE(SUBSTITUTE(SUBSTITUTE(A26,"أ","ا"),"إ","ا"),"آ","ا"),"ة","ه"),"ى","ي")) -> الابداع
A27: الابهة | B27: C | C27: مفتوح | D27: المقر الرئيسي | E27: البصرة | F27: البصرة/العشار/سوق الصياغ | G27: =TRIM(SUBSTITUTE(SUBSTITUTE(SUBSTITUTE(SUBSTITUTE(SUBSTITUTE(A27,"أ","ا"),"إ","ا"),"آ","ا"),"ة","ه"),"ى","ي")) -> الابهه
A28: الاتحاد | B28: C | C28: مفتوح | D28: المقر الرئيسي | E28: البصرة | F28: البصرة الجزائر سوق الخيمة | G28: =TRIM(SUBSTITUTE(SUBSTITUTE(SUBSTITUTE(SUBSTITUTE(SUBSTITUTE(A28,"أ","ا"),"إ","ا"),"آ","ا"),"ة","ه"),"ى","ي")) -> الاتحاد
... A56: الاسوار للصرافة | B56: A | C56: مفتوح | D56: المقر الرئيسي | E56: بغداد | F56: المقر الرئيسي/ بغداد - الرصافة - الكرادة - العرصات - رقم القطعة (332/336) اسم المقاطعة/البو جمعة / رقم الأبواب 603أ /1 / مجاور مزاج سنتر | G56: =TRIM(SUBSTITUTE(SUBSTITUTE(SUBSTITUTE(SUBSTITUTE(SUBSTITUTE(A56,"أ","ا"),"إ","ا"),"آ","ا"),"ة","ه"),"ى","ي")) -> الاسوار للصرافه
A57: الاسوار للصرافة | B57: A | C57: مفتوح | E57: واسط | F57: فرع الكوت العزيزية / محافظة واسط - قضاء العزيزية - تسلسل العقار رقم القطعة 32 - اسم المحلة او المقاطعة السراي - رقم الابواب 1 - قرب محكمة بداءة العزيزية | G57: =TRIM(SUBSTITUTE(SUBSTITUTE(SUBSTITUTE(SUBSTITUTE(SUBSTITUTE(A57,"أ","ا"),"إ","ا"),"آ","ا"),"ة","ه"),"ى","ي")) -> الاسوار للصرافه
A58: الاسوار للصرافة | B58: A | C58: مفتوح | E58: كربلاء | F58: كربلاء حي الحسين شارع حيدر الكرار مجاور مول العفاف | G58: =TRIM(SUBSTITUTE(SUBSTITUTE(SUBSTITUTE(SUBSTITUTE(SUBSTITUTE(A58,"أ","ا"),"إ","ا"),"آ","ا"),"ة","ه"),"ى","ي")) -> الاسوار للصرافه
A59: الاشقر | B59: C | C59: مفتوح | D59: المقر الرئيسي | E59: بغداد | F59: بغداد - زيونة - شارع الربيعي - شارع 15- م 714 - رقم البناية 102- رقم المحل 102 /2 . | G59: =TRIM(SUBSTITUTE(SUBSTITUTE(SUBSTITUTE(SUBSTITUTE(SUBSTITUTE(A59,"أ","ا"),"إ","ا"),"آ","ا"),"ة","ه"),"ى","ي")) -> الاشقر
A60: الاعتزاز | B60: C | C60: مفتوح | D60: المقر الرئيسي | E60: بغداد | F60: بغداد/كرادة-كمب سارة، شارع /شارع 65-الشارع الرئيسي لمنطقة كمب سارة ،م/910 العمارة /مبنى 47-رقم الابواب 52ا/1/30 كمب الارمن، اقرب مصرف الثقة الدولي الاسلامي اقرب نقطة دالة مدرسة القيروان الابتدائية | G60: =TRIM(SUBSTITUTE(SUBSTITUTE(SUBSTITUTE(SUBSTITUTE(SUBSTITUTE(A60,"أ","ا"),"إ","ا"),"آ","ا"),"ة","ه"),"ى","ي")) -> الاعتزاز
A61: الاقصر للصرافة | B61: A | C61: مفتوح | D61: المقر الرئيسي | E61: بغداد | F61: بغداد /كرادة خارج م/929 مقابل أسواق الوردة وشركة نيسان للسيارات | G61: =TRIM(SUBSTITUTE(SUBSTITUTE(SUBSTITUTE(SUBSTITUTE(SUBSTITUTE(A61,"أ","ا"),"إ","ا"),"آ","ا"),"ة","ه"),"ى","ي")) -> الاقصر للصرافه
A62: الاقصى | B62: C | C62: مفتوح | D62: المقر الرئيسي | E62: كركوك | F62: كركوك / شارع الجمهورية / منطقة شاطر لو / الماس | G62: =TRIM(SUBSTITUTE(SUBSTITUTE(SUBSTITUTE(SUBSTITUTE(SUBSTITUTE(A62,"أ","ا"),"إ","ا"),"آ","ا"),"ة","ه"),"ى","ي")) -> الاقصي
A63: الاقمار للصرافة | B63: B | C63: مفتوح | D63: الكوت | E63: واسط | F63: واسط /الكوت/تسلسل العقار 167/372 السراي شارع الإطارات | G63: =TRIM(SUBSTITUTE(SUBSTITUTE(SUBSTITUTE(SUBSTITUTE(SUBSTITUTE(A63,"أ","ا"),"إ","ا"),"آ","ا"),"ة","ه"),"ى","ي")) -> الاقمار للصرافه
A64: الاقمار للصرافة | B64: B | C64: مفتوح | D64: الكوت | E64: واسط | F64: واسط /الكوت/ساحة العامل/مقابل مول دبي | G64: =TRIM(SUBSTITUTE(SUBSTITUTE(SUBSTITUTE(SUBSTITUTE(SUBSTITUTE(A64,"أ","ا"),"إ","ا"),"آ","ا"),"ة","ه"),"ى","ي")) -> الاقمار للصرافه
A65: الاقمار للصرافة | B65: B | C65: مفتوح | D65: الكوت | E65: واسط | F65: واسط /الكوت /الحاوي | G65: =TRIM(SUBSTITUTE(SUBSTITUTE(SUBSTITUTE(SUBSTITUTE(SUBSTITUTE(A65,"أ","ا"),"إ","ا"),"آ","ا"),"ة","ه"),"ى","ي")) -> الاقمار للصرافه
A66: الاقمار للصرافة | B66: B | C66: مفتوح | D66: الناصرية | E66: ذي قار | F66: ذي قار/الناصرية/صوب الشامية/شارع المحطة/ مقابل مكسي مول | G66: =TRIM(SUBSTITUTE(SUBSTITUTE(SUBSTITUTE(SUBSTITUTE(SUBSTITUTE(A66,"أ","ا"),"إ","ا"),"آ","ا"),"ة","ه"),"ى","ي")) -> الاقمار للصرافه
A67: الالباب | B67: C | C67: مفتوح | D67: المقر الرئيسي | E67: البصرة | F67: البصرة/قضاء الزبير/داخل مجمع ما شاء الله التجاري | G67: =TRIM(SUBSTITUTE(SUBSTITUTE(SUBSTITUTE(SUBSTITUTE(SUBSTITUTE(A67,"أ","ا"),"إ","ا"),"آ","ا"),"ة","ه"),"ى","ي")) -> الالباب
A68: الالوان | B68: C | C68: مفتوح | D68: المقر الرئيسي | E68: نينوى | F68: الموصل-باب سنجار-سوق الكمرك | G68: =TRIM(SUBSTITUTE(SUBSTITUTE(SUBSTITUTE(SUBSTITUTE(SUBSTITUTE(A68,"أ","ا"),"إ","ا"),"آ","ا"),"ة","ه"),"ى","ي")) -> الالوان
A69: الامصار للصرافة | B69: B | C69: مفتوح | E69: بغداد | F69: بغداد /الرصافة /تسلسل العقار رقم القطعة /332/933 أسم المحلة او المقاطعة البو جمعة /عرصات الهندية /مقابل مستشفى عرصات الهندية | G69: =TRIM(SUBSTITUTE(SUBSTITUTE(SUBSTITUTE(SUBSTITUTE(SUBSTITUTE(A69,"أ","ا"),"إ","ا"),"آ","ا"),"ة","ه"),"ى","ي")) -> الامصار للصرافه
A70: الانام | B70: C | C70: مفتوح | D70: المقر الرئيسي | E70: البصرة | F70: العراق - البصرة - العشار - سوق الخضارة | G70: =TRIM(SUBSTITUTE(SUBSTITUTE(SUBSTITUTE(SUBSTITUTE(SUBSTITUTE(A70,"أ","ا"),"إ","ا"),"آ","ا"),"ة","ه"),"ى","ي")) -> الانام
A71: الانام للصرافة | B71: A | C71: مفتوح | E71: بغداد | F71: بغداد الرصافة تسلسل العقار 1706/6 م11 مزرعة حمدي بداية شارع الصناعة م 906 ز2 عمارة الشارقة التجارية قرب مصرف امين العراق الاسلامي | G71: =TRIM(SUBSTITUTE(SUBSTITUTE(SUBSTITUTE(SUBSTITUTE(SUBSTITUTE(A71,"أ","ا"),"إ","ا"),"آ","ا"),"ة","ه"),"ى","ي")) -> الانام للصرافه
A72: الانامل للصرافة | B72: A | C72: مفتوح | D72: المقر الرئيسي | E72: بغداد | F72: بغداد/ الكرادة شارع 52/ بتاوين/ رقم القطعة 306/223/ م 904/ ز 40/ 2/7/ شارع 52 مقابل مركز شرطة العلوية | G72: =TRIM(SUBSTITUTE(SUBSTITUTE(SUBSTITUTE(SUBSTITUTE(SUBSTITUTE(A72,"أ","ا"),"إ","ا"),"آ","ا"),"ة","ه"),"ى","ي")) -> الانامل للصرافه
A73: الانامل للصرافة | B73: A | C73: مفتوح | D73: فرع الاعظمية | E73: بغداد | F73: بغداد/ الاعظمية/ شارع الامام الاعظم/ رقم العقار 167/39 / مقاطعة المنصة/ رقم الابواب 22 ه 16 | G73: =TRIM(SUBSTITUTE(SUBSTITUTE(SUBSTITUTE(SUBSTITUTE(SUBSTITUTE(A73,"أ","ا"),"إ","ا"),"آ","ا"),"ة","ه"),"ى","ي")) -> الانامل للصرافه
A74: الانامل للصرافة | B74: A | C74: مفتوح | D74: فرع مول الحارثية | E74: بغداد | F74: بغداد/ الكرخ/ شارع الكندي/ مشروع بغداد مول الحارثية/ م 211/ ز 11/ رقم 14/ 1 طابق السرداب / رقم المحل BK-8 | G74: =TRIM(SUBSTITUTE(SUBSTITUTE(SUBSTITUTE(SUBSTITUTE(SUBSTITUTE(A74,"أ","ا"),"إ","ا"),"آ","ا"),"ة","ه"),"ى","ي")) -> الانامل للصرافه
A75: الانامل للصرافة | B75: A | C75: مفتوح | D75: فرع مول زيونة | E75: بغداد | F75: بغداد / مول زيونة / الطابق الأول | G75: =TRIM(SUBSTITUTE(SUBSTITUTE(SUBSTITUTE(SUBSTITUTE(SUBSTITUTE(A75,"أ","ا"),"إ","ا"),"آ","ا"),"ة","ه"),"ى","ي")) -> الانامل للصرافه
A76: الانامل للصرافة | B76: A | C76: مفتوح | D76: فرع البصرة | E76: البصرة | F76: البصرة/ شارع الجزائر/ تسلسل العقار/ رقم القطعة 75/145/ اسم المحلة 1 الفرسي مجاور شنشل مول مقابل مصرف جيهان | G76: =TRIM(SUBSTITUTE(SUBSTITUTE(SUBSTITUTE(SUBSTITUTE(SUBSTITUTE(A76,"أ","ا"),"إ","ا"),"آ","ا"),"ة","ه"),"ى","ي")) -> الانامل للصرافه
A77: الانامل للصرافة | B77: A | C77: مفتوح | D77: فرع النجف | E77: النجف | F77: النجف/ مقاطعة الامير/ شارع التربية/ رقم القطعة 2/359/ مقابل معهد فورد للغات | G77: =TRIM(SUBSTITUTE(SUBSTITUTE(SUBSTITUTE(SUBSTITUTE(SUBSTITUTE(A77,"أ","ا"),"إ","ا"),"آ","ا"),"ة","ه"),"ى","ي")) -> الانامل للصرافه
A78: الانامل للصرافة | B78: A | C78: مفتوح | D78: فرع هيت | E78: الانبار | F78: الانبار/ هيت/ تسلسل العقار 133/24- مقاطعة 2 المعبديات وحمادي مقابل مركز شرطة هيت | G78: =TRIM(SUBSTITUTE(SUBSTITUTE(SUBSTITUTE(SUBSTITUTE(SUBSTITUTE(A78,"أ","ا"),"إ","ا"),"آ","ا"),"ة","ه"),"ى","ي")) -> الانامل للصرافه
A79: الانبار | B79: C | C79: مفتوح | D79: المقر الرئيسي | E79: الانبار | F79: محافظة الانبار الرمادي الشارع العام مجاور مصرف الرشيد | G79: =TRIM(SUBSTITUTE(SUBSTITUTE(SUBSTITUTE(SUBSTITUTE(SUBSTITUTE(A79,"أ","ا"),"إ","ا"),"آ","ا"),"ة","ه"),"ى","ي")) -> الانبار
A80: الانتظار للصرافة | B80: B | C80: مفتوح | D80: المقر الرئيسي | E80: بغداد | F80: بغداد - شارع فلسطين - حي المستنصرية - محلة 502 - شارع 13 قرب النادي التركماني | G80: =TRIM(SUBSTITUTE(SUBSTITUTE(SUBSTITUTE(SUBSTITUTE(SUBSTITUTE(A80,"أ","ا"),"إ","ا"),"آ","ا"),"ة","ه"),"ى","ي")) -> الانتظار للصرافه
A81: الانتظار للصرافة | B81: B | C81: مفتوح | D81: الانتظار | E81: بغداد | F81: بغداد - حي الكفاح - م125 ز5 الابواب 164/43 | G81: =TRIM(SUBSTITUTE(SUBSTITUTE(SUBSTITUTE(SUBSTITUTE(SUBSTITUTE(A81,"أ","ا"),"إ","ا"),"آ","ا"),"ة","ه"),"ى","ي")) -> الانتظار للصرافه
A82: الانتظار للصرافة | B82: B | C82: مفتوح | D82: الاترجة | E82: كركوك | F82: كركوك - الحديدين رقم العقار 59/22 | G82: =TRIM(SUBSTITUTE(SUBSTITUTE(SUBSTITUTE(SUBSTITUTE(SUBSTITUTE(A82,"أ","ا"),"إ","ا"),"آ","ا"),"ة","ه"),"ى","ي")) -> الانتظار للصرافه
A83: الانتظار للصرافة | B83: B | C83: مفتوح | D83: الشعائر | E83: كركوك | F83: كركوك - شارع التربية القديمة | G83: =TRIM(SUBSTITUTE(SUBSTITUTE(SUBSTITUTE(SUBSTITUTE(SUBSTITUTE(A83,"أ","ا"),"إ","ا"),"آ","ا"),"ة","ه"),"ى","ي")) -> الانتظار للصرافه
... A138: البلاد للصرافة | B138: B | C138: مفتوح | D138: المقر الرئيسي | E138: بغداد | F138: بغداد - الرصافة- تسلسل العقار رقم القطعة (6/474) مقاطعة 26 هيبت خاتون- الطابق الارضيG4 والطابق الأول 1F2والطابق 1F7 | G138: =TRIM(SUBSTITUTE(SUBSTITUTE(SUBSTITUTE(SUBSTITUTE(SUBSTITUTE(A138,"أ","ا"),"إ","ا"),"آ","ا"),"ة","ه"),"ى","ي")) -> البلاد للصرافه
A139: البلاد للصرافة | B139: B | C139: مفتوح | D139: البلاد | F139: تم غلقها بعد حصلت الموافقة على إعادة فتحتها في مقر الشركة الام لممارسة نشاط التوسط | G139: =TRIM(SUBSTITUTE(SUBSTITUTE(SUBSTITUTE(SUBSTITUTE(SUBSTITUTE(A139,"أ","ا"),"إ","ا"),"آ","ا"),"ة","ه"),"ى","ي")) -> البلاد للصرافه
A140: البلاد للصرافة | B140: B | C140: مفتوح | D140: البيت | E140: بغداد | F140: بغداد-المنصور-شارع 14 رمضان قرب الاقواس | G140: =TRIM(SUBSTITUTE(SUBSTITUTE(SUBSTITUTE(SUBSTITUTE(SUBSTITUTE(A140,"أ","ا"),"إ","ا"),"آ","ا"),"ة","ه"),"ى","ي")) -> البلاد للصرافه
A141: البلاد للصرافة | B141: B | C141: مفتوح | D141: مضايا | E141: بغداد | F141: بغداد / الكرخ / المنصور/ شارع 14 رمضان/تسلسل العقار رقم القطعة 1301/7 - اسم المحلة او المقاطعة 20داودي / رقم الأبواب 91 ج2 /19 - مقابل مصرف البركة التركي. | G141: =TRIM(SUBSTITUTE(SUBSTITUTE(SUBSTITUTE(SUBSTITUTE(SUBSTITUTE(A141,"أ","ا"),"إ","ا"),"آ","ا"),"ة","ه"),"ى","ي")) -> البلاد للصرافه
A142: البلال | B142: C | C142: مفتوح | D142: المقر الرئيسي | E142: نينوى | F142: الموصل/ شارع الكورنيش - عمارة شيرين عسل | G142: =TRIM(SUBSTITUTE(SUBSTITUTE(SUBSTITUTE(SUBSTITUTE(SUBSTITUTE(A142,"أ","ا"),"إ","ا"),"آ","ا"),"ة","ه"),"ى","ي")) -> البلال
A143: البلام للصرافة | B143: A | C143: مفتوح | E143: بغداد | F143: بغدادالكرخ رقم القطعة 1536/8 المقاطعة 20 داودي قرب برج بغداد مقابل ماركت التفاح الاخضر | G143: =TRIM(SUBSTITUTE(SUBSTITUTE(SUBSTITUTE(SUBSTITUTE(SUBSTITUTE(A143,"أ","ا"),"إ","ا"),"آ","ا"),"ة","ه"),"ى","ي")) -> البلام للصرافه
A144: البلقاء | B144: C | C144: مفتوح | D144: المقر الرئيسي | E144: بغداد | F144: بغداد/الحارثية /مقابل معرض بغداد الدولي | G144: =TRIM(SUBSTITUTE(SUBSTITUTE(SUBSTITUTE(SUBSTITUTE(SUBSTITUTE(A144,"أ","ا"),"إ","ا"),"آ","ا"),"ة","ه"),"ى","ي")) -> البلقاء
A145: البنان للصرافة | B145: A | C145: مفتوح | D145: المقر الرئيسي | E145: بغداد | F145: بغداد شارع فلسطين مجاور جسر ساحة بيروت | G145: =TRIM(SUBSTITUTE(SUBSTITUTE(SUBSTITUTE(SUBSTITUTE(SUBSTITUTE(A145,"أ","ا"),"إ","ا"),"آ","ا"),"ة","ه"),"ى","ي")) -> البنان للصرافه
A146: البنان للصرافة | B146: A | C146: مفتوح | D146: السيدية | E146: بغداد | F146: السيدية بناية ماركت عنب شارع البدالة | G146: =TRIM(SUBSTITUTE(SUBSTITUTE(SUBSTITUTE(SUBSTITUTE(SUBSTITUTE(A146,"أ","ا"),"إ","ا"),"آ","ا"),"ة","ه"),"ى","ي")) -> البنان للصرافه
A147: البنان للصرافة | B147: A | C147: مفتوح | E147: بغداد | F147: بغداد / الشعب / شوق شلال1/3727 | G147: =TRIM(SUBSTITUTE(SUBSTITUTE(SUBSTITUTE(SUBSTITUTE(SUBSTITUTE(A147,"أ","ا"),"إ","ا"),"آ","ا"),"ة","ه"),"ى","ي")) -> البنان للصرافه
A148: البنفسج | B148: C | C148: مفتوح | D148: المقر الرئيسي | G148: =TRIM(SUBSTITUTE(SUBSTITUTE(SUBSTITUTE(SUBSTITUTE(SUBSTITUTE(A148,"أ","ا"),"إ","ا"),"آ","ا"),"ة","ه"),"ى","ي")) -> البنفسج
A149: البهاء | B149: C | C149: مفتوح | D149: المقر الرئيسي | E149: بغداد | F149: بغداد/ الحارثية/ مقابل معرض بغداد الدولي/ عمارة الكاظمي/ الطابق الثاني/ شقة 22/26 | G149: =TRIM(SUBSTITUTE(SUBSTITUTE(SUBSTITUTE(SUBSTITUTE(SUBSTITUTE(A149,"أ","ا"),"إ","ا"),"آ","ا"),"ة","ه"),"ى","ي")) -> البهاء
A150: البيارق للصرافة | B150: B | C150: مفتوح | D150: المقر الرئيسي | E150: بغداد | F150: بغداد/ تسلسل العقار رقم القطعة 62/222 بتاوين اسم المحلة او المقاطعة م904-رقم الابواب 19 أ/21/2 | G150: =TRIM(SUBSTITUTE(SUBSTITUTE(SUBSTITUTE(SUBSTITUTE(SUBSTITUTE(A150,"أ","ا"),"إ","ا"),"آ","ا"),"ة","ه"),"ى","ي")) -> البيارق للصرافه
A151: البيارق للصرافة | B151: B | C151: مفتوح | D151: ألوتد | E151: كربلاء | F151: كربلاء/العباسية/شارع الجمهورية/ رقم العقار3/121 م 83 عباسية/سوق البورصة | G151: =TRIM(SUBSTITUTE(SUBSTITUTE(SUBSTITUTE(SUBSTITUTE(SUBSTITUTE(A151,"أ","ا"),"إ","ا"),"آ","ا"),"ة","ه"),"ى","ي")) -> البيارق للصرافه
A152: البيارق للصرافة | B152: B | C152: مفتوح | D152: الذات | E152: بغداد | F152: بغداد/الشورجة/شارع السمؤل/عمارة خان الباشا الكبير/رقم المحل 17هـ/19/240 | G152: =TRIM(SUBSTITUTE(SUBSTITUTE(SUBSTITUTE(SUBSTITUTE(SUBSTITUTE(A152,"أ","ا"),"إ","ا"),"آ","ا"),"ة","ه"),"ى","ي")) -> البيارق للصرافه
A153: البيارق للصرافة | B153: B | C153: مفتوح | D153: الاتفاق | E153: بغداد | F153: بغداد/الشورجة/شارع السمؤل/عمارة عمارة وقف العقار 639 باب الاغا المحل /3/ مجاور شارع النهر/وخان مرجان | G153: =TRIM(SUBSTITUTE(SUBSTITUTE(SUBSTITUTE(SUBSTITUTE(SUBSTITUTE(A153,"أ","ا"),"إ","ا"),"آ","ا"),"ة","ه"),"ى","ي")) -> البيارق للصرافه
A154: البيارق للصرافة | B154: B | C154: مفتوح | D154: الباسل | E154: بغداد | F154: بغداد/شارع الكفاح/قرب مصرف سومر | G154: =TRIM(SUBSTITUTE(SUBSTITUTE(SUBSTITUTE(SUBSTITUTE(SUBSTITUTE(A154,"أ","ا"),"إ","ا"),"آ","ا"),"ة","ه"),"ى","ي")) -> البيارق للصرافه
A155: التاج | B155: C | C155: مفتوح | D155: المقر الرئيسي | E155: البصرة | F155: البصرة /عشتار /شارع الكويت مجاور الجنسية سابقاً | G155: =TRIM(SUBSTITUTE(SUBSTITUTE(SUBSTITUTE(SUBSTITUTE(SUBSTITUTE(A155,"أ","ا"),"إ","ا"),"آ","ا"),"ة","ه"),"ى","ي")) -> التاج
A156: التاميم | B156: C | C156: مفتوح | D156: المقر الرئيسي | E156: كركوك | F156: كركوك /طريق بغداد / مجاور محطة بابا كركر | G156: =TRIM(SUBSTITUTE(SUBSTITUTE(SUBSTITUTE(SUBSTITUTE(SUBSTITUTE(A156,"أ","ا"),"إ","ا"),"آ","ا"),"ة","ه"),"ى","ي")) -> التاميم
A157: التأخي | B157: C | C157: مفتوح | D157: المقر الرئيسي | E157: كركوك | F157: كركوك - طريق السليمانية - قرب كراج الشمال | G157: =TRIM(SUBSTITUTE(SUBSTITUTE(SUBSTITUTE(SUBSTITUTE(SUBSTITUTE(A157,"أ","ا"),"إ","ا"),"آ","ا"),"ة","ه"),"ى","ي")) -> التاخي
A158: التبر | B158: C | C158: مفتوح | D158: المقر الرئيسي | E158: بغداد | F158: بغداد - حي الوحدة | G158: =TRIM(SUBSTITUTE(SUBSTITUTE(SUBSTITUTE(SUBSTITUTE(SUBSTITUTE(A158,"أ","ا"),"إ","ا"),"آ","ا"),"ة","ه"),"ى","ي")) -> التبر
A159: التحرير | B159: C | C159: مفتوح | D159: المقر الرئيسي | E159: بغداد | F159: بغداد- شارع فلسطين | G159: =TRIM(SUBSTITUTE(SUBSTITUTE(SUBSTITUTE(SUBSTITUTE(SUBSTITUTE(A159,"أ","ا"),"إ","ا"),"آ","ا"),"ة","ه"),"ى","ي")) -> التحرير
A160: التسليم | B160: C | C160: مفتوح | D160: المقر الرئيسي | E160: الانبار | F160: الانبار / هيت / رقم القطعة 2214/25 / مقاطعة 4 / المعمورة وجرورة | G160: =TRIM(SUBSTITUTE(SUBSTITUTE(SUBSTITUTE(SUBSTITUTE(SUBSTITUTE(A160,"أ","ا"),"إ","ا"),"آ","ا"),"ة","ه"),"ى","ي")) -> التسليم
... A163: التهاني | B163: C | C163: مفتوح | D163: المقر الرئيسي | E163: ذي قار | F163: ذي قار/الناصرية/صوب الشامية/شارع الامام علي/قرب مصرف بغداد | G163: =TRIM(SUBSTITUTE(SUBSTITUTE(SUBSTITUTE(SUBSTITUTE(SUBSTITUTE(A163,"أ","ا"),"إ","ا"),"آ","ا"),"ة","ه"),"ى","ي")) -> التهاني
A164: التوازن للصرافة | B164: A | C164: مفتوح | E164: بغداد | F164: بغداد الكرادة خارج مقابل شارع العطار قرب مصرف الثقة | G164: =TRIM(SUBSTITUTE(SUBSTITUTE(SUBSTITUTE(SUBSTITUTE(SUBSTITUTE(A164,"أ","ا"),"إ","ا"),"آ","ا"),"ة","ه"),"ى","ي")) -> التوازن للصرافه
A165: التوت | B165: C | C165: مفتوح | D165: المقر الرئيسي | E165: بغداد | F165: بغداد / السعدون -م/101-ز/9-مبنى/114- رقم الأبواب 85ن26 ب/3- مقابل فندق بغداد. | G165: =TRIM(SUBSTITUTE(SUBSTITUTE(SUBSTITUTE(SUBSTITUTE(SUBSTITUTE(A165,"أ","ا"),"إ","ا"),"آ","ا"),"ة","ه"),"ى","ي")) -> التوت
A166: التون | B166: C | C166: مفتوح | D166: المقر الرئيسي | E166: كركوك | F166: كركوك - مصلى - حي جقور - عمارة خان الكبير | G166: =TRIM(SUBSTITUTE(SUBSTITUTE(SUBSTITUTE(SUBSTITUTE(SUBSTITUTE(A166,"أ","ا"),"إ","ا"),"آ","ا"),"ة","ه"),"ى","ي")) -> التون
A167: الثاقب للصرافة | B167: B | C167: مفتوح | D167: المقر الرئيسي | E167: بغداد | F167: بصدد إيجاد مقر | G167: =TRIM(SUBSTITUTE(SUBSTITUTE(SUBSTITUTE(SUBSTITUTE(SUBSTITUTE(A167,"أ","ا"),"إ","ا"),"آ","ا"),"ة","ه"),"ى","ي")) -> الثاقب للصرافه
A168: الثاقب للصرافة | B168: B | C168: مفتوح | D168: الغسق | E168: البصرة | F168: البصرة-العشار-شارع الكويت-مقابل الجنسية | G168: =TRIM(SUBSTITUTE(SUBSTITUTE(SUBSTITUTE(SUBSTITUTE(SUBSTITUTE(A168,"أ","ا"),"إ","ا"),"آ","ا"),"ة","ه"),"ى","ي")) -> الثاقب للصرافه
A169: الثاقب للصرافة | B169: B | C169: مفتوح | D169: الزورق | E169: البصرة | F169: البصرة-شارع الكويت | G169: =TRIM(SUBSTITUTE(SUBSTITUTE(SUBSTITUTE(SUBSTITUTE(SUBSTITUTE(A169,"أ","ا"),"إ","ا"),"آ","ا"),"ة","ه"),"ى","ي")) -> الثاقب للصرافه
A170: الثائب | B170: C | C170: مفتوح | D170: المقر الرئيسي | E170: بغداد | F170: بغداد - زيونة - بناية احمد سنتر / محل رقم6 | G170: =TRIM(SUBSTITUTE(SUBSTITUTE(SUBSTITUTE(SUBSTITUTE(SUBSTITUTE(A170,"أ","ا"),"إ","ا"),"آ","ا"),"ة","ه"),"ى","ي")) -> الثائب
A171: الثائر | B171: C | C171: مفتوح | D171: المقر الرئيسي | E171: كركوك | F171: كركوك طريق بغداد مقابل الاصلاح الزراعي | G171: =TRIM(SUBSTITUTE(SUBSTITUTE(SUBSTITUTE(SUBSTITUTE(SUBSTITUTE(A171,"أ","ا"),"إ","ا"),"آ","ا"),"ة","ه"),"ى","ي")) -> الثائر
A172: الثراء للصرافة | B172: A | C172: مفتوح | D172: المقر الرئيسي | E172: نينوى | F172: الموصل - حي المهندس - قرب القوارير | G172: =TRIM(SUBSTITUTE(SUBSTITUTE(SUBSTITUTE(SUBSTITUTE(SUBSTITUTE(A172,"أ","ا"),"إ","ا"),"آ","ا"),"ة","ه"),"ى","ي")) -> الثراء للصرافه
A173: الثراء للصرافة | B173: A | C173: مفتوح | E173: نينوى | F173: نينوى - الموصل - حي النور - البنك المركزي العراقي فرع الموصل | G173: =TRIM(SUBSTITUTE(SUBSTITUTE(SUBSTITUTE(SUBSTITUTE(SUBSTITUTE(A173,"أ","ا"),"إ","ا"),"آ","ا"),"ة","ه"),"ى","ي")) -> الثراء للصرافه
A174: الثراء للصرافة | B174: A | C174: مفتوح | E174: نينوى | F174: نينوى - الموصل - شارع الزهور -- عمارة عزيز شيخ فتحي | G174: =TRIM(SUBSTITUTE(SUBSTITUTE(SUBSTITUTE(SUBSTITUTE(SUBSTITUTE(A174,"أ","ا"),"إ","ا"),"آ","ا"),"ة","ه"),"ى","ي")) -> الثراء للصرافه
A175: الثراء للصرافة | B175: A | C175: مفتوح | E175: نينوى | F175: نينوى - الموصل - الفيصلية - مجمع جواهر | G175: =TRIM(SUBSTITUTE(SUBSTITUTE(SUBSTITUTE(SUBSTITUTE(SUBSTITUTE(A175,"أ","ا"),"إ","ا"),"آ","ا"),"ة","ه"),"ى","ي")) -> الثراء للصرافه
A176: الثراء للصرافة | B176: A | C176: مفتوح | E176: نينوى | F176: نينوى - حي الفيصلية - قرب الجسر القديم | G176: =TRIM(SUBSTITUTE(SUBSTITUTE(SUBSTITUTE(SUBSTITUTE(SUBSTITUTE(A176,"أ","ا"),"إ","ا"),"آ","ا"),"ة","ه"),"ى","ي")) -> الثراء للصرافه
A177: الثراء للصرافة | B177: A | C177: مفتوح | E177: نينوى | F177: نينوى - الموصل - حي الزهور | G177: =TRIM(SUBSTITUTE(SUBSTITUTE(SUBSTITUTE(SUBSTITUTE(SUBSTITUTE(A177,"أ","ا"),"إ","ا"),"آ","ا"),"ة","ه"),"ى","ي")) -> الثراء للصرافه
A178: الثراء للصرافة | B178: A | C178: مفتوح | E178: نينوى | F178: نينوى - الموصل - الفيصلية | G178: =TRIM(SUBSTITUTE(SUBSTITUTE(SUBSTITUTE(SUBSTITUTE(SUBSTITUTE(A178,"أ","ا"),"إ","ا"),"آ","ا"),"ة","ه"),"ى","ي")) -> الثراء للصرافه
A179: الثمين | B179: C | C179: مفتوح | D179: المقر الرئيسي | E179: كركوك | F179: كركوك-طريق بغداد- قرب محطة بابا كركر | G179: =TRIM(SUBSTITUTE(SUBSTITUTE(SUBSTITUTE(SUBSTITUTE(SUBSTITUTE(A179,"أ","ا"),"إ","ا"),"آ","ا"),"ة","ه"),"ى","ي")) -> الثمين
A180: الجادرية للصرافة | B180: B | C180: مفتوح | D180: المقر الرئيسي | E180: النجف | F180: الادارة العامة/ النجف -حي الامير/ شارع الروان -تقاطع الصيرفات-رقم القطعة 180/2 حي الامير | G180: =TRIM(SUBSTITUTE(SUBSTITUTE(SUBSTITUTE(SUBSTITUTE(SUBSTITUTE(A180,"أ","ا"),"إ","ا"),"آ","ا"),"ة","ه"),"ى","ي")) -> الجادريه للصرافه
A181: الجادرية للصرافة | B181: B | C181: مفتوح | D181: الجادرية للصرافة الفرع الاول | E181: النجف | F181: الفرع الاول / النجف / حي الامير - شارع الصيرفات | G181: =TRIM(SUBSTITUTE(SUBSTITUTE(SUBSTITUTE(SUBSTITUTE(SUBSTITUTE(A181,"أ","ا"),"إ","ا"),"آ","ا"),"ة","ه"),"ى","ي")) -> الجادريه للصرافه
A182: الجاه للصرافة | B182: A | C182: مفتوح | D182: المقر الرئيسي | E182: بغداد | F182: بغداد/ السيدية / الشارع التجاري /بجانب افران الزيتون | G182: =TRIM(SUBSTITUTE(SUBSTITUTE(SUBSTITUTE(SUBSTITUTE(SUBSTITUTE(A182,"أ","ا"),"إ","ا"),"آ","ا"),"ة","ه"),"ى","ي")) -> الجاه للصرافه
A183: الجرف للصرافة | B183: B | C183: مفتوح | D183: الجرف للتوسط | E183: بغداد | F183: بغداد / شارع الرشيد/ حافظ القاضي | G183: =TRIM(SUBSTITUTE(SUBSTITUTE(SUBSTITUTE(SUBSTITUTE(SUBSTITUTE(A183,"أ","ا"),"إ","ا"),"آ","ا"),"ة","ه"),"ى","ي")) -> الجرف للصرافه
...

Sheet تفاصيل الشركات
A1: ='شركات الصرافة'!A2 -> الفنجان للصرافة | E1: =HYPERLINK("#'شركات الصرافة'!A2","⬆ رجوع لقائمة الشركات") -> ⬆ رجوع لقائمة الشركات
A2: ="الفئة: "&'شركات الصرافة'!D2&" | الهاتف: "&'شركات الصرافة'!E2&" | البريد: "&'شركات الصرافة'!F2 -> الفئة: A | الهاتف: 07809000072 / 07809000076 / 07722201777 | البريد: info@alfenjan-ex.com.iq
A3: اسم الفرع | B3: حالة الفرع | C3: المحافظة | D3: عنوان الفرع
A4: ='فروع وعناوين الشركات'!D605 -> المقر الرئيسي | B4: ='فروع وعناوين الشركات'!C605 -> مفتوح | C4: ='فروع وعناوين الشركات'!E605 -> بغداد | D4: ='فروع وعناوين الشركات'!F605 -> زيونة تسلسل العقار 11473/4 اسم المحلة م11 مزرعة حمدي
A5: ='فروع وعناوين الشركات'!D606 -> بغداد الجديدة | B5: ='فروع وعناوين الشركات'!C606 -> مفتوح | C5: ='فروع وعناوين الشركات'!E606 -> بغداد | D5: ='فروع وعناوين الشركات'!F606 -> بغداد الجديدة الشارع العام مجاور مصور جيكور
A6: ='فروع وعناوين الشركات'!D607 -> الشورجة | B6: ='فروع وعناوين الشركات'!C607 -> مفتوح | C6: ='فروع وعناوين الشركات'!E607 -> بغداد | D6: ='فروع وعناوين الشركات'!F607 -> بغداد الرصافة الشورجة تسلسل العقار 590 م باب الاغا رقم الابواب 111/12/ب/23
A7: ='فروع وعناوين الشركات'!D608 -> المنصور | B7: ='فروع وعناوين الشركات'!C608 -> مفتوح | C7: ='فروع وعناوين الشركات'!E608 -> بغداد | D7: ='فروع وعناوين الشركات'!F608 -> المنصور داخل مول المنصور الطابق الارضي
A8: ='فروع وعناوين الشركات'!D609 -> حي الجامعة | B8: ='فروع وعناوين الشركات'!C609 -> مفتوح | C8: ='فروع وعناوين الشركات'!E609 -> بغداد | D8: ='فروع وعناوين الشركات'!F609 -> حي الجامعة م327/ز24 بناية 59 عمارة الجنابي
A9: ='فروع وعناوين الشركات'!D610 -> الكاظمية | B9: ='فروع وعناوين الشركات'!C610 -> مفتوح | C9: ='فروع وعناوين الشركات'!E610 -> بغداد | D9: ='فروع وعناوين الشركات'!F610 -> بغداد الكاظمية
A10: ='فروع وعناوين الشركات'!D611 -> كركوك | B10: ='فروع وعناوين الشركات'!C611 -> مفتوح | C10: ='فروع وعناوين الشركات'!E611 -> كركوك | D10: ='فروع وعناوين الشركات'!F611 -> كركوك شارع الجمهورية عمارة رقم القطعة 10/285 المقاطعة 39 تسعين
A11: ='فروع وعناوين الشركات'!D612 -> العزيزية | B11: ='فروع وعناوين الشركات'!C612 -> مفتوح | C11: ='فروع وعناوين الشركات'!E612 -> واسط | D11: ='فروع وعناوين الشركات'!F612 -> واسط قضاء العزيزية شارع الخليج تسلسل العقار 18/3161/4 عتبه العزيزية
A12: ='فروع وعناوين الشركات'!D613 -> تكريت | B12: ='فروع وعناوين الشركات'!C613 -> مفتوح | C12: ='فروع وعناوين الشركات'!E613 -> صلاح الدين | D12: ='فروع وعناوين الشركات'!F613 -> صلاح الدين تكريت رقم القطعة 702/2 مقاطعة 7 مطاردة
A13: ='فروع وعناوين الشركات'!D614 -> ميسان | B13: ='فروع وعناوين الشركات'!C614 -> مفتوح | C13: ='فروع وعناوين الشركات'!E614 -> ميسان | D13: ='فروع وعناوين الشركات'!F614 -> ميسان العمارة السوق الكبير سوق المسقف قرب مطعم الكاظمين
A14: ='فروع وعناوين الشركات'!D615 -> البصرة - العشار | B14: ='فروع وعناوين الشركات'!C615 -> مفتوح | C14: ='فروع وعناوين الشركات'!E615 -> البصرة | D14: ='فروع وعناوين الشركات'!F615 -> البصرة شارع الاستقلال تسلسل العقار 6/99 اسم المحلة الكزارة / قرب مصرف الخليج التجاري
A15: ='فروع وعناوين الشركات'!D616 -> البصرة - الجزائر | B15: ='فروع وعناوين الشركات'!C616 -> مفتوح | C15: ='فروع وعناوين الشركات'!E616 -> البصرة | D15: ='فروع وعناوين الشركات'!F616 -> البصرة حي الجزائر تسلسل العقار 38/49 قرب بناية وزارة التخطيط
... A29: ='فروع وعناوين الشركات'!D630 -> الموصل | B29: ='فروع وعناوين الشركات'!C630 -> مفتوح | C29: ='فروع وعناوين الشركات'!E630 -> نينوى | D29: ='فروع وعناوين الشركات'!F630 -> نينوى الموصل المجموعة الثقافية
A30: =HYPERLINK("#'شركات الصرافة'!A2","⬆ رجوع لقائمة الشركات") -> ⬆ رجوع لقائمة الشركات
A32: ='شركات الصرافة'!A3 -> الطيف للصرافة | E32: =HYPERLINK("#'شركات الصرافة'!A3","⬆ رجوع لقائمة الشركات") -> ⬆ رجوع لقائمة الشركات
A33: ="الفئة: "&'شركات الصرافة'!D3&" | الهاتف: "&'شركات الصرافة'!E3&" | البريد: "&'شركات الصرافة'!F3 -> الفئة: A | الهاتف: 07729169635 / 07840500110 / 07840500115 | البريد: taifexchange@taifex.iq
A34: اسم الفرع | B34: حالة الفرع | C34: المحافظة | D34: عنوان الفرع
A35: ='فروع وعناوين الشركات'!D524 -> المقر الرئيسي | B35: ='فروع وعناوين الشركات'!C524 -> مفتوح | C35: ='فروع وعناوين الشركات'!E524 -> بغداد | D35: ='فروع وعناوين الشركات'!F524 -> بغداد / الكرادة داخل / قرب ساحة كهرمانة / محلة 901/ز3/رقم البناية 4
A36: ='فروع وعناوين الشركات'!D525 -> فرع كربلاء | B36: ='فروع وعناوين الشركات'!C525 -> مفتوح | C36: ='فروع وعناوين الشركات'!E525 -> كربلاء | D36: ='فروع وعناوين الشركات'!F525 -> كربلاء / حي الحسين / الشارع المشجر / رقم العقار 1/1046
A37: ='فروع وعناوين الشركات'!D526 -> فرع العامرية | B37: ='فروع وعناوين الشركات'!C526 -> مفتوح | C37: ='فروع وعناوين الشركات'!E526 -> بغداد | D37: ='فروع وعناوين الشركات'!F526 -> بغداد / العامرية / شارع العمل الشعبي / المضيف
A38: ='فروع وعناوين الشركات'!D527 -> النجف الاشرف | B38: ='فروع وعناوين الشركات'!C527 -> مفتوح | C38: ='فروع وعناوين الشركات'!E527 -> النجف | D38: ='فروع وعناوين الشركات'!F527 -> النجف الاشرف / حي السعد/ شار ع الإسكان/ داخل مجمع الشراع الترفيهي
A39: ='فروع وعناوين الشركات'!D528 -> زيونة | B39: ='فروع وعناوين الشركات'!C528 -> مفتوح | C39: ='فروع وعناوين الشركات'!E528 -> بغداد | D39: ='فروع وعناوين الشركات'!F528 -> بغداد / زيونة / شارع الربيعي / بناية الأمير مول
A40: ='فروع وعناوين الشركات'!D529 -> الكاظمية | B40: ='فروع وعناوين الشركات'!C529 -> مفتوح | C40: ='فروع وعناوين الشركات'!E529 -> بغداد | D40: ='فروع وعناوين الشركات'!F529 -> بغداد / شارع باب المراد/ بناية حسينية الصدر / تسلسل العقار 42/1108-م421ز24
A41: ='فروع وعناوين الشركات'!D530 -> الحلة | B41: ='فروع وعناوين الشركات'!C530 -> مفتوح | C41: ='فروع وعناوين الشركات'!E530 -> بابل | D41: ='فروع وعناوين الشركات'!F530 -> الحلة / شارع 40/تسلسل العقار 4/1271/م30 اسم المقاطعة القاضية
A42: ='فروع وعناوين الشركات'!D531 -> البصرة الطويسة | B42: ='فروع وعناوين الشركات'!C531 -> مفتوح | C42: ='فروع وعناوين الشركات'!E531 -> البصرة | D42: ='فروع وعناوين الشركات'!F531 -> البصرة / الطويسة / شارع اللجنة الأولمبية / مقاطعة كوت الحجاج
A43: ='فروع وعناوين الشركات'!D532 -> البياع | B43: ='فروع وعناوين الشركات'!C532 -> مفتوح | C43: ='فروع وعناوين الشركات'!E532 -> بغداد | D43: ='فروع وعناوين الشركات'!F532 -> البياع / شارع 20
A44: ='فروع وعناوين الشركات'!D533 -> الفلوجة | B44: ='فروع وعناوين الشركات'!C533 -> مفتوح | C44: ='فروع وعناوين الشركات'!E533 -> الانبار | D44: ='فروع وعناوين الشركات'!F533 -> مول الفلوجة / الطابق الأرضي
A45: ='فروع وعناوين الشركات'!D534 -> أربيل | B45: ='فروع وعناوين الشركات'!C534 -> مفتوح | C45: ='فروع وعناوين الشركات'!E534 -> اربيل | D45: ='فروع وعناوين الشركات'!F534 -> أربيل بختياري / شارع 20
A46: ='فروع وعناوين الشركات'!D535 -> الموصل | B46: ='فروع وعناوين الشركات'!C535 -> مفتوح | C46: ='فروع وعناوين الشركات'!E535 -> نينوى | D46: ='فروع وعناوين الشركات'!F535 -> الموصل / حي المصارف / بناية سمر قند
... A48: ='فروع وعناوين الشركات'!D537 -> الرمادي | B48: ='فروع وعناوين الشركات'!C537 -> مفتوح | C48: ='فروع وعناوين الشركات'!E537 -> الانبار | D48: ='فروع وعناوين الشركات'!F537 -> شارع المستودع / العزيزية / الحوز
A49: =HYPERLINK("#'شركات الصرافة'!A3","⬆ رجوع لقائمة الشركات") -> ⬆ رجوع لقائمة الشركات
A51: ='شركات الصرافة'!A4 -> الريان للصرافة | E51: =HYPERLINK("#'شركات الصرافة'!A4","⬆ رجوع لقائمة الشركات") -> ⬆ رجوع لقائمة الشركات
A52: ="الفئة: "&'شركات الصرافة'!D4&" | الهاتف: "&'شركات الصرافة'!E4&" | البريد: "&'شركات الصرافة'!F4 -> الفئة: A | الهاتف: 07817615293 / 07819454142 / 07716184768 | البريد: alreyyanexchange@yahoo.com
A53: اسم الفرع | B53: حالة الفرع | C53: المحافظة | D53: عنوان الفرع
A54: ='فروع وعناوين الشركات'!D346 -> المقر الرئيسي | B54: ='فروع وعناوين الشركات'!C346 -> مفتوح | C54: ='فروع وعناوين الشركات'!E346 -> النجف | D54: ='فروع وعناوين الشركات'!F346 -> النجف الاشرف - حي الفرات
A55: ='فروع وعناوين الشركات'!D347 -> بغداد الجديدة | B55: ='فروع وعناوين الشركات'!C347 -> مفتوح | C55: ='فروع وعناوين الشركات'!E347 -> بغداد | D55: ='فروع وعناوين الشركات'!F347 -> بغداد الدورة / تقطاع المصافي مول العراق
A56: ='فروع وعناوين الشركات'!D348 -> المنصور | B56: ='فروع وعناوين الشركات'!C348 -> مفتوح | C56: ='فروع وعناوين الشركات'!E348 -> بغداد | D56: ='فروع وعناوين الشركات'!F348 -> المنصور - مجاور مصرف الخليج التجاري
A57: ='فروع وعناوين الشركات'!D349 -> الشورجة | B57: ='فروع وعناوين الشركات'!C349 -> مفتوح | C57: ='فروع وعناوين الشركات'!E349 -> بغداد | D57: ='فروع وعناوين الشركات'!F349 -> بغداد - الشورجة
A58: ='فروع وعناوين الشركات'!D350 -> أربيل | B58: ='فروع وعناوين الشركات'!C350 -> مفتوح | C58: ='فروع وعناوين الشركات'!E350 -> اربيل | D58: ='فروع وعناوين الشركات'!F350 -> ماجدي مول - الطابق الأرضي
A59: ='فروع وعناوين الشركات'!D351 -> كربلاء | B59: ='فروع وعناوين الشركات'!C351 -> مفتوح | C59: ='فروع وعناوين الشركات'!E351 -> كربلاء | D59: ='فروع وعناوين الشركات'!F351 -> 0
A60: ='فروع وعناوين الشركات'!D352 -> الديوانية | B60: ='فروع وعناوين الشركات'!C352 -> مفتوح | C60: ='فروع وعناوين الشركات'!E352 -> القادسية | D60: ='فروع وعناوين الشركات'!F352 -> شارع المواكب - قابل جامع المصطفى
A61: ='فروع وعناوين الشركات'!D353 -> الجادرية | B61: ='فروع وعناوين الشركات'!C353 -> مفتوح | C61: ='فروع وعناوين الشركات'!E353 -> بغداد | D61: ='فروع وعناوين الشركات'!F353 -> مول الجادرية - الطابق الأرضي
A62: ='فروع وعناوين الشركات'!D354 -> العرصات | B62: ='فروع وعناوين الشركات'!C354 -> مفتوح | C62: ='فروع وعناوين الشركات'!E354 -> بغداد | D62: ='فروع وعناوين الشركات'!F354 -> مقابل مستشفى العرصات
A63: ='فروع وعناوين الشركات'!D355 -> المثنى | B63: ='فروع وعناوين الشركات'!C355 -> مفتوح | C63: ='فروع وعناوين الشركات'!E355 -> المثنى | D63: ='فروع وعناوين الشركات'!F355 -> داخل مول البركة
A64: ='فروع وعناوين الشركات'!D356 -> واسط | B64: ='فروع وعناوين الشركات'!C356 -> مفتوح | C64: ='فروع وعناوين الشركات'!E356 -> واسط | D64: ='فروع وعناوين الشركات'!F356 -> محلة الهورة - مقابل مركز طيبة الصحي
A65: ='فروع وعناوين الشركات'!D357 -> البصرة - الجزائر | B65: ='فروع وعناوين الشركات'!C357 -> مفتوح | C65: ='فروع وعناوين الشركات'!E357 -> البصرة | D65: ='فروع وعناوين الشركات'!F357 -> البصرة/شارع الجزائر/مقابل شنشل مول
... A74: ='فروع وعناوين الشركات'!D366 -> الاعظمية | B74: ='فروع وعناوين الشركات'!C366 -> مفتوح | C74: ='فروع وعناوين الشركات'!E366 -> بغداد | D74: ='فروع وعناوين الشركات'!F366 -> شارع الضباط- قرب صندوق الضمان الصحي
A75: =HYPERLINK("#'شركات الصرافة'!A4","⬆ رجوع لقائمة الشركات") -> ⬆ رجوع لقائمة الشركات
A77: ='شركات الصرافة'!A5 -> سما بغداد للصرافة | E77: =HYPERLINK("#'شركات الصرافة'!A5","⬆ رجوع لقائمة الشركات") -> ⬆ رجوع لقائمة الشركات
A78: ="الفئة: "&'شركات الصرافة'!D5&" | الهاتف: "&'شركات الصرافة'!E5&" | البريد: "&'شركات الصرافة'!F5 -> الفئة: A | الهاتف: 07730503046 / 07801888300 | البريد: info@samabaghdad-ex.iq
A79: اسم الفرع | B79: حالة الفرع | C79: المحافظة | D79: عنوان الفرع
A80: ='فروع وعناوين الشركات'!D974 -> المقر الرئيسي | B80: ='فروع وعناوين الشركات'!C974 -> مفتوح | C80: ='فروع وعناوين الشركات'!E974 -> بغداد | D80: ='فروع وعناوين الشركات'!F974 -> بغداد - الكرادة - شارع السعدون - مقابل فندق بغداد - م/101 - ز/61 - بناية 1
A81: ='فروع وعناوين الشركات'!D975 -> فرع المنصور الداودي | B81: ='فروع وعناوين الشركات'!C975 -> مفتوح | C81: ='فروع وعناوين الشركات'!E975 -> بغداد | D81: ='فروع وعناوين الشركات'!F975 -> محافظة بغداد - الكرخ الأولى - المنصور - تسلسل العقار 2204 رقم القطعة - 7/7336 - رقم المقاطعة 20 - اسم المقاطعة الداودي - تقاطع الرواد - قرب مرطبات مشمشة
A82: ='فروع وعناوين الشركات'!D976 -> فرع بغداد/ شارع الكندي | B82: ='فروع وعناوين الشركات'!C976 -> مفتوح | C82: ='فروع وعناوين الشركات'!E976 -> بغداد | D82: ='فروع وعناوين الشركات'!F976 -> بغداد/ الكرخ/شارع الكندي/تسلسل العقار 616/407 كرادة مريم / الحارثيه - م/213 ش/12 ع/19 - مقابل مول بغداد - الأبواب 21/19 أ .
A83: ='فروع وعناوين الشركات'!D977 -> فرع زيونة | B83: ='فروع وعناوين الشركات'!C977 -> مفتوح | C83: ='فروع وعناوين الشركات'!E977 -> بغداد | D83: ='فروع وعناوين الشركات'!F977 -> بغداد - زيونة - شارع الربيعي - م/712 - تسلسل العقار 11592 /4 م11
A84: ='فروع وعناوين الشركات'!D978 -> الغدير / نقل فرع العرصات سابقاً | B84: ='فروع وعناوين الشركات'!C978 -> مفتوح | C84: ='فروع وعناوين الشركات'!E978 -> بغداد | D84: ='فروع وعناوين الشركات'!F978 -> بغداد - الغدير - ساحة ميسلون - تسلسل العقار 4/13210 مقاطعة 11 - مزرعة حمدي / فرع العرصات سابقاً
A85: ='فروع وعناوين الشركات'!D979 -> فرع كربلاء / تم نقله من شارع النقيب بتاريخ 11/6/2025 | B85: ='فروع وعناوين الشركات'!C979 -> مفتوح | C85: ='فروع وعناوين الشركات'!E979 -> كربلاء | D85: ='فروع وعناوين الشركات'!F979 -> محافظة كربلاء - شارع حي رمضان - قرب جسر المشاة الثاني - تسلسل العقار رقم القطعة 3 / 2860 - اسم المحلة اة المقاطعة 61 جزيرة
A86: ='فروع وعناوين الشركات'!D980 -> فرع السيدية | B86: ='فروع وعناوين الشركات'!C980 -> مفتوح | C86: ='فروع وعناوين الشركات'!E980 -> بغداد | D86: ='فروع وعناوين الشركات'!F980 -> محافظة بغداد - السيدية - شارع التجاري - قرب جامع ابراهيم الخليل - تسلسل العقار رقم القطعة 43 /2231 مقاطعة 1 الخر رقم الابواب 24 /3 /18 /24 /4 /18
A87: ='فروع وعناوين الشركات'!D981 -> فرع الدورة | B87: ='فروع وعناوين الشركات'!C981 -> مفتوح | C87: ='فروع وعناوين الشركات'!E981 -> بغداد | D87: ='فروع وعناوين الشركات'!F981 -> بغداد - الدورة - شارع ابو طيارة - مجاور مول روزة
A88: ='فروع وعناوين الشركات'!D982 -> فرع اربيل | B88: ='فروع وعناوين الشركات'!C982 -> مفتوح | C88: ='فروع وعناوين الشركات'!E982 -> اربيل | D88: ='فروع وعناوين الشركات'!F982 -> محافظة اربيل - تسلسل العقار / محلات تجارية بارك فيو/ أربيل - رقم المحل / المحلات/108 /107 F
A89: ='فروع وعناوين الشركات'!D983 -> فرع كركوك | B89: ='فروع وعناوين الشركات'!C983 -> مفتوح | C89: ='فروع وعناوين الشركات'!E983 -> كركوك | D89: ='فروع وعناوين الشركات'!F983 -> محافظة كركوك / طريق بغداد / مقابل مجمع الإطارات
A90: ='فروع وعناوين الشركات'!D984 -> فرع تكريت | B90: ='فروع وعناوين الشركات'!C984 -> مفتوح | C90: ='فروع وعناوين الشركات'!E984 -> صلاح الدين | D90: ='فروع وعناوين الشركات'!F984 -> محافظة صلاح الدين / تكريت / شارع 40 / تسلسل العقار 2/372 مقاطعة 7 مطاردة
A91: ='فروع وعناوين الشركات'!D985 -> فرع الموصل | B91: ='فروع وعناوين الشركات'!C985 -> مفتوح | C91: ='فروع وعناوين الشركات'!E985 -> نينوى | D91: ='فروع وعناوين الشركات'!F985 -> محافظة نينوى - قضاء الموصل - المثنى - رقم القطعة 2/32 - المقاطعة 43 - الجيلة بلبل تبة - سايدين سوق المثنى -قرب جامع الصديق رتشان
... A98: ='فروع وعناوين الشركات'!D992 -> فرع النجف | B98: ='فروع وعناوين الشركات'!C992 -> مفتوح | C98: ='فروع وعناوين الشركات'!E992 -> النجف | D98: ='فروع وعناوين الشركات'!F992 -> محافظة النجف الاشرف - حي الامير - سارع الزهور - رقم الابواب2 - حدود بلدية النجف - تسلسل العقار رقم القطعة2/13934 - مجاور المصرف الاهلي العراقي
A99: =HYPERLINK("#'شركات الصرافة'!A5","⬆ رجوع لقائمة الشركات") -> ⬆ رجوع لقائمة الشركات
A101: ='شركات الصرافة'!A6 -> الميار للصرافة | E101: =HYPERLINK("#'شركات الصرافة'!A6","⬆ رجوع لقائمة الشركات") -> ⬆ رجوع لقائمة الشركات
A102: ="الفئة: "&'شركات الصرافة'!D6&" | الهاتف: "&'شركات الصرافة'!E6&" | البريد: "&'شركات الصرافة'!F6 -> الفئة: A | الهاتف: 7722442222 | البريد: info@almayarex.iq
A103: اسم الفرع | B103: حالة الفرع | C103: المحافظة | D103: عنوان الفرع
A104: ='فروع وعناوين الشركات'!D776 -> المقر الرئيسي | B104: ='فروع وعناوين الشركات'!C776 -> مفتوح | C104: ='فروع وعناوين الشركات'!E776 -> بغداد | D104: ='فروع وعناوين الشركات'!F776 -> بغداد - الرصافة - الكرادة - ساحة كهرمانة - مقابل مصرف نور العراق الاسلامي - محلة 20 الداودي - رقم العقار 3/1089 - رقم الابواب 12/أ/92
A105: ='فروع وعناوين الشركات'!D777 -> كربلاء / حي النقيب | B105: ='فروع وعناوين الشركات'!C777 -> مفتوح | C105: ='فروع وعناوين الشركات'!E777 -> كربلاء | D105: ='فروع وعناوين الشركات'!F777 -> كربلاء - حي النقيب - مقاطعة 61جزيرة - رقم القطعة3/40545 - قرب مجسر الضريبة - مقابل فندق الدر (مقر شركة الشبل للتوسط سابقا)
A106: ='فروع وعناوين الشركات'!D778 -> بابل/ الحلة | B106: ='فروع وعناوين الشركات'!C778 -> مفتوح | C106: ='فروع وعناوين الشركات'!E778 -> بابل | D106: ='فروع وعناوين الشركات'!F778 -> بابل/ الحلة - رقم القطعة 16/2 اسم المحلة او القطعة 38 مهدية واكراد قرب دائرة كهرباء بابل
A107: ='فروع وعناوين الشركات'!D779 -> النجف / شارع الروان | B107: ='فروع وعناوين الشركات'!C779 -> مفتوح | C107: ='فروع وعناوين الشركات'!E779 -> النجف | D107: ='فروع وعناوين الشركات'!F779 -> النجف/ شارع الروان / رقم العقار رقم القطعة 18524/2 - شارع الصيرفات - مقابل شركة ايلاف للصرافة
A108: ='فروع وعناوين الشركات'!D780 -> اربيل / بختياري | B108: ='فروع وعناوين الشركات'!C780 -> مفتوح | C108: ='فروع وعناوين الشركات'!E780 -> اربيل | D108: ='فروع وعناوين الشركات'!F780 -> أربيل/ بختياري - قرب مصرف الطيف الإسلامي
A109: ='فروع وعناوين الشركات'!D781 -> بغداد / الحارثية | B109: ='فروع وعناوين الشركات'!C781 -> مفتوح | C109: ='فروع وعناوين الشركات'!E781 -> بغداد | D109: ='فروع وعناوين الشركات'!F781 -> بغداد - الكرخ - الحارثية - تسلسل العقار رقم القطعة 407/1733 اسم المحلة أو المقاطعة /كرادة مريم
A110: ='فروع وعناوين الشركات'!D782 -> بابل/الحلة/المسيب/سدة الهندية | B110: ='فروع وعناوين الشركات'!C782 -> مفتوح | C110: ='فروع وعناوين الشركات'!E782 -> بابل | D110: ='فروع وعناوين الشركات'!F782 -> بابل-العقار المرقم 61/101-علكاية-المسيب-سدة الهندية/تقاطع الراشة/مفرق السدة
A111: ='فروع وعناوين الشركات'!D783 -> واسط / الكوت | B111: ='فروع وعناوين الشركات'!C783 -> مفتوح | C111: ='فروع وعناوين الشركات'!E783 -> واسط | D111: ='فروع وعناوين الشركات'!F783 -> واسط - الكوت - تسلسل العقار 499/87 - اسم المحلة او المقاطعة السراي - ساحة العامل - قرب مصرف الرافدين فرع قرطبة.
A112: ='فروع وعناوين الشركات'!D784 -> الديوانية | B112: ='فروع وعناوين الشركات'!C784 -> مفتوح | C112: ='فروع وعناوين الشركات'!E784 -> القادسية | D112: ='فروع وعناوين الشركات'!F784 -> الديوانية / العروبة الأولى / مقابل مصرف الخليج / رقم العقار 7/18348
A113: ='فروع وعناوين الشركات'!D785 -> العمارة / ميسان | B113: ='فروع وعناوين الشركات'!C785 -> مفتوح | C113: ='فروع وعناوين الشركات'!E785 -> ميسان | D113: ='فروع وعناوين الشركات'!F785 -> ميسان / العمارة / السوق الكبير/ قرب جامع المفتي - تسلسل العقار 453/4 رقم القطعة السلف - اسم المحلة او القطعة السراي
A114: ='فروع وعناوين الشركات'!D786 -> كركوك / طريق بغداد | B114: ='فروع وعناوين الشركات'!C786 -> مفتوح | C114: ='فروع وعناوين الشركات'!E786 -> كركوك | D114: ='فروع وعناوين الشركات'!F786 -> كركوك / طريق بغداد / الشارع العام / بالقرب من مصرف الرافدين (فرع الذهب الاسود)
A115: ='فروع وعناوين الشركات'!D787 -> بغداد / الكاظمية | B115: ='فروع وعناوين الشركات'!C787 -> مفتوح | C115: ='فروع وعناوين الشركات'!E787 -> بغداد | D115: ='فروع وعناوين الشركات'!F787 -> بغداد - الكاظمية - ساحة مؤمل الصدر - تسلسل العقار ورقم القطعة 75/9 - اسم المحلة او المقاطعة العطيفية - مجاور مكوى النيل
... A117: ='فروع وعناوين الشركات'!D789 -> البصرة | B117: ='فروع وعناوين الشركات'!C789 -> مفتوح | C117: ='فروع وعناوين الشركات'!E789 -> البصرة | D117: ='فروع وعناوين الشركات'!F789 -> البصرة مناوي باشا شارع 14 تموز بناية الراهبات
A118: =HYPERLINK("#'شركات الصرافة'!A6","⬆ رجوع لقائمة الشركات") -> ⬆ رجوع لقائمة الشركات
A120: ='شركات الصرافة'!A7 -> السدير للصرافة | E120: =HYPERLINK("#'شركات الصرافة'!A7","⬆ رجوع لقائمة الشركات") -> ⬆ رجوع لقائمة الشركات
A121: ="الفئة: "&'شركات الصرافة'!D7&" | الهاتف: "&'شركات الصرافة'!E7&" | البريد: "&'شركات الصرافة'!F7 -> الفئة: A | الهاتف: 7740051672 | البريد: alsadeer.co.exchange2020@gmail.com
A122: اسم الفرع | B122: حالة الفرع | C122: المحافظة | D122: عنوان الفرع
A123: ='فروع وعناوين الشركات'!D388 -> المقر الرئيسي | B123: ='فروع وعناوين الشركات'!C388 -> مفتوح | C123: ='فروع وعناوين الشركات'!E388 -> بغداد | D123: ='فروع وعناوين الشركات'!F388 -> بغداد/ البياع/ شارع قطر الندى
A124: ='فروع وعناوين الشركات'!D389 -> فرع بغداد/العرصات | B124: ='فروع وعناوين الشركات'!C389 -> مفتوح | C124: ='فروع وعناوين الشركات'!E389 -> بغداد | D124: ='فروع وعناوين الشركات'!F389 -> بغداد- كرادة- شارع العرصات م/929 ز/29 -بناية 18/ رقم المحل 1/7/376أ - رقم القطعة 25/332.
A125: ='فروع وعناوين الشركات'!D390 -> فرع السيدية | B125: ='فروع وعناوين الشركات'!C390 -> مفتوح | C125: ='فروع وعناوين الشركات'!E390 -> بغداد | D125: ='فروع وعناوين الشركات'!F390 -> تسلسل العقار43/12862-مقاطعة1الخر-مقابل فتحة خيزران
A126: ='فروع وعناوين الشركات'!D391 -> فرع العامرية | B126: ='فروع وعناوين الشركات'!C391 -> مفتوح | C126: ='فروع وعناوين الشركات'!E391 -> بغداد | D126: ='فروع وعناوين الشركات'!F391 -> بغداد - الكرخ - تسلسل العقار رقم القطعة - 742/1 - اسم المحلة او المقاطعة 18 عامرية رقم الابواب 61/أ
A127: ='فروع وعناوين الشركات'!D392 -> فرع النجف1 | B127: ='فروع وعناوين الشركات'!C392 -> مفتوح | C127: ='فروع وعناوين الشركات'!E392 -> النجف | D127: ='فروع وعناوين الشركات'!F392 -> النجف /حي الامبر/شارع المطار/مجاور مفوضية الانتخابات
A128: ='فروع وعناوين الشركات'!D393 -> فرع النجف2 | B128: ='فروع وعناوين الشركات'!C393 -> مفتوح | C128: ='فروع وعناوين الشركات'!E393 -> النجف | D128: ='فروع وعناوين الشركات'!F393 -> تسلسل العقار 2/2451 - مقاطعة 2 حدود بلدية النجف (مقر شركة توسط سابقا)
A129: ='فروع وعناوين الشركات'!D394 -> فرع النجف3 | B129: ='فروع وعناوين الشركات'!C394 -> مفتوح | C129: ='فروع وعناوين الشركات'!E394 -> النجف | D129: ='فروع وعناوين الشركات'!F394 -> النجف الاشرف /قضاء النجف/اسم المحلة او المقاطعة /حي الاشتراكي/ تسلسل العقار (القطعه) 2/15590 مقاطعة 2 حدود بلدية النجف.
A130: ='فروع وعناوين الشركات'!D395 -> فرع بغداد/اليرموك | B130: ='فروع وعناوين الشركات'!C395 -> مفتوح | C130: ='فروع وعناوين الشركات'!E395 -> بغداد | D130: ='فروع وعناوين الشركات'!F395 -> بغداد/اليرموك/مجاور محطة الوقود المحسن
A131: ='فروع وعناوين الشركات'!D396 -> بغداد/كرادة داخل | B131: ='فروع وعناوين الشركات'!C396 -> مفتوح | C131: ='فروع وعناوين الشركات'!E396 -> بغداد | D131: ='فروع وعناوين الشركات'!F396 -> كرادة داخل/عمارة الامام الأعظم
A132: ='فروع وعناوين الشركات'!D397 -> بغداد/الدورة | B132: ='فروع وعناوين الشركات'!C397 -> مفتوح | C132: ='فروع وعناوين الشركات'!E397 -> بغداد | D132: ='فروع وعناوين الشركات'!F397 -> الدورة/الميكانيك
A133: ='فروع وعناوين الشركات'!D398 -> بغداد/حي الاعلام1 | B133: ='فروع وعناوين الشركات'!C398 -> مفتوح | C133: ='فروع وعناوين الشركات'!E398 -> بغداد | D133: ='فروع وعناوين الشركات'!F398 -> بغداد/الكرخ/الاعلام/مجاور شركة الاحرار العربية
A134: ='فروع وعناوين الشركات'!D399 -> بغداد/حي الاعلام2 | B134: ='فروع وعناوين الشركات'!C399 -> مفتوح | C134: ='فروع وعناوين الشركات'!E399 -> بغداد | D134: ='فروع وعناوين الشركات'!F399 -> بغداد/الاعلام/مقابل بدالة الانتصار
...
