Workbook

Sheet شركات الصرافة
A1: اسم الشركة | B1: اسم الشركة بالانكليزي | C1: عدد الفروع | D1: الفئة | E1: الهاتف | F1: البريد الالكتروني | G1: مفتاح_مطابقة | H1: عرض تفاصيل الفروع
A2: الفنجان للصرافة | B2: Al Finjan | C2: =COUNTIF('فروع وعناوين الشركات'!$G$2:$G$1113,G2) -> 26 | D2: A | E2: 07809000072 / 07809000076 / 07722201777 | F2: info@alfenjan-ex.com.iq | G2: =TRIM(SUBSTITUTE(SUBSTITUTE(SUBSTITUTE(SUBSTITUTE(SUBSTITUTE(A2,"أ","ا"),"إ","ا"),"آ","ا"),"ة","ه"),"ى","ي")) -> الفنجان للصرافه | H2: =HYPERLINK("#'تفاصيل الشركات'!A1","عرض التفاصيل ←") -> عرض التفاصيل ←
A3: الطيف للصرافة | B3: Al Tayf | C3: =COUNTIF('فروع وعناوين الشركات'!$G$2:$G$1113,G3) -> 14 | D3: A | E3: 07729169635 / 07840500110 / 07840500115 | F3: taifexchange@taifex.iq | G3: =TRIM(SUBSTITUTE(SUBSTITUTE(SUBSTITUTE(SUBSTITUTE(SUBSTITUTE(A3,"أ","ا"),"إ","ا"),"آ","ا"),"ة","ه"),"ى","ي")) -> الطيف للصرافه | H3: =HYPERLINK("#'تفاصيل الشركات'!A32","عرض التفاصيل ←") -> عرض التفاصيل ←
A4: الريان للصرافة | B4: Al Rayyan | C4: =COUNTIF('فروع وعناوين الشركات'!$G$2:$G$1113,G4) -> 21 | D4: A | E4: 07817615293 / 07819454142 / 07716184768 | F4: alreyyanexchange@yahoo.com | G4: =TRIM(SUBSTITUTE(SUBSTITUTE(SUBSTITUTE(SUBSTITUTE(SUBSTITUTE(A4,"أ","ا"),"إ","ا"),"آ","ا"),"ة","ه"),"ى","ي")) -> الريان للصرافه | H4: =HYPERLINK("#'تفاصيل الشركات'!A51","عرض التفاصيل ←") -> عرض التفاصيل ←
A5: سما بغداد للصرافة | B5: Sama Baghdad | C5: =COUNTIF('فروع وعناوين الشركات'!$G$2:$G$1113,G5) -> 19 | D5: A | E5: 07730503046 / 07801888300 | F5: info@samabaghdad-ex.iq | G5: =TRIM(SUBSTITUTE(SUBSTITUTE(SUBSTITUTE(SUBSTITUTE(SUBSTITUTE(A5,"أ","ا"),"إ","ا"),"آ","ا"),"ة","ه"),"ى","ي")) -> سما بغداد للصرافه | H5: =HYPERLINK("#'تفاصيل الشركات'!A77","عرض التفاصيل ←") -> عرض التفاصيل ←
A6: الميار للصرافة | B6: Al Mayar | C6: =COUNTIF('فروع وعناوين الشركات'!$G$2:$G$1113,G6) -> 14 | D6: A | E6: 7722442222 | F6: info@almayarex.iq | G6: =TRIM(SUBSTITUTE(SUBSTITUTE(SUBSTITUTE(SUBSTITUTE(SUBSTITUTE(A6,"أ","ا"),"إ","ا"),"آ","ا"),"ة","ه"),"ى","ي")) -> الميار للصرافه | H6: =HYPERLINK("#'تفاصيل الشركات'!A101","عرض التفاصيل ←") -> عرض التفاصيل ←
A7: السدير للصرافة | B7: Al Sudayr | C7: =COUNTIF('فروع وعناوين الشركات'!$G$2:$G$1113,G7) -> 12 | D7: A | E7: 7740051672 | F7: alsadeer.co.exchange2020@gmail.com | G7: =TRIM(SUBSTITUTE(SUBSTITUTE(SUBSTITUTE(SUBSTITUTE(SUBSTITUTE(A7,"أ","ا"),"إ","ا"),"آ","ا"),"ة","ه"),"ى","ي")) -> السدير للصرافه | H7: =HYPERLINK("#'تفاصيل الشركات'!A120","عرض التفاصيل ←") -> عرض التفاصيل ←
A8: الضامن للصرافة | B8: Al Damin | C8: =COUNTIF('فروع وعناوين الشركات'!$G$2:$G$1113,G8) -> 11 | D8: A | E8: 07710548359 / 07734343039 / 07881141479 / 07734343038 / 07881141478 | F8: companyaldamen@gmail.com | G8: =TRIM(SUBSTITUTE(SUBSTITUTE(SUBSTITUTE(SUBSTITUTE(SUBSTITUTE(A8,"أ","ا"),"إ","ا"),"آ","ا"),"ة","ه"),"ى","ي")) -> الضامن للصرافه | H8: =HYPERLINK("#'تفاصيل الشركات'!A137","عرض التفاصيل ←") -> عرض التفاصيل ←
A9: الشرع للصرافة | B9: Al Shara | C9: =COUNTIF('فروع وعناوين الشركات'!$G$2:$G$1113,G9) -> 11 | D9: A | E9: 07732544531 / 07712320320 | F9: alsharacompny94@gmail.com | G9: =TRIM(SUBSTITUTE(SUBSTITUTE(SUBSTITUTE(SUBSTITUTE(SUBSTITUTE(A9,"أ","ا"),"إ","ا"),"آ","ا"),"ة","ه"),"ى","ي")) -> الشرع للصرافه | H9: =HYPERLINK("#'تفاصيل الشركات'!A153","عرض التفاصيل ←") -> عرض التفاصيل ←
A10: الهلمان للصرافة | B10: Al Hilman | C10: =COUNTIF('فروع وعناوين الشركات'!$G$2:$G$1113,G10) -> 10 | D10: A | E10: 07725487320 / 07811111812 / 07711111812 | F10: alhilman71@gmail.com | G10: =TRIM(SUBSTITUTE(SUBSTITUTE(SUBSTITUTE(SUBSTITUTE(SUBSTITUTE(A10,"أ","ا"),"إ","ا"),"آ","ا"),"ة","ه"),"ى","ي")) -> الهلمان للصرافه | H10: =HYPERLINK("#'تفاصيل الشركات'!A169","عرض التفاصيل ←") -> عرض التفاصيل ←
A11: المنافذ للصرافة | B11: Al Manafith | C11: =COUNTIF('فروع وعناوين الشركات'!$G$2:$G$1113,G11) -> 10 | D11: A | E11: 07803197604 / 07901907496 / 07807421047 | F11: info@almanafithco.iq | G11: =TRIM(SUBSTITUTE(SUBSTITUTE(SUBSTITUTE(SUBSTITUTE(SUBSTITUTE(A11,"أ","ا"),"إ","ا"),"آ","ا"),"ة","ه"),"ى","ي")) -> المنافذ للصرافه | H11: =HYPERLINK("#'تفاصيل الشركات'!A184","عرض التفاصيل ←") -> عرض التفاصيل ←
A12: القند للصرافة | B12: Al Qand | C12: =COUNTIF('فروع وعناوين الشركات'!$G$2:$G$1113,G12) -> 10 | D12: A | E12: 07735557704 / 07814500700 / 07714500700 | F12: info@alqand.iq | G12: =TRIM(SUBSTITUTE(SUBSTITUTE(SUBSTITUTE(SUBSTITUTE(SUBSTITUTE(A12,"أ","ا"),"إ","ا"),"آ","ا"),"ة","ه"),"ى","ي")) -> القند للصرافه | H12: =HYPERLINK("#'تفاصيل الشركات'!A199","عرض التفاصيل ←") -> عرض التفاصيل ←
A13: الرياض للصرافة | B13: Al Riyadh | C13: =COUNTIF('فروع وعناوين الشركات'!$G$2:$G$1113,G13) -> 6 | D13: A | E13: 7834519994 | F13: alryads546@gmail.com | G13: =TRIM(SUBSTITUTE(SUBSTITUTE(SUBSTITUTE(SUBSTITUTE(SUBSTITUTE(A13,"أ","ا"),"إ","ا"),"آ","ا"),"ة","ه"),"ى","ي")) -> الرياض للصرافه | H13: =HYPERLINK("#'تفاصيل الشركات'!A214","عرض التفاصيل ←") -> عرض التفاصيل ←
A14: نسيم كربلاء للصرافة | B14: Naseem Karbala | C14: =COUNTIF('فروع وعناوين الشركات'!$G$2:$G$1113,G14) -> 10 | D14: A | E14: 7733007330 / 7725633988 | F14: naseemkarbala8@gmail.com | G14: =TRIM(SUBSTITUTE(SUBSTITUTE(SUBSTITUTE(SUBSTITUTE(SUBSTITUTE(A14,"أ","ا"),"إ","ا"),"آ","ا"),"ة","ه"),"ى","ي")) -> نسيم كربلاء للصرافه | H14: =HYPERLINK("#'تفاصيل الشركات'!A225","عرض التفاصيل ←") -> عرض التفاصيل ←
A15: الطف للصرافة | B15: Al Taff | C15: =COUNTIF('فروع وعناوين الشركات'!$G$2:$G$1113,G15) -> 7 | D15: A | E15: 07711242499 / 07837007076 / 07766660911 | F15: info@al-tafexch.com.iq | G15: =TRIM(SUBSTITUTE(SUBSTITUTE(SUBSTITUTE(SUBSTITUTE(SUBSTITUTE(A15,"أ","ا"),"إ","ا"),"آ","ا"),"ة","ه"),"ى","ي")) -> الطف للصرافه | H15: =HYPERLINK("#'تفاصيل الشركات'!A240","عرض التفاصيل ←") -> عرض التفاصيل ←
A16: الجمل للصرافة | B16: Al Jamal | C16: =COUNTIF('فروع وعناوين الشركات'!$G$2:$G$1113,G16) -> 10 | D16: A | E16: 7700727770 | F16: aljamal.co156@gmail.com | G16: =TRIM(SUBSTITUTE(SUBSTITUTE(SUBSTITUTE(SUBSTITUTE(SUBSTITUTE(A16,"أ","ا"),"إ","ا"),"آ","ا"),"ة","ه"),"ى","ي")) -> الجمل للصرافه | H16: =HYPERLINK("#'تفاصيل الشركات'!A252","عرض التفاصيل ←") -> عرض التفاصيل ←
A17: الرضاء للصرافة | B17: Al Ridaa | C17: =COUNTIF('فروع وعناوين الشركات'!$G$2:$G$1113,G17) -> 8 | D17: A | E17: 07807630330 / 07707146501 | F17: Info@ridaa.com.iq | G17: =TRIM(SUBSTITUTE(SUBSTITUTE(SUBSTITUTE(SUBSTITUTE(SUBSTITUTE(A17,"أ","ا"),"إ","ا"),"آ","ا"),"ة","ه"),"ى","ي")) -> الرضاء للصرافه | H17: =HYPERLINK("#'تفاصيل الشركات'!A267","عرض التفاصيل ←") -> عرض التفاصيل ←
A18: الاحرار العربية للصرافة | B18: Al Ahrar Al Arabiya | C18: =COUNTIF('فروع وعناوين الشركات'!$G$2:$G$1113,G18) -> 10 | D18: A | E18: 07806466860 / 07730233330 | F18: co.alahrarex@gmail.com | G18: =TRIM(SUBSTITUTE(SUBSTITUTE(SUBSTITUTE(SUBSTITUTE(SUBSTITUTE(A18,"أ","ا"),"إ","ا"),"آ","ا"),"ة","ه"),"ى","ي")) -> الاحرار العربيه للصرافه | H18: =HYPERLINK("#'تفاصيل الشركات'!A280","عرض التفاصيل ←") -> عرض التفاصيل ←
A19: النجوم للصرافة | B19: Al Nujoom | C19: =COUNTIF('فروع وعناوين الشركات'!$G$2:$G$1113,G19) -> 10 | D19: A | E19: 07730080058 / 07712338133 | F19: info@alnjoom.com.iq | G19: =TRIM(SUBSTITUTE(SUBSTITUTE(SUBSTITUTE(SUBSTITUTE(SUBSTITUTE(A19,"أ","ا"),"إ","ا"),"آ","ا"),"ة","ه"),"ى","ي")) -> النجوم للصرافه | H19: =HYPERLINK("#'تفاصيل الشركات'!A295","عرض التفاصيل ←") -> عرض التفاصيل ←
A20: المرج للصرافة | B20: Al Maraj | C20: =COUNTIF('فروع وعناوين الشركات'!$G$2:$G$1113,G20) -> 11 | D20: A | E20: 07700509113 / 07722663339 | F20: info@almaraj.iq | G20: =TRIM(SUBSTITUTE(SUBSTITUTE(SUBSTITUTE(SUBSTITUTE(SUBSTITUTE(A20,"أ","ا"),"إ","ا"),"آ","ا"),"ة","ه"),"ى","ي")) -> المرج للصرافه | H20: =HYPERLINK("#'تفاصيل الشركات'!A310","عرض التفاصيل ←") -> عرض التفاصيل ←
A21: الصوى للصرافة | B21: Al Suwa | C21: =COUNTIF('فروع وعناوين الشركات'!$G$2:$G$1113,G21) -> 12 | D21: A | E21: 07811857358 / 07822202823 / 07824264551 | F21: alswacompany22@gmail.com | G21: =TRIM(SUBSTITUTE(SUBSTITUTE(SUBSTITUTE(SUBSTITUTE(SUBSTITUTE(A21,"أ","ا"),"إ","ا"),"آ","ا"),"ة","ه"),"ى","ي")) -> الصوي للصرافه | H21: =HYPERLINK("#'تفاصيل الشركات'!A326","عرض التفاصيل ←") -> عرض التفاصيل ←
A22: العقد للصرافة | B22: Al Aqd | C22: =COUNTIF('فروع وعناوين الشركات'!$G$2:$G$1113,G22) -> 10 | D22: A | E22: 07833000351 / 07733000351 | F22: alaqed.ex@gmail.com | G22: =TRIM(SUBSTITUTE(SUBSTITUTE(SUBSTITUTE(SUBSTITUTE(SUBSTITUTE(A22,"أ","ا"),"إ","ا"),"آ","ا"),"ة","ه"),"ى","ي")) -> العقد للصرافه | H22: =HYPERLINK("#'تفاصيل الشركات'!A343","عرض التفاصيل ←") -> عرض التفاصيل ←
A23: الاهوار للصرافة | B23: Al Ahwar | C23: =COUNTIF('فروع وعناوين الشركات'!$G$2:$G$1113,G23) -> 9 | D23: A | E23: 07718673429 / 07801017565 / 07705587772 | F23: info@alahwar.iq | G23: =TRIM(SUBSTITUTE(SUBSTITUTE(SUBSTITUTE(SUBSTITUTE(SUBSTITUTE(A23,"أ","ا"),"إ","ا"),"آ","ا"),"ة","ه"),"ى","ي")) -> الاهوار للصرافه | H23: =HYPERLINK("#'تفاصيل الشركات'!A358","عرض التفاصيل ←") -> عرض التفاصيل ←
A24: الحطاب للصرافة | B24: Al Hattab | C24: =COUNTIF('فروع وعناوين الشركات'!$G$2:$G$1113,G24) -> 9 | D24: A | E24: 07744733328 / 07844733328 | F24: alhattab.ex@gmail.com | G24: =TRIM(SUBSTITUTE(SUBSTITUTE(SUBSTITUTE(SUBSTITUTE(SUBSTITUTE(A24,"أ","ا"),"إ","ا"),"آ","ا"),"ة","ه"),"ى","ي")) -> الحطاب للصرافه | H24: =HYPERLINK("#'تفاصيل الشركات'!A372","عرض التفاصيل ←") -> عرض التفاصيل ←
A25: الحسام للصرافة | B25: Al Husam | C25: =COUNTIF('فروع وعناوين الشركات'!$G$2:$G$1113,G25) -> 9 | D25: A | E25: 07733337056/07802090020/07833337056 | F25: alhusam_exc.com.iq | G25: =TRIM(SUBSTITUTE(SUBSTITUTE(SUBSTITUTE(SUBSTITUTE(SUBSTITUTE(A25,"أ","ا"),"إ","ا"),"آ","ا"),"ة","ه"),"ى","ي")) -> الحسام للصرافه | H25: =HYPERLINK("#'تفاصيل الشركات'!A386","عرض التفاصيل ←") -> عرض التفاصيل ←
A26: البتار للصرافة | B26: Al Battar | C26: =COUNTIF('فروع وعناوين الشركات'!$G$2:$G$1113,G26) -> 9 | D26: A | E26: 07713138056 / 07733368526 / | F26: info@al-batarco.iq | G26: =TRIM(SUBSTITUTE(SUBSTITUTE(SUBSTITUTE(SUBSTITUTE(SUBSTITUTE(A26,"أ","ا"),"إ","ا"),"آ","ا"),"ة","ه"),"ى","ي")) -> البتار للصرافه | H26: =HYPERLINK("#'تفاصيل الشركات'!A400","عرض التفاصيل ←") -> عرض التفاصيل ←
A27: بغداد للصرافة | B27: Baghdad | C27: =COUNTIF('فروع وعناوين الشركات'!$G$2:$G$1113,G27) -> 9 | D27: A | E27: 7901483784 | F27: info@baghdadexchange.iq | G27: =TRIM(SUBSTITUTE(SUBSTITUTE(SUBSTITUTE(SUBSTITUTE(SUBSTITUTE(A27,"أ","ا"),"إ","ا"),"آ","ا"),"ة","ه"),"ى","ي")) -> بغداد للصرافه | H27: =HYPERLINK("#'تفاصيل الشركات'!A414","عرض التفاصيل ←") -> عرض التفاصيل ←
A28: الأمين للصرافة | B28: Al Amin | C28: =COUNTIF('فروع وعناوين الشركات'!$G$2:$G$1113,G28) -> 6 | D28: A | E28: 07802012442 / 07808060011 / 07708060011 | F28: info@alameenex.iq | G28: =TRIM(SUBSTITUTE(SUBSTITUTE(SUBSTITUTE(SUBSTITUTE(SUBSTITUTE(A28,"أ","ا"),"إ","ا"),"آ","ا"),"ة","ه"),"ى","ي")) -> الامين للصرافه | H28: =HYPERLINK("#'تفاصيل الشركات'!A428","عرض التفاصيل ←") -> عرض التفاصيل ←
A29: ساوة للصرافة | B29: Sawa | C29: =COUNTIF('فروع وعناوين الشركات'!$G$2:$G$1113,G29) -> 3 | D29: A | E29: 7700608540 | F29: sawa.comp.ltd@gmail.com | G29: =TRIM(SUBSTITUTE(SUBSTITUTE(SUBSTITUTE(SUBSTITUTE(SUBSTITUTE(A29,"أ","ا"),"إ","ا"),"آ","ا"),"ة","ه"),"ى","ي")) -> ساوه للصرافه | H29: =HYPERLINK("#'تفاصيل الشركات'!A439","عرض التفاصيل ←") -> عرض التفاصيل ←
A30: المنامة للصرافة | B30: Al Manama | C30: =COUNTIF('فروع وعناوين الشركات'!$G$2:$G$1113,G30) -> 8 | D30: A | E30: 7702706050 | F30: info@manex.com.iq | G30: =TRIM(SUBSTITUTE(SUBSTITUTE(SUBSTITUTE(SUBSTITUTE(SUBSTITUTE(A30,"أ","ا"),"إ","ا"),"آ","ا"),"ة","ه"),"ى","ي")) -> المنامه للصرافه | H30: =HYPERLINK("#'تفاصيل الشركات'!A447","عرض التفاصيل ←") -> عرض التفاصيل ←
A31: النخيل للصرافة | B31: Al Nakheel | C31: =COUNTIF('فروع وعناوين الشركات'!$G$2:$G$1113,G31) -> 8 | D31: A | E31: 07843600071 / 07727932200 | F31: info@alnakeel.com.iq | G31: =TRIM(SUBSTITUTE(SUBSTITUTE(SUBSTITUTE(SUBSTITUTE(SUBSTITUTE(A31,"أ","ا"),"إ","ا"),"آ","ا"),"ة","ه"),"ى","ي")) -> النخيل للصرافه | H31: =HYPERLINK("#'تفاصيل الشركات'!A460","عرض التفاصيل ←") -> عرض التفاصيل ←
A32: المعن للصرافة | B32: Al Man | C32: =COUNTIF('فروع وعناوين الشركات'!$G$2:$G$1113,G32) -> 7 | D32: A | E32: 7844200150 | F32: almuradcompany2020@gmail.com | G32: =TRIM(SUBSTITUTE(SUBSTITUTE(SUBSTITUTE(SUBSTITUTE(SUBSTITUTE(A32,"أ","ا"),"إ","ا"),"آ","ا"),"ة","ه"),"ى","ي")) -> المعن للصرافه | H32: =HYPERLINK("#'تفاصيل الشركات'!A473","عرض التفاصيل ←") -> عرض التفاصيل ←
A33: الناصر للصرافة | B33: Al Nasir | C33: =COUNTIF('فروع وعناوين الشركات'!$G$2:$G$1113,G33) -> 7 | D33: A | E33: 07737165428 / 07709873324 / 07710593032 / 07722291664 | F33: exgangenasser@gmail.com | G33: =TRIM(SUBSTITUTE(SUBSTITUTE(SUBSTITUTE(SUBSTITUTE(SUBSTITUTE(A33,"أ","ا"),"إ","ا"),"آ","ا"),"ة","ه"),"ى","ي")) -> الناصر للصرافه | H33: =HYPERLINK("#'تفاصيل الشركات'!A485","عرض التفاصيل ←") -> عرض التفاصيل ←
A34: القطاف للصرافة | B34: Al Qitaf | C34: =COUNTIF('فروع وعناوين الشركات'!$G$2:$G$1113,G34) -> 7 | D34: A | E34: 7718186060 | F34: alquttafcompany@gmail.com | G34: =TRIM(SUBSTITUTE(SUBSTITUTE(SUBSTITUTE(SUBSTITUTE(SUBSTITUTE(A34,"أ","ا"),"إ","ا"),"آ","ا"),"ة","ه"),"ى","ي")) -> القطاف للصرافه | H34: =HYPERLINK("#'تفاصيل الشركات'!A497","عرض التفاصيل ←") -> عرض التفاصيل ←
A35: الانامل للصرافة | B35: Al Anamil | C35: =COUNTIF('فروع وعناوين الشركات'!$G$2:$G$1113,G35) -> 7 | D35: A | E35: 7701045332 | F35: alananamlvip@gmail.com | G35: =TRIM(SUBSTITUTE(SUBSTITUTE(SUBSTITUTE(SUBSTITUTE(SUBSTITUTE(A35,"أ","ا"),"إ","ا"),"آ","ا"),"ة","ه"),"ى","ي")) -> الانامل للصرافه | H35: =HYPERLINK("#'تفاصيل الشركات'!A509","عرض التفاصيل ←") -> عرض التفاصيل ←
A36: العابد للصرافة | B36: Al Abed | C36: =COUNTIF('فروع وعناوين الشركات'!$G$2:$G$1113,G36) -> 6 | D36: A | E36: 07700680038 / 07711111618 | F36: hussain@alabedexchange.iq | G36: =TRIM(SUBSTITUTE(SUBSTITUTE(SUBSTITUTE(SUBSTITUTE(SUBSTITUTE(A36,"أ","ا"),"إ","ا"),"آ","ا"),"ة","ه"),"ى","ي")) -> العابد للصرافه | H36: =HYPERLINK("#'تفاصيل الشركات'!A521","عرض التفاصيل ←") -> عرض التفاصيل ←
A37: الحرير للصرافة | B37: Al Harir | C37: =COUNTIF('فروع وعناوين الشركات'!$G$2:$G$1113,G37) -> 6 | D37: A | E37: 07810844341 / 07703948280 / 07709900835 | F37: alharir.exchange.co@gmail.com | G37: =TRIM(SUBSTITUTE(SUBSTITUTE(SUBSTITUTE(SUBSTITUTE(SUBSTITUTE(A37,"أ","ا"),"إ","ا"),"آ","ا"),"ة","ه"),"ى","ي")) -> الحرير للصرافه | H37: =HYPERLINK("#'تفاصيل الشركات'!A532","عرض التفاصيل ←") -> عرض التفاصيل ←
A38: الدلة الدولية للصرافة | B38: Al Dalla Al Dawliya | C38: =COUNTIF('فروع وعناوين الشركات'!$G$2:$G$1113,G38) -> 5 | D38: A | E38: 7739600081 | F38: info@aldaallah-intexch.com | G38: =TRIM(SUBSTITUTE(SUBSTITUTE(SUBSTITUTE(SUBSTITUTE(SUBSTITUTE(A38,"أ","ا"),"إ","ا"),"آ","ا"),"ة","ه"),"ى","ي")) -> الدله الدوليه للصرافه | H38: =HYPERLINK("#'تفاصيل الشركات'!A543","عرض التفاصيل ←") -> عرض التفاصيل ←
A39: العالم للصرافة | B39: Al Aalam | C39: =COUNTIF('فروع وعناوين الشركات'!$G$2:$G$1113,G39) -> 5 | D39: A | E39: 07838880184 / 07837709031 / 07704447255 | F39: info@alaalam.iq | G39: =TRIM(SUBSTITUTE(SUBSTITUTE(SUBSTITUTE(SUBSTITUTE(SUBSTITUTE(A39,"أ","ا"),"إ","ا"),"آ","ا"),"ة","ه"),"ى","ي")) -> العالم للصرافه | H39: =HYPERLINK("#'تفاصيل الشركات'!A553","عرض التفاصيل ←") -> عرض التفاصيل ←
A40: الحدود للصرافة | B40: Al Hudood | C40: =COUNTIF('فروع وعناوين الشركات'!$G$2:$G$1113,G40) -> 4 | D40: A | E40: 7725254180 | F40: mslmaljasm006@gmail.com | G40: =TRIM(SUBSTITUTE(SUBSTITUTE(SUBSTITUTE(SUBSTITUTE(SUBSTITUTE(A40,"أ","ا"),"إ","ا"),"آ","ا"),"ة","ه"),"ى","ي")) -> الحدود للصرافه | H40: =HYPERLINK("#'تفاصيل الشركات'!A563","عرض التفاصيل ←") -> عرض التفاصيل ←
...

Sheet فروع وعناوين الشركات
A1: اسم الشركة | B1: الفئة | C1: حالة الفرع | D1: اسم الفرع | E1: المحافظة | F1: عنوان الفرع | G1: مفتاح_مطابقة
A2: الامارات للصرافة | B2: A | C2: مفتوح | D2: ابو غريب | E2: بغداد | F2: بغداد - ابو غريب - الشارع العام - مجاور جامع الرحمن | G2: =TRIM(SUBSTITUTE(SUBSTITUTE(SUBSTITUTE(SUBSTITUTE(SUBSTITUTE(A2,"أ","ا"),"إ","ا"),"آ","ا"),"ة","ه"),"ى","ي")) -> الامارات للصرافه
A3: الامارات للصرافة | B3: A | C3: مفتوح | D3: النجف | E3: النجف | F3: النجف الاشرف - شارع غدير الفرات - مجاور شركة نبراس | G3: =TRIM(SUBSTITUTE(SUBSTITUTE(SUBSTITUTE(SUBSTITUTE(SUBSTITUTE(A3,"أ","ا"),"إ","ا"),"آ","ا"),"ة","ه"),"ى","ي")) -> الامارات للصرافه
A4: الامارات للصرافة | B4: A | C4: مفتوح | D4: فرع الكرادة | E4: بغداد | F4: بغداد - الكرادة - الزوية - محلة 911 - شارع 24 - مبنى 28 - قرب نفق الجسر المعلق | G4: =TRIM(SUBSTITUTE(SUBSTITUTE(SUBSTITUTE(SUBSTITUTE(SUBSTITUTE(A4,"أ","ا"),"إ","ا"),"آ","ا"),"ة","ه"),"ى","ي")) -> الامارات للصرافه
A5: الامارات للصرافة | B5: A | C5: مفتوح | D5: المقر الرئيسي | E5: بغداد | F5: بغداد - كمب سارة - معسكر الرشيد - مجمع السامرائي | G5: =TRIM(SUBSTITUTE(SUBSTITUTE(SUBSTITUTE(SUBSTITUTE(SUBSTITUTE(A5,"أ","ا"),"إ","ا"),"آ","ا"),"ة","ه"),"ى","ي")) -> الامارات للصرافه
A6: ابابيل للصرافة | B6: B | C6: مفتوح | E6: بغداد | F6: بغداد - الرصافة - كرادة داخل/ محلة - البو جمعة-5/199 - رقم الابواب 48أ5 /6/5 (شارع الاورزدي القديم - قرب مدرسة الكميت) | G6: =TRIM(SUBSTITUTE(SUBSTITUTE(SUBSTITUTE(SUBSTITUTE(SUBSTITUTE(A6,"أ","ا"),"إ","ا"),"آ","ا"),"ة","ه"),"ى","ي")) -> ابابيل للصرافه
A7: ابابيل للصرافة | B7: B | C7: مفتوح | E7: بغداد | F7: بغداد - الرصافة - تسلسل عقار 1/5/9/46 المحلة/901 - شارع /12 - رقم الابواب 7/2 - مقاطعة البتاوين /مقابل ساحة كهرمانة - مجاور شركة شوفرليت | G7: =TRIM(SUBSTITUTE(SUBSTITUTE(SUBSTITUTE(SUBSTITUTE(SUBSTITUTE(A7,"أ","ا"),"إ","ا"),"آ","ا"),"ة","ه"),"ى","ي")) -> ابابيل للصرافه
A8: ابابيل للصرافة | B8: B | C8: مفتوح | E8: بغداد | F8: بغداد - السنك - شارع الجمهورية - رقم القطعة235 - محلة 104 - شارع رقم 1 - عمارة 1 | G8: =TRIM(SUBSTITUTE(SUBSTITUTE(SUBSTITUTE(SUBSTITUTE(SUBSTITUTE(A8,"أ","ا"),"إ","ا"),"آ","ا"),"ة","ه"),"ى","ي")) -> ابابيل للصرافه
A9: ابن الفرات | B9: C | C9: مفتوح | D9: المقر الرئيسي | E9: نينوى | F9: نينوى / الموصل / حي الجزائر / مقابل قريش للحوم / رقم القطعة 16/86 / اسم المحلة نينوى الشمالية | G9: =TRIM(SUBSTITUTE(SUBSTITUTE(SUBSTITUTE(SUBSTITUTE(SUBSTITUTE(A9,"أ","ا"),"إ","ا"),"آ","ا"),"ة","ه"),"ى","ي")) -> ابن الفرات
A10: اثمار الجنة للصرافة | B10: A | C10: مفتوح | D10: المقر الرئيسي | E10: بغداد | F10: بغداد الرصافة / تسلسل العقار ورقم القطعة / 372/ اسم المحلة او المقاطعة/ م3 وزيرية /رقم المحل أ- أ2-أ3-ب2/ شارع فلسطين/ ساحة بيروت | G10: =TRIM(SUBSTITUTE(SUBSTITUTE(SUBSTITUTE(SUBSTITUTE(SUBSTITUTE(A10,"أ","ا"),"إ","ا"),"آ","ا"),"ة","ه"),"ى","ي")) -> اثمار الجنه للصرافه
A11: اثمار الجنة للصرافة | B11: A | C11: مفتوح | D11: بغداد / المنصور | E11: بغداد | F11: بغداد / المنصور / شارع 14رمضان رقم القطعة 3/964 مقاطعة 20 داوي | G11: =TRIM(SUBSTITUTE(SUBSTITUTE(SUBSTITUTE(SUBSTITUTE(SUBSTITUTE(A11,"أ","ا"),"إ","ا"),"آ","ا"),"ة","ه"),"ى","ي")) -> اثمار الجنه للصرافه
A12: ارزو | B12: C | C12: مفتوح | D12: المقر الرئيسي | E12: بغداد | F12: بغداد - شارع النضال - قرب مستشفى ابن رشد - م/103 - مبنى 41 - رقم الابواب ح/13 | G12: =TRIM(SUBSTITUTE(SUBSTITUTE(SUBSTITUTE(SUBSTITUTE(SUBSTITUTE(A12,"أ","ا"),"إ","ا"),"آ","ا"),"ة","ه"),"ى","ي")) -> ارزو
A13: ارض السامر | B13: C | C13: مفتوح | D13: المقر الرئيسي | E13: نينوى | F13: الموصل المجموعة الثقافية /مقابل محطة تعبئة الثقافة | G13: =TRIM(SUBSTITUTE(SUBSTITUTE(SUBSTITUTE(SUBSTITUTE(SUBSTITUTE(A13,"أ","ا"),"إ","ا"),"آ","ا"),"ة","ه"),"ى","ي")) -> ارض السامر
A14: ارض السنان | B14: C | C14: مفتوح | D14: المقر الرئيسي | E14: بغداد | F14: بغداد / المنصور / شارع 14رمضان / تسلسل العقار / رقم القطعة 8/2930/ 20 داودي / رقم المحلة 601 / زقاق26 / عمارة الفهد / رقم المحل 3/ مجاور سيد الحليب . | G14: =TRIM(SUBSTITUTE(SUBSTITUTE(SUBSTITUTE(SUBSTITUTE(SUBSTITUTE(A14,"أ","ا"),"إ","ا"),"آ","ا"),"ة","ه"),"ى","ي")) -> ارض السنان
A15: ارض الفرات للصرافة | B15: A | C15: مفتوح | D15: المقر الرئيسي | E15: بغداد | F15: بغداد الكفاح مجاور سوق البورصة | G15: =TRIM(SUBSTITUTE(SUBSTITUTE(SUBSTITUTE(SUBSTITUTE(SUBSTITUTE(A15,"أ","ا"),"إ","ا"),"آ","ا"),"ة","ه"),"ى","ي")) -> ارض الفرات للصرافه
A16: اريحا للصرافة | B16: A | C16: مفتوح | E16: بغداد | F16: بغداد/الرصافة/شارع السعدون/م102/شارع 9/تسلسل العقار/رقم القطعة 1/230 اسم المحلة او مقاطعة بتاوين-مجاور شركة البوابة الوطنية | G16: =TRIM(SUBSTITUTE(SUBSTITUTE(SUBSTITUTE(SUBSTITUTE(SUBSTITUTE(A16,"أ","ا"),"إ","ا"),"آ","ا"),"ة","ه"),"ى","ي")) -> اريحا للصرافه
A17: اطلس العالمية للصرافة | B17: A | C17: مفتوح | D17: المقر الرئيسي | E17: بغداد | F17: محافظة بغداد/ الرصافة/ العرصات/ حي بابل/ م929/ ز7 / رقم البناية 21/ شارع 30 / تسلسل العقار 44/377 بتاوين / شارع العرصات | G17: =TRIM(SUBSTITUTE(SUBSTITUTE(SUBSTITUTE(SUBSTITUTE(SUBSTITUTE(A17,"أ","ا"),"إ","ا"),"آ","ا"),"ة","ه"),"ى","ي")) -> اطلس العالميه للصرافه
A18: اطلس العالمية للصرافة | B18: A | C18: مفتوح | D18: فرع الدورة | E18: بغداد | F18: بغداد/ الدورة/ شارع ابو طيارة/ قرب مدرسة بلادي | G18: =TRIM(SUBSTITUTE(SUBSTITUTE(SUBSTITUTE(SUBSTITUTE(SUBSTITUTE(A18,"أ","ا"),"إ","ا"),"آ","ا"),"ة","ه"),"ى","ي")) -> اطلس العالميه للصرافه
A19: اطلس العالمية للصرافة | B19: A | C19: مفتوح | D19: فرع صليخ | E19: بغداد | F19: بغداد / الرصافة/ الصليخ/ تقاطع صليخ/ مقابل العيادة الشعبية | G19: =TRIM(SUBSTITUTE(SUBSTITUTE(SUBSTITUTE(SUBSTITUTE(SUBSTITUTE(A19,"أ","ا"),"إ","ا"),"آ","ا"),"ة","ه"),"ى","ي")) -> اطلس العالميه للصرافه
A20: اطلس العالمية للصرافة | B20: A | C20: مفتوح | D20: فرع القادسية | E20: بغداد | F20: بغداد/ الكرخ/ القادسية/ قرب ساحة قحطان | G20: =TRIM(SUBSTITUTE(SUBSTITUTE(SUBSTITUTE(SUBSTITUTE(SUBSTITUTE(A20,"أ","ا"),"إ","ا"),"آ","ا"),"ة","ه"),"ى","ي")) -> اطلس العالميه للصرافه
A21: اطلس العالمية للصرافة | B21: A | C21: مفتوح | D21: فرع الجادرية | E21: بغداد | F21: بغداد/ الجادرية/ ساحة الحرية/ قرب محطة وقود الحرية/ مجاور مطعم الجندول | G21: =TRIM(SUBSTITUTE(SUBSTITUTE(SUBSTITUTE(SUBSTITUTE(SUBSTITUTE(A21,"أ","ا"),"إ","ا"),"آ","ا"),"ة","ه"),"ى","ي")) -> اطلس العالميه للصرافه
A22: اطلس العالمية للصرافة | B22: A | C22: مفتوح | D22: فرع كركوك | E22: كركوك | F22: كركوك / شارع الشورجة/ قرب مرطبات الريان | G22: =TRIM(SUBSTITUTE(SUBSTITUTE(SUBSTITUTE(SUBSTITUTE(SUBSTITUTE(A22,"أ","ا"),"إ","ا"),"آ","ا"),"ة","ه"),"ى","ي")) -> اطلس العالميه للصرافه
A23: افاق الفارس | B23: C | C23: مفتوح | D23: المقر الرئيسي | E23: البصرة | F23: البصرة /شارع الجزائر/حي الفرنسي/محلة308/زقاق 5/ رقم العقار 146/34 قرب مصرف الخليج التجاري مقابل مطعم جيكور | G23: =TRIM(SUBSTITUTE(SUBSTITUTE(SUBSTITUTE(SUBSTITUTE(SUBSTITUTE(A23,"أ","ا"),"إ","ا"),"آ","ا"),"ة","ه"),"ى","ي")) -> افاق الفارس
A24: افاق المستقبل | B24: C | C24: مفتوح | D24: المقر الرئيسي | E24: نينوى | F24: نينوى / الموصل / جامعة الموصل / قرب جامع احمد اسماعيل | G24: =TRIM(SUBSTITUTE(SUBSTITUTE(SUBSTITUTE(SUBSTITUTE(SUBSTITUTE(A24,"أ","ا"),"إ","ا"),"آ","ا"),"ة","ه"),"ى","ي")) -> افاق المستقبل
A25: افاق المعلم | B25: C | C25: مفتوح | D25: المقر الرئيسي | E25: الانبار | F25: الانبار / القائم / قرب جامع القائم الكبير- الشارع العام -العقار 1987 | G25: =TRIM(SUBSTITUTE(SUBSTITUTE(SUBSTITUTE(SUBSTITUTE(SUBSTITUTE(A25,"أ","ا"),"إ","ا"),"آ","ا"),"ة","ه"),"ى","ي")) -> افاق المعلم
A26: الابداع | B26: C | C26: مفتوح | D26: المقر الرئيسي | E26: البصرة | F26: محافظة البصرة /الزبير/ شارع ربيعة مجمع ماشاءالله التجاري | G26: =TRIM(SUBSTITUTE(SUBSTITUTE(SUBSTITUTE(SUBSTITUTE(SUBSTITUTE(A26,"أ","ا"),"إ","ا"),"آ","ا"),"ة","ه"),"ى","ي")) -> الابداع
A27: الابهة | B27: C | C27: مفتوح | D27: المقر الرئيسي | E27: البصرة | F27: البصرة/العشار/سوق الصياغ | G27: =TRIM(SUBSTITUTE(SUBSTITUTE(SUBSTITUTE(SUBSTITUTE(SUBSTITUTE(A27,"أ","ا"),"إ","ا"),"آ","ا"),"ة","ه"),"ى","ي")) -> الابهه
A28: الاتحاد | B28: C | C28: مفتوح | D28: المقر الرئيسي | E28: البصرة | F28: البصرة الجزائر سوق الخيمة | G28: =TRIM(SUBSTITUTE(SUBSTITUTE(SUBSTITUTE(SUBSTITUTE(SUBSTITUTE(A28,"أ","ا"),"إ","ا"),"آ","ا"),"ة","ه"),"ى","ي")) -> الاتحاد
... A56: الاسوار للصرافة | B56: A | C56: مفتوح | D56: المقر الرئيسي | E56: بغداد | F56: المقر الرئيسي/ بغداد - الرصافة - الكرادة - العرصات - رقم القطعة (332/336) اسم المقاطعة/البو جمعة / رقم الأبواب 603أ /1 / مجاور مزاج سنتر | G56: =TRIM(SUBSTITUTE(SUBSTITUTE(SUBSTITUTE(SUBSTITUTE(SUBSTITUTE(A56,"أ","ا"),"إ","ا"),"آ","ا"),"ة","ه"),"ى","ي")) -> الاسوار للصرافه
A57: الاسوار للصرافة | B57: A | C57: مفتوح | E57: واسط | F57: فرع الكوت العزيزية / محافظة واسط - قضاء العزيزية - تسلسل العقار رقم القطعة 32 - اسم المحلة او المقاطعة السراي - رقم الابواب 1 - قرب محكمة بداءة العزيزية | G57: =TRIM(SUBSTITUTE(SUBSTITUTE(SUBSTITUTE(SUBSTITUTE(SUBSTITUTE(A57,"أ","ا"),"إ","ا"),"آ","ا"),"ة","ه"),"ى","ي")) -> الاسوار للصرافه
A58: الاسوار للصرافة | B58: A | C58: مفتوح | E58: كربلاء | F58: كربلاء حي الحسين شارع حيدر الكرار مجاور مول العفاف | G58: =TRIM(SUBSTITUTE(SUBSTITUTE(SUBSTITUTE(SUBSTITUTE(SUBSTITUTE(A58,"أ","ا"),"إ","ا"),"آ","ا"),"ة","ه"),"ى","ي")) -> الاسوار للصرافه
A59: الاشقر | B59: C | C59: مفتوح | D59: المقر الرئيسي | E59: بغداد | F59: بغداد - زيونة - شارع الربيعي - شارع 15- م 714 - رقم البناية 102- رقم المحل 102 /2 . | G59: =TRIM(SUBSTITUTE(SUBSTITUTE(SUBSTITUTE(SUBSTITUTE(SUBSTITUTE(A59,"أ","ا"),"إ","ا"),"آ","ا"),"ة","ه"),"ى","ي")) -> الاشقر
A60: الاعتزاز | B60: C | C60: مفتوح | D60: المقر الرئيسي | E60: بغداد | F60: بغداد/كرادة-كمب سارة، شارع /شارع 65-الشارع الرئيسي لمنطقة كمب سارة ،م/910 العمارة /مبنى 47-رقم الابواب 52ا/1/30 كمب الارمن، اقرب مصرف الثقة الدولي الاسلامي اقرب نقطة دالة مدرسة القيروان الابتدائية | G60: =TRIM(SUBSTITUTE(SUBSTITUTE(SUBSTITUTE(SUBSTITUTE(SUBSTITUTE(A60,"أ","ا"),"إ","ا"),"آ","ا"),"ة","ه"),"ى","ي")) -> الاعتزاز
A61: الاقصر للصرافة | B61: A | C61: مفتوح | D61: المقر الرئيسي | E61: بغداد | F61: بغداد /كرادة خارج م/929 مقابل أسواق الوردة وشركة نيسان للسيارات | G61: =TRIM(SUBSTITUTE(SUBSTITUTE(SUBSTITUTE(SUBSTITUTE(SUBSTITUTE(A61,"أ","ا"),"إ","ا"),"آ","ا"),"ة","ه"),"ى","ي")) -> الاقصر للصرافه
A62: الاقصى | B62: C | C62: مفتوح | D62: المقر الرئيسي | E62: كركوك | F62: كركوك / شارع الجمهورية / منطقة شاطر لو / الماس | G62: =TRIM(SUBSTITUTE(SUBSTITUTE(SUBSTITUTE(SUBSTITUTE(SUBSTITUTE(A62,"أ","ا"),"إ","ا"),"آ","ا"),"ة","ه"),"ى","ي")) -> الاقصي
A63: الاقمار للصرافة | B63: B | C63: مفتوح | D63: الكوت | E63: واسط | F63: واسط /الكوت/تسلسل العقار 167/372 السراي شارع الإطارات | G63: =TRIM(SUBSTITUTE(SUBSTITUTE(SUBSTITUTE(SUBSTITUTE(SUBSTITUTE(A63,"أ","ا"),"إ","ا"),"آ","ا"),"ة","ه"),"ى","ي")) -> الاقمار للصرافه
A64: الاقمار للصرافة | B64: B | C64: مفتوح | D64: الكوت | E64: واسط | F64: واسط /الكوت/ساحة العامل/مقابل مول دبي | G64: =TRIM(SUBSTITUTE(SUBSTITUTE(SUBSTITUTE(SUBSTITUTE(SUBSTITUTE(A64,"أ","ا"),"إ","ا"),"آ","ا"),"ة","ه"),"ى","ي")) -> الاقمار للصرافه
A65: الاقمار للصرافة | B65: B | C65: مفتوح | D65: الكوت | E65: واسط | F65: واسط /الكوت /الحاوي | G65: =TRIM(SUBSTITUTE(SUBSTITUTE(SUBSTITUTE(SUBSTITUTE(SUBSTITUTE(A65,"أ","ا"),"إ","ا"),"آ","ا"),"ة","ه"),"ى","ي")) -> الاقمار للصرافه
A66: الاقمار للصرافة | B66: B | C66: مفتوح | D66: الناصرية | E66: ذي قار | F66: ذي قار/الناصرية/صوب الشامية/شارع المحطة/ مقابل مكسي مول | G66: =TRIM(SUBSTITUTE(SUBSTITUTE(SUBSTITUTE(SUBSTITUTE(SUBSTITUTE(A66,"أ","ا"),"إ","ا"),"آ","ا"),"ة","ه"),"ى","ي")) -> الاقمار للصرافه
A67: الالباب | B67: C | C67: مفتوح | D67: المقر الرئيسي | E67: البصرة | F67: البصرة/قضاء الزبير/داخل مجمع ما شاء الله التجاري | G67: =TRIM(SUBSTITUTE(SUBSTITUTE(SUBSTITUTE(SUBSTITUTE(SUBSTITUTE(A67,"أ","ا"),"إ","ا"),"آ","ا"),"ة","ه"),"ى","ي")) -> الالباب
...

Sheet تفاصيل الشركات
A1: ='شركات الصرافة'!A2 -> الفنجان للصرافة | E1: =HYPERLINK("#'شركات الصرافة'!A2","⬆ رجوع لقائمة الشركات") -> ⬆ رجوع لقائمة الشركات
A2: ="الفئة: "&'شركات الصرافة'!D2&" | الهاتف: "&'شركات الصرافة'!E2&" | البريد: "&'شركات الصرافة'!F2 -> الفئة: A | الهاتف: 07809000072 / 07809000076 / 07722201777 | البريد: info@alfenjan-ex.com.iq
A3: اسم الفرع | B3: حالة الفرع | C3: المحافظة | D3: عنوان الفرع
A4: ='فروع وعناوين الشركات'!D605 -> المقر الرئيسي | B4: ='فروع وعناوين الشركات'!C605 -> مفتوح | C4: ='فروع وعناوين الشركات'!E605 -> بغداد | D4: ='فروع وعناوين الشركات'!F605 -> زيونة تسلسل العقار 11473/4 اسم المحلة م11 مزرعة حمدي
A5: ='فروع وعناوين الشركات'!D606 -> بغداد الجديدة | B5: ='فروع وعناوين الشركات'!C606 -> مفتوح | C5: ='فروع وعناوين الشركات'!E606 -> بغداد | D5: ='فروع وعناوين الشركات'!F606 -> بغداد الجديدة الشارع العام مجاور مصور جيكور
A6: ='فروع وعناوين الشركات'!D607 -> الشورجة | B6: ='فروع وعناوين الشركات'!C607 -> مفتوح | C6: ='فروع وعناوين الشركات'!E607 -> بغداد | D6: ='فروع وعناوين الشركات'!F607 -> بغداد الرصافة الشورجة تسلسل العقار 590 م باب الاغا رقم الابواب 111/12/ب/23
A7: ='فروع وعناوين الشركات'!D608 -> المنصور | B7: ='فروع وعناوين الشركات'!C608 -> مفتوح | C7: ='فروع وعناوين الشركات'!E608 -> بغداد | D7: ='فروع وعناوين الشركات'!F608 -> المنصور داخل مول المنصور الطابق الارضي
A8: ='فروع وعناوين الشركات'!D609 -> حي الجامعة | B8: ='فروع وعناوين الشركات'!C609 -> مفتوح | C8: ='فروع وعناوين الشركات'!E609 -> بغداد | D8: ='فروع وعناوين الشركات'!F609 -> حي الجامعة م327/ز24 بناية 59 عمارة الجنابي
A9: ='فروع وعناوين الشركات'!D610 -> الكاظمية | B9: ='فروع وعناوين الشركات'!C610 -> مفتوح | C9: ='فروع وعناوين الشركات'!E610 -> بغداد | D9: ='فروع وعناوين الشركات'!F610 -> بغداد الكاظمية
A10: ='فروع وعناوين الشركات'!D611 -> كركوك | B10: ='فروع وعناوين الشركات'!C611 -> مفتوح | C10: ='فروع وعناوين الشركات'!E611 -> كركوك | D10: ='فروع وعناوين الشركات'!F611 -> كركوك شارع الجمهورية عمارة رقم القطعة 10/285 المقاطعة 39 تسعين
A11: ='فروع وعناوين الشركات'!D612 -> العزيزية | B11: ='فروع وعناوين الشركات'!C612 -> مفتوح | C11: ='فروع وعناوين الشركات'!E612 -> واسط | D11: ='فروع وعناوين الشركات'!F612 -> واسط قضاء العزيزية شارع الخليج تسلسل العقار 18/3161/4 عتبه العزيزية
A12: ='فروع وعناوين الشركات'!D613 -> تكريت | B12: ='فروع وعناوين الشركات'!C613 -> مفتوح | C12: ='فروع وعناوين الشركات'!E613 -> صلاح الدين | D12: ='فروع وعناوين الشركات'!F613 -> صلاح الدين تكريت رقم القطعة 702/2 مقاطعة 7 مطاردة
A13: ='فروع وعناوين الشركات'!D614 -> ميسان | B13: ='فروع وعناوين الشركات'!C614 -> مفتوح | C13: ='فروع وعناوين الشركات'!E614 -> ميسان | D13: ='فروع وعناوين الشركات'!F614 -> ميسان العمارة السوق الكبير سوق المسقف قرب مطعم الكاظمين
A14: ='فروع وعناوين الشركات'!D615 -> البصرة - العشار | B14: ='فروع وعناوين الشركات'!C615 -> مفتوح | C14: ='فروع وعناوين الشركات'!E615 -> البصرة | D14: ='فروع وعناوين الشركات'!F615 -> البصرة شارع الاستقلال تسلسل العقار 6/99 اسم المحلة الكزارة / قرب مصرف الخليج التجاري
A15: ='فروع وعناوين الشركات'!D616 -> البصرة - الجزائر | B15: ='فروع وعناوين الشركات'!C616 -> مفتوح | C15: ='فروع وعناوين الشركات'!E616 -> البصرة | D15: ='فروع وعناوين الشركات'!F616 -> البصرة حي الجزائر تسلسل العقار 38/49 قرب بناية وزارة التخطيط
... A29: ='فروع وعناوين الشركات'!D630 -> الموصل | B29: ='فروع وعناوين الشركات'!C630 -> مفتوح | C29: ='فروع وعناوين الشركات'!E630 -> نينوى | D29: ='فروع وعناوين الشركات'!F630 -> نينوى الموصل المجموعة الثقافية
A30: =HYPERLINK("#'شركات الصرافة'!A2","⬆ رجوع لقائمة الشركات") -> ⬆ رجوع لقائمة الشركات
A32: ='شركات الصرافة'!A3 -> الطيف للصرافة | E32: =HYPERLINK("#'شركات الصرافة'!A3","⬆ رجوع لقائمة الشركات") -> ⬆ رجوع لقائمة الشركات
A33: ="الفئة: "&'شركات الصرافة'!D3&" | الهاتف: "&'شركات الصرافة'!E3&" | البريد: "&'شركات الصرافة'!F3 -> الفئة: A | الهاتف: 07729169635 / 07840500110 / 07840500115 | البريد: taifexchange@taifex.iq
A34: اسم الفرع | B34: حالة الفرع | C34: المحافظة | D34: عنوان الفرع
A35: ='فروع وعناوين الشركات'!D524 -> المقر الرئيسي | B35: ='فروع وعناوين الشركات'!C524 -> مفتوح | C35: ='فروع وعناوين الشركات'!E524 -> بغداد | D35: ='فروع وعناوين الشركات'!F524 -> بغداد / الكرادة داخل / قرب ساحة كهرمانة / محلة 901/ز3/رقم البناية 4
A36: ='فروع وعناوين الشركات'!D525 -> فرع كربلاء | B36: ='فروع وعناوين الشركات'!C525 -> مفتوح | C36: ='فروع وعناوين الشركات'!E525 -> كربلاء | D36: ='فروع وعناوين الشركات'!F525 -> كربلاء / حي الحسين / الشارع المشجر / رقم العقار 1/1046
A37: ='فروع وعناوين الشركات'!D526 -> فرع العامرية | B37: ='فروع وعناوين الشركات'!C526 -> مفتوح | C37: ='فروع وعناوين الشركات'!E526 -> بغداد | D37: ='فروع وعناوين الشركات'!F526 -> بغداد / العامرية / شارع العمل الشعبي / المضيف
A38: ='فروع وعناوين الشركات'!D527 -> النجف الاشرف | B38: ='فروع وعناوين الشركات'!C527 -> مفتوح | C38: ='فروع وعناوين الشركات'!E527 -> النجف | D38: ='فروع وعناوين الشركات'!F527 -> النجف الاشرف / حي السعد/ شار ع الإسكان/ داخل مجمع الشراع الترفيهي
A39: ='فروع وعناوين الشركات'!D528 -> زيونة | B39: ='فروع وعناوين الشركات'!C528 -> مفتوح | C39: ='فروع وعناوين الشركات'!E528 -> بغداد | D39: ='فروع وعناوين الشركات'!F528 -> بغداد / زيونة / شارع الربيعي / بناية الأمير مول
A40: ='فروع وعناوين الشركات'!D529 -> الكاظمية | B40: ='فروع وعناوين الشركات'!C529 -> مفتوح | C40: ='فروع وعناوين الشركات'!E529 -> بغداد | D40: ='فروع وعناوين الشركات'!F529 -> بغداد / شارع باب المراد/ بناية حسينية الصدر / تسلسل العقار 42/1108-م421ز24
A41: ='فروع وعناوين الشركات'!D530 -> الحلة | B41: ='فروع وعناوين الشركات'!C530 -> مفتوح | C41: ='فروع وعناوين الشركات'!E530 -> بابل | D41: ='فروع وعناوين الشركات'!F530 -> الحلة / شارع 40/تسلسل العقار 4/1271/م30 اسم المقاطعة القاضية
A42: ='فروع وعناوين الشركات'!D531 -> البصرة الطويسة | B42: ='فروع وعناوين الشركات'!C531 -> مفتوح | C42: ='فروع وعناوين الشركات'!E531 -> البصرة | D42: ='فروع وعناوين الشركات'!F531 -> البصرة / الطويسة / شارع اللجنة الأولمبية / مقاطعة كوت الحجاج
A43: ='فروع وعناوين الشركات'!D532 -> البياع | B43: ='فروع وعناوين الشركات'!C532 -> مفتوح | C43: ='فروع وعناوين الشركات'!E532 -> بغداد | D43: ='فروع وعناوين الشركات'!F532 -> البياع / شارع 20
A44: ='فروع وعناوين الشركات'!D533 -> الفلوجة | B44: ='فروع وعناوين الشركات'!C533 -> مفتوح | C44: ='فروع وعناوين الشركات'!E533 -> الانبار | D44: ='فروع وعناوين الشركات'!F533 -> مول الفلوجة / الطابق الأرضي
A45: ='فروع وعناوين الشركات'!D534 -> أربيل | B45: ='فروع وعناوين الشركات'!C534 -> مفتوح | C45: ='فروع وعناوين الشركات'!E534 -> اربيل | D45: ='فروع وعناوين الشركات'!F534 -> أربيل بختياري / شارع 20
A46: ='فروع وعناوين الشركات'!D535 -> الموصل | B46: ='فروع وعناوين الشركات'!C535 -> مفتوح | C46: ='فروع وعناوين الشركات'!E535 -> نينوى | D46: ='فروع وعناوين الشركات'!F535 -> الموصل / حي المصارف / بناية سمر قند
... A48: ='فروع وعناوين الشركات'!D537 -> الرمادي | B48: ='فروع وعناوين الشركات'!C537 -> مفتوح | C48: ='فروع وعناوين الشركات'!E537 -> الانبار | D48: ='فروع وعناوين الشركات'!F537 -> شارع المستودع / العزيزية / الحوز
A49: =HYPERLINK("#'شركات الصرافة'!A3","⬆ رجوع لقائمة الشركات") -> ⬆ رجوع لقائمة الشركات
A51: ='شركات الصرافة'!A4 -> الريان للصرافة | E51: =HYPERLINK("#'شركات الصرافة'!A4","⬆ رجوع لقائمة الشركات") -> ⬆ رجوع لقائمة الشركات
A52: ="الفئة: "&'شركات الصرافة'!D4&" | الهاتف: "&'شركات الصرافة'!E4&" | البريد: "&'شركات الصرافة'!F4 -> الفئة: A | الهاتف: 07817615293 / 07819454142 / 07716184768 | البريد: alreyyanexchange@yahoo.com
A53: اسم الفرع | B53: حالة الفرع | C53: المحافظة | D53: عنوان الفرع
A54: ='فروع وعناوين الشركات'!D346 -> المقر الرئيسي | B54: ='فروع وعناوين الشركات'!C346 -> مفتوح | C54: ='فروع وعناوين الشركات'!E346 -> النجف | D54: ='فروع وعناوين الشركات'!F346 -> النجف الاشرف - حي الفرات
A55: ='فروع وعناوين الشركات'!D347 -> بغداد الجديدة | B55: ='فروع وعناوين الشركات'!C347 -> مفتوح | C55: ='فروع وعناوين الشركات'!E347 -> بغداد | D55: ='فروع وعناوين الشركات'!F347 -> بغداد الدورة / تقطاع المصافي مول العراق
A56: ='فروع وعناوين الشركات'!D348 -> المنصور | B56: ='فروع وعناوين الشركات'!C348 -> مفتوح | C56: ='فروع وعناوين الشركات'!E348 -> بغداد | D56: ='فروع وعناوين الشركات'!F348 -> المنصور - مجاور مصرف الخليج التجاري
...
